{"text_format":"1","workbook":"xlsx","n_sheets":14,"sheets":["Sprache","Parameter","SankeyParameters","Sankey","Anleitung","Titelblatt","Formular A","Formular B","Energieflussdiagramm","Formular C","Beschreibung Massnahmen","Formular D","Vereinbarung","Bemerkungen"],"not_rendered":{"charts":2,"images":3,"macros":1,"external_links":1,"defined_names":57,"comments":0,"pivot_tables":0},"unopened":[],"bounds":{"document_bytes":16777216,"sheet_cells":100000,"rows_first":2000,"rows_last":500,"rows_between":2000,"halvings":0,"cell_chars":16384,"cell_head_chars":4096},"cells_cut":0,"cells_raw":0,"read":"whole","date_system":"1900"}

{"sheet":"Sprache","index":0,"n_rows":284,"n_cols":5,"rows_kept":284,"cut":false,"hidden":true,"merged":[]}
["KZV Tool BS","<= Nicht löschen, wird beim Import ins Monitoring als Kontrolle gebraucht"]
[]
["Zuweisung",null,"Übersetzung",null,"Aktive Sprache"]
["Arbeitsblatt","Zelle/Bereich","Deutsch","Französisch","DE"]
["Allgemein","Fusszeile Links","Kantonale Zielvereinbarung (KZV), Kanton Basel-Stadt","Convention d’objectifs cantonale (COC)",{"$f":"IF(Sprache=\"FR\",D5,C5)","v":"Kantonale Zielvereinbarung (KZV), Kanton Basel-Stadt"}]
["Allgemein","Blattname","Anleitung","Introduction ",{"$f":"IF(Sprache=\"FR\",D6,C6)","v":"Anleitung"}]
["Allgemein","Blattname","Titelblatt","Page de couverture","Titelblatt"]
["Allgemein","Blattname","Formular A","Formulaire A","Formular A"]
["Allgemein","Blattname","Formular B","Formulaire B ","Formular B"]
["Allgemein","Blattname","Formular C","Formulaire C","Formular C"]
["Allgemein","Blattname","Formular D","Formulaire D","Formular D"]
["Allgemein","Blattname","Beschreibung Massnahmen","Description des MA",{"$f":"IF(Sprache=\"FR\",D12,C12)","v":"Beschreibung Massnahmen"}]
["Allgemein","Blattname","Vereinbarung","Convention","Vereinbarung"]
["Allgemein","Blattname","Bemerkungen","Remarques","Bemerkungen"]
["Formular B","Eingabemeldung, Titel","Erklärung Elastizität","Explication de l’élasticité","Erklärung Elastizität"]
["Formular B","Eingabemeldung, Text","Eine Elastizität von 1 bedeutet eine direkte Proportionalität zwischen dem mutmasslichem Wachstum des Betriebs und dem Energieverbrauch, was eher selten zutrifft. Eine Elastizität < 1 bedeutet, dass sich der Energieverbrauch unterproportional verändert.","Une élasticité = 1 signifie que la consommation énergétique est directement proport. à la croissance prévisible de la production. Une élasticité < 1 signifie que la consommation énergétique est proport. inférieure à la croissance de la production.","Eine Elastizität von 1 bedeutet eine direkte Proportionalität zwischen dem mutmasslichem Wachstum des Betriebs und dem Energieverbrauch, was eher selten zutrifft. Eine Elastizität < 1 bedeutet, dass sich der Energieverbrauch unterproportional verändert."]
["Formular C","Eingabemeldung, Titel","Auswahl Energieträger","Agents énergétiques à choix","Auswahl Energieträger"]
["Formular C","Eingabemeldung, Text","Ö = Heizöl\nG = Erdgas\nF = Fernwärme\nH = Holz\nW = Weitere Brennstoffe\nE = Elektrizität","M = mazout\nG = gaz naturel\nD = chaleur à distance\nB = bois, biomasse\nA = autres combustibles\nE = énergie électrique ","Ö = Heizöl\nG = Erdgas\nF = Fernwärme\nH = Holz\nW = Weitere Brennstoffe\nE = Elektrizität"]
["Formular C","Dropdown","Ö","M","Ö"]
["Formular C","Dropdown","G","G","G"]
["Formular C","Dropdown","F","D","F"]
["Formular C","Dropdown","H","B","H"]
["Formular C","Dropdown","W","A","W"]
["Formular C","Dropdown","E","E","E"]
["Formular C","Linktext","Beschreibung","Description","Beschreibung"]
["Beschreibung Massnahmen","Linktext","zurück zu","Retour à","zurück zu"]
["Anleitung","Zelle","Kurzanleitung","Brève introduction ","Kurzanleitung"]
["Anleitung","Zelle","Kantonale Zielvereinbarung (KZV) für Grossverbraucher im Kanton Basel-Stadt","Convention d'objectifs cantonale (COC) pour gros consommateur dans le canton de Fribourg","Kantonale Zielvereinbarung (KZV) für Grossverbraucher im Kanton Basel-Stadt"]
["Anleitung","Zelle","Sprache","Langue ","Sprache"]
["Anleitung","Zelle","Bedienung","Indications d’emploi","Bedienung"]
["Anleitung","Zelle","Die Blätter dieser Arbeitsmappe sind geschützt, um zu verhindern, dass versehentlich Formeln überschrieben werden.","Les feuilles de ce classeur de travail sont protégées pour éviter que des formules ne soient écrasées par mégarde.","Die Blätter dieser Arbeitsmappe sind geschützt, um zu verhindern, dass versehentlich Formeln überschrieben werden."]
["Anleitung","Zelle","Füllen Sie die Arbeitsmappe in folgender Reihenfolge aus:","Remplissez ce classeur dans l'ordre suivant :","Füllen Sie die Arbeitsmappe in folgender Reihenfolge aus:"]
["Anleitung","Zelle","- Titelblatt","- Page de couverture","- Titelblatt"]
["Anleitung","Zelle","- Formular A","- Formulaire A","- Formular A"]
["Anleitung","Zelle","- Formular B","- Formulaire B ","- Formular B"]
["Anleitung","Zelle","- Formular C (dieses Formular muss dem Kanton nicht zwingend abgegeben werden)","- Formulaire C (remettre ce formulaire au canton n’est pas obligatoire.)","- Formular C (dieses Formular muss dem Kanton nicht zwingend abgegeben werden)"]
["Anleitung","Zelle","- Beschreibung Massnahmen","Description des mesures d’amélioration ",{"$f":"IF(Sprache=\"FR\",D37,C37)","v":"- Beschreibung Massnahmen"}]
["Anleitung","Zelle","- Bemerkungen","- Remarques","- Bemerkungen"]
["Anleitung","Zelle","Zwingende Eingaben (in Formular C lassen sich durch Eingabe eines Textes in der untersten Zeile pro Kategorie neue Zeilen einfügen)","Renseignements obligatoires (il est possible d’ajouter des lignes au formulaire C en saisissant du texte dans la dernière ligne de chaque catégorie)","Zwingende Eingaben (in Formular C lassen sich durch Eingabe eines Textes in der untersten Zeile pro Kategorie neue Zeilen einfügen)"]
["Anleitung","Zelle","Fakultative Eingaben","Renseignements facultatifs ","Fakultative Eingaben"]
["Anleitung","Zelle","Wichtige Hinweise","Remarques importantes ","Wichtige Hinweise"]
["Anleitung","Zelle","Zielgrösse der Zielvereinbarung","Valeur cible de la convention d'objectifs ","Zielgrösse der Zielvereinbarung"]
["Anleitung","Zelle","Ziel","But ","Ziel"]
["Anleitung","Zelle","Die Zielgrösse dieser Zielvereinbarung ist die Energieeffizienz. Sie ist auf Formular D dargestellt. Sie resultiert aus den markierten Massnahmen in Formular C. Bei der späteren Auswahl der Massnahmen, welche effektiv realisiert werden sollen, ist man jedoch frei. Es dürfen auch andere Massnahmen ausgeführt werden. Wichtig ist einzig das Einhalten des Effizienzzieles. Alle für die Zielvereinbarung relevanten Angaben finden sich auf dem Formular Vereinbarung. Dieses Formular ist zu unterschreiben.","La valeur cible de cette convention d’objectifs est l’efficacité énergétique. Elle figure dans le formulaire D. Elle résulte des mesures d’amélioration mises en évidence dans le formulaire C. Le choix ultérieur des mesures d’amélioration reste libre : il est notamment possible de faire figurer d’autres mesures d’amélioration. Seul le respect de l’objectif d’efficacité est important. Tous les renseignements utiles à la convention d’objectifs se trouvent dans le formulaire consacré à la convention. Ce formulaire doit être signé.","Die Zielgrösse dieser Zielvereinbarung ist die Energieeffizienz. Sie ist auf Formular D dargestellt. Sie resultiert aus den markierten Massnahmen in Formular C. Bei der späteren Auswahl der Massnahmen, welche effektiv realisiert werden sollen, ist man jedoch frei. Es dürfen auch andere Massnahmen ausgeführt werden. Wichtig ist einzig das Einhalten des Effizienzzieles. Alle für die Zielvereinbarung relevanten Angaben finden sich auf dem Formular Vereinbarung. Dieses Formular ist zu unterschreiben."]
["Anleitung","Zelle","Disclaimer","Exclusion de responsabilité","Disclaimer"]
["Anleitung","Zelle","Diese Arbeitsmappe wurde im Auftrag des Amts für Abfall, Wasser, Energie und Luft des Kantons Basel-Stadt erstellt. Weder der Auftraggeber noch der Ersteller haften für die Richtigkeit der Resultate oder Schlussfolgerungen, welche aus dieser Arbeitsmappe gezogen werden. Für die Richtigkeit der Angaben haftet der Benutzer dieser Arbeitsmappe.","Le présent classeur a été réalisé sur mandat du Service de l’énergie du canton de Fribourg. Ni le mandant ni le réalisateur ne répondent de la justesse des résultats ou des conclusions qui résultent de son utilisation. C’est son utilisateur qui répond de la justesse des indications fournies.","Diese Arbeitsmappe wurde im Auftrag des Amts für Abfall, Wasser, Energie und Luft des Kantons Basel-Stadt erstellt. Weder der Auftraggeber noch der Ersteller haften für die Richtigkeit der Resultate oder Schlussfolgerungen, welche aus dieser Arbeitsmappe gezogen werden. Für die Richtigkeit der Angaben haftet der Benutzer dieser Arbeitsmappe."]
["Titelblatt","Zelle","Firma / Organisation:","Entreprise / organisation:","Firma / Organisation:"]
["Titelblatt","Zelle","Hauptadresse:","Adresse principale:",{"$f":"IF(Sprache=\"FR\",D48,C48)","v":"Hauptadresse:"}]
["Titelblatt","Zelle","Adresse:","Adresse:","Adresse:"]
["Titelblatt","Zelle","Name:","Nom:","Name:"]
["Titelblatt","Zelle","Tel.:","Tél.:","Tel.:"]
["Titelblatt","Zelle","E-Mail:","Courriel:","E-Mail:"]
["Titelblatt","Zelle","Fax:","Fax:","Fax:"]
["Titelblatt","Zelle","Kontaktperson:","Contact:","Kontaktperson:"]
["Titelblatt","Zelle","Verbrauchsstätten","Site ","Verbrauchsstätten"]
["Titelblatt","Zelle","Technische Begleitung:","Appui technique:",{"$f":"IF(Sprache=\"FR\",D56,C56)","v":"Technische Begleitung:"}]
["Titelblatt","Zelle","Erstellungsdatum:","Date de réalisation:","Erstellungsdatum:"]
["Titelblatt","Zelle","Version:","Version:","Version:"]
["Formular A","Zelle","KZV, Formular A / Allgemeine Angaben zu den Standorten","COC, formulaire A / Renseignements généraux sur les sites d’exploitation ","KZV, Formular A / Allgemeine Angaben zu den Standorten"]
["Formular A","Zelle","A.1","A.1","A.1"]
["Formular A","Zelle","A.2","A.2","A.2"]
["Formular A","Zelle","A.3","A.3","A.3"]
["Formular A","Zelle","A.4","A.4","A.4"]
["Formular A","Zelle","A.5","A.5","A.5"]
["Formular A","Zelle","Branche:","Branche:","Branche:"]
["Formular A","Zelle","Geschäftstätigkeit:","Activité:","Geschäftstätigkeit:"]
["Formular A","Zelle","Anzahl Mitarbeiter/innen Total:","Total des collaborateurs:","Anzahl Mitarbeiter/innen Total:"]
["Formular A","Zelle","Anzahl Mitarbeiter/innen auf Vollzeitstellen umgerechnet:","Nombre de collaborateurs, équivalents plein temps:","Anzahl Mitarbeiter/innen auf Vollzeitstellen umgerechnet:"]
["Formular A","Zelle","Betriebsorganisation:","Organisation de l’exploitation:","Betriebsorganisation:"]
["Formular A","Zelle","Produktionszeit / Arbeitszeit:","Durée de la production ou du travail:","Produktionszeit / Arbeitszeit:"]
["Formular A","Zelle","Absatz, Umsatz oder Ausgaben pro Jahr:","Ventes, chiffre d’affaires ou dépenses, par an:","Absatz, Umsatz oder Ausgaben pro Jahr:"]
["Formular A","Zelle","Personen","personnes","Personen"]
["Formular A","Zelle","Stunden pro Tag","heures par jour ","Stunden pro Tag"]
["Formular A","Zelle","- schichtig","(1 = travail en 1 x 8, 2 = 2 x 8, 3 = 3 x 8)","- schichtig"]
["Formular A","Zelle","Tage pro Woche","jours par semainejours par semaine ","Tage pro Woche"]
["Formular A","Zelle","Beilagen:","Annexes :","Beilagen:"]
["Formular A","Zelle","Firmenbroschüre","Brochure sur l’entreprise","Firmenbroschüre"]
["Formular A","Zelle","Hilfsmittel zum Verbrauch Zieljahr","Consommation de l’année-cible: aide","Hilfsmittel zum Verbrauch Zieljahr"]
["Formular A","Zelle","Genaue  Bezeichnung:","Désignation précise :","Genaue  Bezeichnung:"]
["Formular B","Zelle","KZV, Formular B / Energieverbrauch unbeeinflusst","COC, formulaire B / consommation énergétique non influencée","KZV, Formular B / Energieverbrauch unbeeinflusst"]
["Formular B","Zelle","B.1  Angabe der Ausgangsdaten","B.1 Renseignements sur les données de départ ","B.1  Angabe der Ausgangsdaten"]
["Formular B","Zelle","Energiegewichtungsfaktoren","Facteurs de pondération de l’énergie ","Energiegewichtungsfaktoren"]
["Formular B","Zelle","Ö/G","M/G","Ö/G"]
["Formular B","Zelle","F","D","F"]
["Formular B","Zelle","H","B","H"]
["Formular B","Zelle","W","A","W"]
["Formular B","Zelle","E","E","E"]
["Formular B","Zelle","Faktor fossile Brennstoffe","Facteur pour les combustibles fossiles","Faktor fossile Brennstoffe"]
["Formular B","Zelle","Faktor für Fernwärme","Facteur pour la chaleur à distance ","Faktor für Fernwärme"]
["Formular B","Zelle","Faktor für Holz, Biomasse usw.","Facteur pour le bois, la biomasse, etc.","Faktor für Holz, Biomasse usw."]
["Formular B","Zelle","Faktor für weitere Brennstoffe","Facteur pour d’autres combustibles","Faktor für weitere Brennstoffe"]
["Formular B","Zelle","Faktor für elektrische Energie","Facteur pour l’énergie électrique ","Faktor für elektrische Energie"]
["Formular B","Zelle","Anteil Heizung","Part liée au chauffage ","Anteil Heizung"]
["Formular B","Zelle","Fossile Brennstoffe, Anteil für Heizung","Part du mazout liée au chauffage ","Fossile Brennstoffe, Anteil für Heizung"]
["Formular B","Zelle","Erdgas, Anteil für Heizung","Part du gaz naturel liée au chauffage ",{"$f":"IF(Sprache=\"FR\",D95,C95)","v":"Erdgas, Anteil für Heizung"}]
["Formular B","Zelle","Fernwärme, Anteil für Heizung","Part de la chal. à dist. liée au chauffage ","Fernwärme, Anteil für Heizung"]
["Formular B","Zelle","Holz, Biomasse usw., Anteil für Heizung","Part du bois, etc. liée au chauffage ","Holz, Biomasse usw., Anteil für Heizung"]
["Formular B","Zelle","Weitere Brennstoffe, Anteil für Heizung","Part d’autres comb. liée au chauffage ","Weitere Brennstoffe, Anteil für Heizung"]
["Formular B","Zelle","Elektrische Energie, Anteil für Heizung","Part de l’énergie él. liée au chauffage ","Elektrische Energie, Anteil für Heizung"]
["Formular B","Zelle","Basisjahr und Ausgangsjahr","Année de référence et année initiale",{"$f":"IF(Sprache=\"FR\",D100,C100)","v":"Basisjahr und Ausgangsjahr"}]
["Formular B","Zelle","Als Basisjahr soll das letzte vollendete Kalenderjahr gewählt werden. Es dient als Referenz, an dem die Massnahmenwirkung gemessen wird.\nDas Ausgangsjahr ist das Jahr 0 des Zielpfades. Grundsätzlich entspricht das Ausgangsjahr dem Basisjahr. Falls Massnahmen aus vergangenen Jahren rückwirkend in die Vereinbarung einbezogen werden, wird das Ausgangsjahr entsprechend zurückgesetzt.","Choisir comme année de référence la dernière année civile révolue. Elle constituera la référence à laquelle l’effet des mesures d’amélioration sera mesuré. L’année initiale est l’année zéro de la trajectoire de réduction. L’année initiale est en général aussi l’année de référence. Si des mesures d’amélioration mises en œuvre au cours des années précédentes sont intégrées dans la convention d’objectifs avec effet rétroactif, l’année initiale est également reculée en conséquence.","Als Basisjahr soll das letzte vollendete Kalenderjahr gewählt werden. Es dient als Referenz, an dem die Massnahmenwirkung gemessen wird.\nDas Ausgangsjahr ist das Jahr 0 des Zielpfades. Grundsätzlich entspricht das Ausgangsjahr dem Basisjahr. Falls Massnahmen aus vergangenen Jahren rückwirkend in die Vereinbarung einbezogen werden, wird das Ausgangsjahr entsprechend zurückgesetzt."]
["Formular B","Zelle","Heizgradtage Basel-Binningen","Degrés-jours du canton de Fribourg",{"$f":"IF(Sprache=\"FR\",D102,C102)","v":"Heizgradtage Basel-Binningen"}]
["Formular B","Zelle","Bitte verwenden Sie den Jahreswert Januar bis Dezember der Heizgradtage der meteorologischen Beobachtungsstation Basel-Binningen für das entsprechende Kalenderjahr. Die Zahlen können unter folgendem Link eingesehen werden:","Employez pour les degrés-jours la moyenne cantonale de l’année civile considérée. Vous trouvez les chiffres utiles à l’adresse suivante :","Bitte verwenden Sie den Jahreswert Januar bis Dezember der Heizgradtage der meteorologischen Beobachtungsstation Basel-Binningen für das entsprechende Kalenderjahr. Die Zahlen können unter folgendem Link eingesehen werden:"]
["Formular B","Link","http://www.klimabasel.ch/daten.htm","http://www.fr.ch/sde/fr/pub/degres_jours.htm",{"$f":"IF(Sprache=\"FR\",D104,C104)","v":"http://www.klimabasel.ch/daten.htm"}]
["Formular B","Link","Indikatoren","Indicateurs","Indikatoren"]
["Formular B","Link","Geeignete Produktionsindikatoren können beispielsweise Mengenangaben zu Rohstoffen, Zwischenprodukten und Endprodukten, die Betriebszeiten oder die Energiebezugsflächen umfassen. Die Produktionsindikatoren müssen mit dem Energieverbrauch des Unternehmens stark korrelieren und in ihrer Summe das Unternehmen bzgl. Energieverbrauch in seiner Gesamtheit möglichst vollständig abbilden.","Exemples d’indicateurs de production pertinents : volumes chiffrés relatifs aux matières premières, aux produits semi-finis ou aux produits finis, qui englobent les horaires d’exploitation ou les surfaces de référence énergétique. Les indicateurs de production doivent corréler fortement avec la consommation d'énergie, et leur somme doit donner une image aussi complète que possible de la consommation énergétique globale de l'entreprise.","Geeignete Produktionsindikatoren können beispielsweise Mengenangaben zu Rohstoffen, Zwischenprodukten und Endprodukten, die Betriebszeiten oder die Energiebezugsflächen umfassen. Die Produktionsindikatoren müssen mit dem Energieverbrauch des Unternehmens stark korrelieren und in ihrer Summe das Unternehmen bzgl. Energieverbrauch in seiner Gesamtheit möglichst vollständig abbilden."]
["Formular B","Zelle","Ausgangsjahr / Dauer Zielvereinbarung sowie betriebliches Wachstum","Année de réf. / durée de validité de la CO et croissance de la production ","Ausgangsjahr / Dauer Zielvereinbarung sowie betriebliches Wachstum"]
["Formular B","Zelle","Ausgangsjahr","Année initiale","Ausgangsjahr"]
["Formular B","Zelle","Basisjahr","Année de réf.","Basisjahr"]
["Formular B","Zelle","Heizgradtage im Ausgangsjahr","Degrés-jours de l’année de réf. (voir la note)","Heizgradtage im Ausgangsjahr"]
["Formular B","Zelle","Dauer der Zielvereinbarung","Durée de validité de la convention d’objectifs ","Dauer der Zielvereinbarung"]
["Formular B","Zelle","Mutmassliches jährl. Wachstum des Betr.","Production : croissance prévis. par an ","Mutmassliches jährl. Wachstum des Betr."]
["Formular B","Zelle","Elastizität bezogen auf das Wachstum","Élasticité","Elastizität bezogen auf das Wachstum"]
["Formular B","Zelle","Jahr","Année","Jahr"]
["Formular B","Zelle","B.2  Angabe der absoluten Energiebezüge","B.2 Renseignements sur les achats d’énergie absolus ","B.2  Angabe der absoluten Energiebezüge"]
["Formular B","Zelle","Energieverbrauch ","Cons. d’énergie ","Energieverbrauch "]
["Formular B","Zelle","ungew. / ohne HGT-Korr.","non pond. / non corr. DJ","ungew. / ohne HGT-Korr."]
["Formular B","Zelle","ungew. / mit HGT-Korr.","non pond. / corr. DJ ","ungew. / mit HGT-Korr."]
["Formular B","Zelle","gewichtet / mit HGT-Korr.","pond. / corr. DJ ",{"$f":"IF(Sprache=\"FR\",D119,C119)","v":"gewichtet / mit HGT-Korr."}]
["Formular B","Zelle","Zieljahr","Année-cible :","Zieljahr"]
["Formular B","Zelle","Thermische Energie:","Énergie thermique:",{"$f":"IF(Sprache=\"FR\",D121,C121)","v":"Thermische Energie:"}]
["Formular B","Zelle","Fossile Brennstoffe","Mazout","Fossile Brennstoffe"]
["Formular B","Zelle","Erdgas","Gaz naturel",{"$f":"IF(Sprache=\"FR\",D123,C123)","v":"Erdgas"}]
["Formular B","Zelle","Fernwärme","Chaleur à distance ","Fernwärme"]
["Formular B","Zelle","Holz, Biomasse usw.","Bois, biomasse","Holz, Biomasse usw."]
["Formular B","Zelle","Weitere Brennstoffe","Autres combustibles ","Weitere Brennstoffe"]
["Formular B","Zelle","Thermische Energie Total","Total énergie thermique ","Thermische Energie Total"]
["Formular B","Zelle","Elektrische Energie Total","Total énergie électrique ","Elektrische Energie Total"]
["Formular B","Zelle","Jahresenergiebezug","Achat annuel d’énergie ","Jahresenergiebezug"]
["Formular B","Zelle","B.3 Indikatoren","B.3 Indicateurs","B.3 Indikatoren"]
["Formular B","Zelle","Bezeichnung Indikatoren","Désignation des indic.","Bezeichnung Indikatoren"]
["Formular B","Zelle","Einheit","Unité","Einheit"]
["Formular B","Zelle","Indikator 1","Indicateur 1 ","Indikator 1"]
["Formular B","Zelle","Indikator 2","Indicateur 2 ","Indikator 2"]
["Formular B","Zelle","Indikator 3","Indicateur 3 ","Indikator 3"]
["Formular B","Zelle","Indikator 4","Indicateur 4 ","Indikator 4"]
["Formular B","Zelle","Indikator 5","Indicateur 5 ","Indikator 5"]
["Formular C","Zelle","KZV, Formular C / Neue Massnahmen und Wirtschaftlichkeit","COC, formulaire C / nouvelles mesures d’amélioration et rentabilité","KZV, Formular C / Neue Massnahmen und Wirtschaftlichkeit"]
["Formular C","Zelle","Jahresenergiebezug des Jahres Basisjahr+10 mit HGT-Korr., ungew.","Consommation annuelle d’énergie de l’année de référence + 10, normée DJ, non pond.","Jahresenergiebezug des Jahres Basisjahr+10 mit HGT-Korr., ungew."]
["Formular C","Zelle","Jahresenergiebezug des Jahres Basisjahr+10 mit HGT-Korr., gewichtet","Consommation annuelle d’énergie de l’année de référence + 10, normée DJ, pond.","Jahresenergiebezug des Jahres Basisjahr+10 mit HGT-Korr., gewichtet"]
["Formular C","Zelle","Gemäss Kanton Basel-Stadt gelten Massnahmen mit einer statischen Paybackdauer von bis zu 8 Jahren (Haustechnik oder Gebäudehülle) beziehungsweise bis zu 4 Jahren (Produktion oder Dienstleistungen) als wirtschaftlich.","Pour le canton de Fribourg, les mesures d’amélioration dont le retour sur investissement statique est de moins de 8 ans (pour la technique ou l’enveloppe du bâtiment) et de moins de 4 ans (pour la production ou les services) sont rentables.","Gemäss Kanton Basel-Stadt gelten Massnahmen mit einer statischen Paybackdauer von bis zu 8 Jahren (Haustechnik oder Gebäudehülle) beziehungsweise bis zu 4 Jahren (Produktion oder Dienstleistungen) als wirtschaftlich."]
["Formular C","Zelle","C.1 Liste von Massnahmen ab dem Ausgangsjahr, welche zur Zielbildung dienen (es müssen nicht genau diese Massnahmen realisiert werden)","C.1 Liste des MA depuis l’année initiale qui servent à constituer l’objectif (la réalisation de ces mesures précisément n’est pas obligatoire)","C.1 Liste von Massnahmen ab dem Ausgangsjahr, welche zur Zielbildung dienen (es müssen nicht genau diese Massnahmen realisiert werden)"]
["Formular C","Zelle","1) Die prozentualen Einsparungen werden relativ zum prognostizierten Energieverbrauch in 10 Jahren (ausgehend vom Ausgangsjahr) berechnet.","1) Les économies en pourcentage sont calculées en fonction de la consommation énergétique prévue dans dix ans (à compter de l’année de référence).",{"$f":"IF(Sprache=\"FR\",D143,C143)","v":"1) Die prozentualen Einsparungen werden relativ zum prognostizierten Energieverbrauch in 10 Jahren (ausgehend vom Ausgangsjahr) berechnet."}]
["Formular C","Zelle","2) als geplantes Jahr für die Umsetzung sind die nächsten 10 Jahre nach dem Ausgangsjahr zulässig.","2) L’année prévue pour la mise en œuvre peut se situer durant les dix années qui suivent l’année de référence. Si l’année initiale est fixée plus tôt dans le temps pour prendre en compte des mesures d’amélioration déjà mises en œuvre (liste C.2), il est possible que des mesures d’amélioration de la liste C.1 se trouvent de ce fait en dehors de la durée de validité de dix ans de la convention d’objectifs et qu’il ne soit donc plus possible de les prendre en compte.","2) als geplantes Jahr für die Umsetzung sind die nächsten 10 Jahre nach dem Ausgangsjahr zulässig."]
["Formular C","Zelle","3) Nur der Kostenanteil Energie (KE) der Investition wird für die Berechnung des Paybacks berücksichtigt.","3) Seule la part des coûts de l’investissement liée à l’énergie (%E) est prise en compte pour calculer le retour sur investissement.","3) Nur der Kostenanteil Energie (KE) der Investition wird für die Berechnung des Paybacks berücksichtigt."]
["Formular C","Zelle","4)  Wirtschaftliche Massnahmen werden automatisch in die ZV einbezogen und mit \"X\" markiert. Die Felder können aber überschrieben werden, sodass auch unwirtschaftliche Massnahmen einbezogen werden können oder wirtschaftliche Massnahmen nicht einbezogen werden können (für letzteres ist eine Begründung notwendig).","4) Les mesures d’amélioration rentables sont automatiquement intégrées dans la CO et elles sont signalées par une croix. Mais il est possible d’écraser les champs pour intégrer des mesures d’amélioration non rentables ou pour ne pas intégrer des mesures d’amélioration rentables (dans ce dernier cas, il faut en indiquer les raisons).","4)  Wirtschaftliche Massnahmen werden automatisch in die ZV einbezogen und mit \"X\" markiert. Die Felder können aber überschrieben werden, sodass auch unwirtschaftliche Massnahmen einbezogen werden können oder wirtschaftliche Massnahmen nicht einbezogen werden können (für letzteres ist eine Begründung notwendig)."]
["Formular C","Zelle","5) Die prozentualen Einsparungen werden relativ zum prognostizierten Verbrauch des Zieljahres berechnet.","5) Les économies en pourcentage sont calculées par rapport à la consommation prévue de l’année cible.","5) Die prozentualen Einsparungen werden relativ zum prognostizierten Verbrauch des Zieljahres berechnet."]
["Formular C","Zelle","6) Die Massnahmen dürfen höchstens 5 Jahre zurückliegen (wobei das Basisjahr das erste zurückliegende Jahr ist). Das Ausgangsjahr wird auf das Jahr vor dem weitest zurückliegenden Umsetzungsjahr gesetzt.","6) Les mesures d’amélioration peuvent remonter dans le temps jusqu’à 5 ans maximum. L’année de référence est alors l’année la plus récente des cinq et l’année initiale est alors l’année qui précède l’année la plus ancienne de mise en œuvre des mesures d’amélioration.",{"$f":"IF(Sprache=\"FR\",D148,C148)","v":"6) Die Massnahmen dürfen höchstens 5 Jahre zurückliegen (wobei das Basisjahr das erste zurückliegende Jahr ist). Das Ausgangsjahr wird auf das Jahr vor dem weitest zurückliegenden Umsetzungsjahr gesetzt."}]
["Formular C","Zelle","Nr.","N°","Nr."]
["Formular C","Zelle","Kurzbeschreibung","Brève description","Kurzbeschreibung"]
["Formular C","Zelle","Energieeinsparung (Endenergie)","Économie d’énergie (énergie finale) ","Energieeinsparung (Endenergie)"]
["Formular C","Zelle","Ungewichtet","Non pondéré","Ungewichtet"]
["Formular C","Zelle","Einsparung 1","Économie 1","Einsparung 1"]
["Formular C","Zelle","Einsparung 2","Économie 2","Einsparung 2"]
["Formular C","Zelle","Art","G.","Art"]
["Formular C","Zelle","Haustechnikanlagen / Gebäudehülle","Installations de technique du bât. / enveloppe","Haustechnikanlagen / Gebäudehülle"]
["Formular C","Zelle","Bedienung: Durch Eingabe eines Textes in der untersten Zeile pro Kategorie, wird jeweils eine neue Zeile eingefügt.","Indications d’emploi : l’introduction de texte dans la dernière ligne de chaque catégorie entraîne l’ajout d’une nouvelle ligne. ","Bedienung: Durch Eingabe eines Textes in der untersten Zeile pro Kategorie, wird jeweils eine neue Zeile eingefügt."]
["Formular C","Zelle","Total","Total","Total"]
["Formular C","Zelle","Gewichtet","Pondéré","Gewichtet"]
["Formular C","Zelle","geplante Umsetzung","Réalisation prévue","geplante Umsetzung"]
["Formular C","Zelle","Energiepreis","Prix de l’énergie ","Energiepreis"]
["Formular C","Zelle","(Endenergie)","(Énergie finale)","(Endenergie)"]
["Formular C","Zelle","Kosten-Einspar.","Écon. (coûts)","Kosten-Einspar."]
["Formular C","Zelle","Investitionen","Investiss.","Investitionen"]
["Formular C","Zelle","Pay-back","RSI","Pay-back"]
["Formular C","Zelle","In ZV","dans CO ","In ZV"]
["Formular C","Zelle","Anteil¹⁾","%¹⁾","Anteil¹⁾"]
["Formular C","Zelle","Jahr²⁾","année²⁾","Jahr²⁾"]
["Formular C","Zelle","Einspar.1","Écon. 1","Einspar.1"]
["Formular C","Zelle","Einspar.2","Écon. 2","Einspar.2"]
["Formular C","Zelle","KE³⁾","%E³⁾","KE³⁾"]
["Formular C","Zelle","aufn.⁴⁾","int.⁴⁾","aufn.⁴⁾"]
["Formular C","Zelle","Produktionsanlagen / Dienstleistungen","Installations de production / services ","Produktionsanlagen / Dienstleistungen"]
["Formular C","Zelle","Summe aller neuen möglichen Massnahmen ab Ausgangsjahr","Somme de toutes les nouvelles MA possibles à partir de l’année initiale ","Summe aller neuen möglichen Massnahmen ab Ausgangsjahr"]
["Formular C","Zelle","Summe aller in der ZV berücksichtigten und geplanten Massnahmen","Somme de toutes les MA prises en compte dans la CO et prévues","Summe aller in der ZV berücksichtigten und geplanten Massnahmen"]
["Formular C","Zelle","Kommentar zur Deklaration auszuführender Massnahmen (fakultativ):","Commentaire concernant l’annonce des mesures d’amélioration à mettre en œuvre (facultatif):","Kommentar zur Deklaration auszuführender Massnahmen (fakultativ):"]
["Formular C","Zelle","Begründung weshalb wirtschaftliche Massnahmen nicht umgesetzt werden können:","Expliquer pour quelles raisons les mesures d’amélioration rentables ne peuvent pas être mises en œuvre:",{"$f":"IF(Sprache=\"FR\",D177,C177)","v":"Begründung weshalb wirtschaftliche Massnahmen nicht umgesetzt werden können:"}]
["Formular C","Zelle","Kommentar zum Einsparziel (fakultativ da Richtgrösse von 20% Einsparung erreicht wurde):","Commentaire concernant l’économie visée (facultatif puisque le résultat de 20 % a été atteint):",{"$f":"IF(Sprache=\"FR\",D178,C178)","v":"Kommentar zum Einsparziel (fakultativ da Richtgrösse von 20% Einsparung erreicht wurde):"}]
["Formular C","Zelle","Begründung weshalb die Richtgrösse von 20% Einsparung nicht erreicht werden kann:","Expliquer pour quelles raisons le résultat de 20 % ne peut pas être atteint:","Begründung weshalb die Richtgrösse von 20% Einsparung nicht erreicht werden kann:"]
["Formular C","Zelle","C.2 Liste von Massnahmen, die inkl. Basisjahr bis zu 5 Jahre zurückliegen","C.2 Liste des mesures qui remontent dans le temps jusqu’à 5 ans, année de référence comprise","C.2 Liste von Massnahmen, die inkl. Basisjahr bis zu 5 Jahre zurückliegen"]
["Formular C","Zelle","Jahresenergiebezug des Jahres 2014 mit HGT-Korr., gewichtet","Achat annuel d’énergie en 2014 normé DJ, pondéré","Jahresenergiebezug des Jahres 2014 mit HGT-Korr., gewichtet"]
["Formular C","Zelle","Jahresenergiebezug des Zieljares mit HGT-Korr., gewichtet","Achat annuel d’énergie de l’année cible normé DJ, pondéré","Jahresenergiebezug des Zieljares mit HGT-Korr., gewichtet"]
["Formular C","Zelle","- Realisierte Massnahmen sind nur auszufüllen, falls mit den umzusetzenden neuen Massnahmen die Richtgrösse von 20% nicht erreicht wird.","- Indiquez les MA mises en œuvre seulement si les nouvelles MA à mettre en œuvre ne permettent pas d’atteindre le résultat indicatif de 20 %.","- Realisierte Massnahmen sind nur auszufüllen, falls mit den umzusetzenden neuen Massnahmen die Richtgrösse von 20% nicht erreicht wird."]
["Formular C","Zelle","- Eine zusätzliche Begründung ist anzugeben, falls auch zusammen mit den Massnahmen der letzten 5 Jahre die Richtgrösse von 20% nicht erreicht wird.",".- Si le résultat indicatif de 20 % n’est pas atteint même compte tenu des MA mises en œuvre les 5 dernières années, indiquez-en aussi la raison.","- Eine zusätzliche Begründung ist anzugeben, falls auch zusammen mit den Massnahmen der letzten 5 Jahre die Richtgrösse von 20% nicht erreicht wird."]
["Formular C","Zelle","Umsetzung","Mise en œuvre ","Umsetzung"]
["Formular C","Zelle","Payback","RSI","Payback"]
["Formular C","Zelle","Bedienung: Durch Eingabe eines Textes in der untersten Zeile pro Kategorie, wird jeweils eine neue Zeile eingefügt.","Indications d’emploi : l’introduction de texte dans la dernière ligne de chaque catégorie entraîne l’ajout d’une nouvelle ligne.",{"$f":"IF(Sprache=\"FR\",D187,C187)","v":"Bedienung: Durch Eingabe eines Textes in der untersten Zeile pro Kategorie, wird jeweils eine neue Zeile eingefügt."}]
["Formular C","Zelle","Eingabefelder gesperrt: Bitte zuerst Punkt C.1 komplett ausfüllen!","Champs de saisie bloqués: complétez le point C.1!","Eingabefelder gesperrt: Bitte zuerst Punkt C.1 komplett ausfüllen!"]
["Formular C","Zelle","Massnahmen der letzten 5 Jahre (fakultativ)","MA des 5 dernières années (facultatif)","Massnahmen der letzten 5 Jahre (fakultativ)"]
["Formular C","Zelle","Massnahmen der letzten 5 Jahre","Mesures d’amélioration des 5 dernières années","Massnahmen der letzten 5 Jahre"]
["Formular C","Zelle","Summe aller realisierten Massnahmen der letzen 5 Jahre","Somme de toutes les MA mises en œuvre les 5 dernières années",{"$f":"IF(Sprache=\"FR\",D191,C191)","v":"Summe aller realisierten Massnahmen der letzen 5 Jahre"}]
["Formular C","Zelle","Summe aller berücksichtigten, geplanten Massnahmen bis und mit Zieljahr","Somme de toutes les MA prises en compte et planifiées jusqu’à l’année cible","Summe aller berücksichtigten, geplanten Massnahmen bis und mit Zieljahr"]
["Formular C","Zelle","Summe aller realisierten und geplanten, neuen Massnahmen","Somme de toutes les nouvelles MA mises en œuvre et réalisées ","Summe aller realisierten und geplanten, neuen Massnahmen"]
["Formular C","Zelle","Eingabefeld gesperrt: Bitte zuerst Punkt C.1 komplett ausfüllen!","Champ de saisie bloqué: veuillez d’abord remplir complétement le point C.1!","Eingabefeld gesperrt: Bitte zuerst Punkt C.1 komplett ausfüllen!"]
["Formular C","Zelle","Kommentar zu den Massnahmen der letzten 5 Jahre (fakultativ da Richtgrösse von 20% erreicht):","Commentaire concernant les mesures d’amélioration des 5 dernières années (facultatif puisque le résultat de 20% a été atteint):","Kommentar zu den Massnahmen der letzten 5 Jahre (fakultativ da Richtgrösse von 20% erreicht):"]
["Formular C","Zelle","Begründung weshalb die Richtgrösse von 20% auch zusammen mit Massnahmen der letzten 5 Jahre nicht erreicht werden kann:","Expliquer pour quelles raisons le résultat de 20% ne peut pas être atteint même compte tenu des mesures d’amélioration des 5 dernières années:","Begründung weshalb die Richtgrösse von 20% auch zusammen mit Massnahmen der letzten 5 Jahre nicht erreicht werden kann:"]
["Beschreibung Massnahmen","Zelle","Beschreibung Massnahmen","Description des mesures d’amélioration ",{"$f":"IF(Sprache=\"FR\",D197,C197)","v":"Beschreibung Massnahmen"}]
["Beschreibung Massnahmen","Zelle","Hinweise:","Remarques:","Hinweise:"]
["Beschreibung Massnahmen","Zelle","- Die im Formular C aufgeführten Massnahmen müssen* in diesem Arbeitsblatt detailliert und nachvollziehbar beschrieben werden.","Les mesures d’amélioration qui figurent dans le formulaire C doivent* être décrites de manière détaillée et compréhensible dans cette feuille.","- Die im Formular C aufgeführten Massnahmen müssen* in diesem Arbeitsblatt detailliert und nachvollziehbar beschrieben werden."]
["Beschreibung Massnahmen","Zelle","- Die Beschreibungsfelder werden erst angezeigt, wenn die Massnahmennummer in Formular C eingetragen wurde.","- Les champs descriptifs s’affichent seulement si le numéro de la mesure d’amélioration a été inscrit dans le formulaire C.","- Die Beschreibungsfelder werden erst angezeigt, wenn die Massnahmennummer in Formular C eingetragen wurde."]
["Beschreibung Massnahmen","Zelle","- Wird für die Massnahmenbeschreibung mehr Platz benötigt, kann die Zeilenhöhe manuell angepasst werden.","- Si vous avez besoin de plus de place pour décrire les mesures d’amélioration, vous pouvez adapter la hauteur des lignes.","- Wird für die Massnahmenbeschreibung mehr Platz benötigt, kann die Zeilenhöhe manuell angepasst werden."]
["Beschreibung Massnahmen","Zelle","- Zeilenumbrüche können durch die Tastenkombination \"Alt\" + \"Enter\" eingefügt werden.","- Pour passer à la ligne, pressez simultanément sur les touches Alt & Enter.","- Zeilenumbrüche können durch die Tastenkombination \"Alt\" + \"Enter\" eingefügt werden."]
["Beschreibung Massnahmen","Zelle","* Alternativ können die Massnahmen auch in einer Beilage beschrieben werden. Auch dort müssen Einspar- und Kostenberechnungen nachvollziehbar aufzeigt werden.","* Autre solution, décrivez les mesures d’amélioration dans un document que vous annexez. Les calculs d’économies et de coûts doivent également être présentés clairement dans cette annexe.","* Alternativ können die Massnahmen auch in einer Beilage beschrieben werden. Auch dort müssen Einspar- und Kostenberechnungen nachvollziehbar aufzeigt werden."]
["Beschreibung Massnahmen","Zelle","Detaillierte Beschreibung der Massnahme:","Description détaillée de la MA:","Detaillierte Beschreibung der Massnahme:"]
["Beschreibung Massnahmen","Zelle","Beschreibung der Einsparberechung:","Description du calcul de l’économie:","Beschreibung der Einsparberechung:"]
["Beschreibung Massnahmen","Zelle","Beschreibung der Kostenberechnung:","Description du calcul des coûts:","Beschreibung der Kostenberechnung:"]
["Formular D","Zelle","KZV, Formular D / Ziele","COC, formulaire D / objectifs ",{"$f":"IF(Sprache=\"FR\",D207,C207)","v":"KZV, Formular D / Ziele"}]
["Formular D","Zelle","D.1  Zielsetzungen","D.1 Objectifs","D.1  Zielsetzungen"]
["Formular D","Zelle","ungewichtete Energieverbräuche, mit HGT-Korrektur","consommations d’énergie non pondérées, corrigées DJ",{"$f":"IF(Sprache=\"FR\",D209,C209)","v":"ungewichtete Energieverbräuche, mit HGT-Korrektur"}]
["Formular D","Zelle","Zieljahr unbeeinfl.","Année-cible non infl.","Zieljahr unbeeinfl."]
["Formular D","Zelle","neue Massnahmenwirkung","Nouvel effet des MA","neue Massnahmenwirkung"]
["Formular D","Zelle","Zieljahr, mit neuer Massnahmenwirkung","Année-cible avec nouvel effet des MA","Zieljahr, mit neuer Massnahmenwirkung"]
["Formular D","Zelle","Für die Berechnung des Zielpfades wird angenommen, dass der Energieverbrauch des Ausgangsjahres dem Verbrauch des Basisjahrs entspricht.","Il est admis, pour le calcul de la trajectoire de réduction, que la consommation énergétique de l’année initiale correspond à celle de l’année de référence.",{"$f":"IF(Sprache=\"FR\",D213,C213)","v":"Für die Berechnung des Zielpfades wird angenommen, dass der Energieverbrauch des Ausgangsjahres dem Verbrauch des Basisjahrs entspricht."}]
["Formular D","Zelle","D.2  Zielgrösse der Zielvereinbarung","D.2 Valeur cible de la convention d’objectifs",{"$f":"IF(Sprache=\"FR\",D214,C214)","v":"D.2  Zielgrösse der Zielvereinbarung"}]
["Formular D","Zelle","Zielvorgabe Energieeffizienz","Objectif fixé pour l’efficacité énergétique ","Zielvorgabe Energieeffizienz"]
["Formular D","Zelle","D.3  Prognose Energieeffizienz und Zielpfad","D.3 Efficacité énergétique et trajectoire de réduction prévues ",{"$f":"IF(Sprache=\"FR\",D216,C216)","v":"D.3  Prognose Energieeffizienz und Zielpfad"}]
["Formular D","Zelle","Prognose Massnahmen","MA prévues","Prognose Massnahmen"]
["Formular D","Zelle","lineare Progression","Progression linéaire","lineare Progression"]
["Formular D","Zelle","minimales Zwischenziel","But inter-médiaire min.","minimales Zwischenziel"]
["Formular D","Zelle","Energieeffizienz","Efficacité énerg.","Energieeffizienz"]
["Vereinbarung","Zelle","Kantonale Zielvereinbarung für Grossverbraucher von Energie\n(nach Variante 2: Freiburger Zielvereinbarung)","Convention d’objectifs cantonale pour gros consommateurs d’énergie\n(selon variante 2 : convention fribourgeoise COF)\n",{"$f":"IF(Sprache=\"FR\",D221,C221)","v":"Kantonale Zielvereinbarung für Grossverbraucher von Energie\n(nach Variante 2: Freiburger Zielvereinbarung)"}]
["Vereinbarung","Zelle","zwischen","entre","zwischen"]
["Vereinbarung","Zelle","und","et","und"]
["Vereinbarung","Zelle","dem Grossverbraucher / der Gruppe von Grossverbrauchern:","l’entreprise grosse consommatrice / le groupe de gros consommateurs :","dem Grossverbraucher / der Gruppe von Grossverbrauchern:"]
["Vereinbarung","Zelle","Unternehmensidentifikations-Nr. (UID): ","N° d’identification de l'entreprise (IDE) :","Unternehmensidentifikations-Nr. (UID): "]
["Vereinbarung","Zelle","(der Grossverbraucher)","(ci-après le gros consommateur)","(der Grossverbraucher)"]
["Vereinbarung","Zelle","dem Staat Freiburg, Volkswirtschaftsdirektion, Amt für Energie,","l’Etat de Fribourg, Direction de l’économie et de l’emploi, Service de l’énergie","dem Staat Freiburg, Volkswirtschaftsdirektion, Amt für Energie,"]
["Vereinbarung","Zelle","vertreten durch","représenté par",{"$f":"IF(Sprache=\"FR\",D228,C228)","v":"vertreten durch"}]
["Vereinbarung","Zelle","Serge Boschung, Dienstchef","Monsieur Serge Boschung, Chef de service","Serge Boschung, Dienstchef"]
["Vereinbarung","Zelle","(das Amt) ","(ci-après le Service)","(das Amt) "]
["Vereinbarung","Zelle",null,null,0]
["Vereinbarung","Zelle","Die Parteien schliessen gestützt auf Artikel 18a des Energiegesetzes vom 9. Juni 2000 und Artikel 21a bis 21d des Energiereglements vom 5. März 2001 (EnR) die folgende Zielvereinbarung ab.","La convention d’objectifs suivante, établie sur la base de l’art. 18a de la loi du 9 juin 2000 sur l’énergie (LEn) et des articles 21a à 21d du règlement du 5 mars 2001 sur l’énergie (REn), est conclue entre les parties","Die Parteien schliessen gestützt auf Artikel 18a des Energiegesetzes vom 9. Juni 2000 und Artikel 21a bis 21d des Energiereglements vom 5. März 2001 (EnR) die folgende Zielvereinbarung ab."]
["Vereinbarung","Zelle","1. Gegenstand der Vereinbarung","1. Objet de la convention","1. Gegenstand der Vereinbarung"]
["Vereinbarung","Zelle","Die vorliegende kantonale Zielvereinbarung beinhaltet die Umsetzung von Optimierungsmassnahmen am Standort des Grossverbrauchers beziehungsweise an den Standorten der Grossverbraucher einer Gruppe. Mit diesen Massnahmen soll die Energieeffizienz innerhalb von 10 Jahren von 100 % auf","La présente convention d’objectifs cantonale consiste à mettre en œuvre sur le site de l’entreprise grosse consommatrice/les sites du groupe de gros consommateurs, dans un délai de 10 ans, des mesures d'optimisation permettant d’atteindre une efficacité énergétique de",{"$f":"IF(Sprache=\"FR\",D234,C234)","v":"Die vorliegende kantonale Zielvereinbarung beinhaltet die Umsetzung von Optimierungsmassnahmen am Standort des Grossverbrauchers beziehungsweise an den Standorten der Grossverbraucher einer Gruppe. Mit diesen Massnahmen soll die Energieeffizienz innerhalb von 10 Jahren von 100 % auf"}]
["Vereinbarung","Zelle","erhöht werden. Darüber hinaus müssen die minimalen Zwischenziele erreicht werden.\nDie vorliegende Vereinbarung nimmt Bezug auf die Richtlinie zum Vollzug der Bestimmungen über die Grossverbraucher im Energiebereich vom März 2015.\nDiese Vereinbarung entspricht der in Artikel 21c Bst. b EnR definierten Variante.",", en partant d’une efficacité de 100%. Simultanément, il s’agit également de respecter des objectifs intermédiaires minimaux.\nLa présente convention se réfère à la directive concernant les modalités d’exécution des dispositions relatives aux gros consommateurs d’énergie, de mars 2015.\nCe type de convention correspond à la variante définie à l’article 21c lettre b REn.","erhöht werden. Darüber hinaus müssen die minimalen Zwischenziele erreicht werden.\nDie vorliegende Vereinbarung nimmt Bezug auf die Richtlinie zum Vollzug der Bestimmungen über die Grossverbraucher im Energiebereich vom März 2015.\nDiese Vereinbarung entspricht der in Artikel 21c Bst. b EnR definierten Variante."]
["Vereinbarung","Zelle","2. Inhalt der Vereinbarung","2. Contenu de la convention","2. Inhalt der Vereinbarung"]
["Vereinbarung","Zelle","a.   Die Formulare A bis D sowie die Beschreibung der Massnahmen im Anhang sind integrierender Bestandteil dieser Vereinbarung.\n","a.    Les formulaires A à D, ainsi que la description des mesures, en annexe, font partie intégrante de la présente convention.","a.   Die Formulare A bis D sowie die Beschreibung der Massnahmen im Anhang sind integrierender Bestandteil dieser Vereinbarung.\n"]
["Vereinbarung","Zelle","b.   Die bestehenden Anlagen und Gebäude der Verbrauchsstätten, die Gegenstand dieser Vereinbarung sind, werden gestützt auf Artikel 21d EnR von bestimmten Vorschriften des Energiegesetzes vom 9. Juni 2000 befreit.","b.    Les installations et bâtiments existants des sites de consommation faisant l’objet de la présente convention sont dispensés de certaines règles prescrites par la loi du 9 juin 2000 sur l’énergie (LEn), conformément à l’article 21d REn.","b.   Die bestehenden Anlagen und Gebäude der Verbrauchsstätten, die Gegenstand dieser Vereinbarung sind, werden gestützt auf Artikel 21d EnR von bestimmten Vorschriften des Energiegesetzes vom 9. Juni 2000 befreit."]
["Vereinbarung","Zelle","3. Pflichten des Grossverbrauchers bzw. der Gruppe von Grossverbrauchern","3. Obligations du gros consommateur/du groupe","3. Pflichten des Grossverbrauchers bzw. der Gruppe von Grossverbrauchern"]
["Vereinbarung","Zelle","a.   Die Optimierungsmassnahmen gemäss dem im Anhang festgelegten Plan umsetzen.","a.   Mettre en œuvre les mesures d’optimisation conformément au planning défini en annexe;","a.   Die Optimierungsmassnahmen gemäss dem im Anhang festgelegten Plan umsetzen."]
["Vereinbarung","Zelle","b.  Jedes Jahr im vorgegebenen Monitoringtool den Energieverbrauch vom vergangenen Jahr sowie die im vergangenen Jahr eingeführten, respektive noch wirksamen Optimierungsmassnahmen erfassen. Die Befreiungen von Vorschriften gemäss Artikel 2 Bst. b dieser Vereinbarung, von denen Gebrauch gemacht wird, und allfällige Kompensationsmassnahmen aufzählen. Den Jahresbericht aufstellen und ihn dem Amt spätestens zwei Monate nach dem Datum des Inkrafttretens dieser Vereinbarung (Tag/Monat) vorlegen.","b.  Chaque année, saisir dans l'outil de suivi imposé les consommations énergétiques de l’année précédente et les mesures d’optimisation introduites l’année précédente, ainsi que celles des années antérieures encore pérennes. Introduire également l’éventuelle mise en œuvre d’actions faisant l’objet de dispenses selon l’article 2, lettre b de la présente convention. Finaliser le rapport annuel et le transmettre au Service au plus tard deux mois après la date (jour/mois) de l’entrée en vigueur de la présente convention;","b.  Jedes Jahr im vorgegebenen Monitoringtool den Energieverbrauch vom vergangenen Jahr sowie die im vergangenen Jahr eingeführten, respektive noch wirksamen Optimierungsmassnahmen erfassen. Die Befreiungen von Vorschriften gemäss Artikel 2 Bst. b dieser Vereinbarung, von denen Gebrauch gemacht wird, und allfällige Kompensationsmassnahmen aufzählen. Den Jahresbericht aufstellen und ihn dem Amt spätestens zwei Monate nach dem Datum des Inkrafttretens dieser Vereinbarung (Tag/Monat) vorlegen."]
["Vereinbarung","Zelle","c.   Die jährlichen Zwischenziele zur Steigerung der Energieeffizienz gemäss Formular D im Anhang einhalten.","c.   Respecter les objectifs intermédiaires annuels d’évolution de l’efficacité énergétique définis au formulaire D de l’annexe.","c.   Die jährlichen Zwischenziele zur Steigerung der Energieeffizienz gemäss Formular D im Anhang einhalten."]
["Vereinbarung","Zelle","4. Pflichten des Amts","4. Obligations du Service","4. Pflichten des Amts"]
["Vereinbarung","Zelle","a.   Den Jahresbericht über das vergangene Jahr innerhalb von zwei Monaten nach Erhalt prüfen und dazu Stellung nehmen.\n- Falls die Ziele eingehalten wurden, validiert das Amt den Jahresbericht.\n- Falls die Ziele nicht eingehalten wurden, kommt Artikel 7 dieser Vereinbarung zur Anwendung.\n","a.   Examiner et prendre position sur le rapport annuel de l’année précédente dans les deux mois après réception.\n- Dans le cas où les objectifs sont respectés, le Service valide le rapport annuel.\n- Dans le cas où les objectifs ne sont pas respectés, l’article 7 de la présente convention s’applique.","a.   Den Jahresbericht über das vergangene Jahr innerhalb von zwei Monaten nach Erhalt prüfen und dazu Stellung nehmen.\n- Falls die Ziele eingehalten wurden, validiert das Amt den Jahresbericht.\n- Falls die Ziele nicht eingehalten wurden, kommt Artikel 7 dieser Vereinbarung zur Anwendung.\n"]
["Vereinbarung","Zelle","b.   Das Amt kann schriftlich zusätzliche Informationen verlangen oder vor Ort Kontrollen und Messungen durchführen. Falls Mängel aufgedeckt werden und eine Gegenexpertise aufgestellt werden muss, können deren Kosten dem Grossverbraucher in Rechnung gestellt werden.","b.   Le Service peut requérir des éléments supplémentaires par écrit ou en procédant à des contrôles et mesurages sur site. Si des défauts sont constatés et que des contre-expertises sont nécessaires, le coût de celles-ci pourra être facturé au gros consommateur.","b.   Das Amt kann schriftlich zusätzliche Informationen verlangen oder vor Ort Kontrollen und Messungen durchführen. Falls Mängel aufgedeckt werden und eine Gegenexpertise aufgestellt werden muss, können deren Kosten dem Grossverbraucher in Rechnung gestellt werden."]
["Vereinbarung","Zelle","5. Gruppe von Grossverbrauchern","5. Groupe de gros consommateurs","5. Gruppe von Grossverbrauchern"]
["Vereinbarung","Zelle","a.   Die Gruppe organisiert sich selber und legt insbesondere die Entschädigung des Moderators, seine Rechte und Verantwortlichkeiten sowie seine Pflichten fest, die über die unter Buchstabe d dieses Artikels aufgezählten Pflichten hinausgehen.\n","En cas de convention collective :\na.   Le groupe s’organise lui-même et définit en particulier le dédommagement du modérateur, ses droits et responsabilités, ainsi que ses devoirs dépassant ceux fixés à la lettre d du présent article;","a.   Die Gruppe organisiert sich selber und legt insbesondere die Entschädigung des Moderators, seine Rechte und Verantwortlichkeiten sowie seine Pflichten fest, die über die unter Buchstabe d dieses Artikels aufgezählten Pflichten hinausgehen.\n"]
["Vereinbarung","Zelle","b.   Sobald die Vereinbarung ausgearbeitet und unterzeichnet ist, können keine neuen Grossverbraucher in die Gruppe aufgenommen werden.","b.  Une fois la convention préparée et signée, de nouveaux gros consommateurs ne peuvent pas rejoindre le groupe ;","b.   Sobald die Vereinbarung ausgearbeitet und unterzeichnet ist, können keine neuen Grossverbraucher in die Gruppe aufgenommen werden."]
["Vereinbarung","Zelle","c.   Während der Laufzeit der Vereinbarung kann ein Grossverbraucher zurücktreten oder ausgeschlossen werden. Dies muss dem Amt gemeldet werden. Der Massnahmenplan der verbleibenden Gruppe muss angepasst werden. Das Effizienzziel gemäss Artikel 1 dieser Vereinbarung muss aber beibehalten werden.","c.   Pendant la durée de validité de la convention, un gros consommateur peut sortir du groupe ou s’en faire exclure. Ceci doit être annoncé au Service. Le plan d’actions du solde du groupe doit être adapté, mais l’objectif d’efficacité de l’article 1 de la présente convention doit être maintenu ;",{"$f":"IF(Sprache=\"FR\",D249,C249)","v":"c.   Während der Laufzeit der Vereinbarung kann ein Grossverbraucher zurücktreten oder ausgeschlossen werden. Dies muss dem Amt gemeldet werden. Der Massnahmenplan der verbleibenden Gruppe muss angepasst werden. Das Effizienzziel gemäss Artikel 1 dieser Vereinbarung muss aber beibehalten werden."}]
["Vereinbarung","Zelle","d.   Der Moderator übernimmt mindestens die folgenden Aufgaben:\n- Die Gruppe im Rahmen der vorliegenden Zielvereinbarung vertreten.\n- Die Gruppe leiten und koordinieren.\n- Das Monitoringtool für die Erfassung der Daten und deren Verwendung bereitstellen.\n- Die Gruppenmitglieder bei der Erfassung der Resultate im Monitoringsystem unterstützen.\n- Die Daten, die von den Gruppenmitgliedern geliefert werden, sammeln und aggregieren. Die Plausibilität der Daten prüfen und sie auch hinterfragen.\n- Die Gruppe bei der Überwachung des Fortschritts im Hinblick auf die Effizienzziele und bei der Planung von Massnahmen im Falle einer Abweichung vom Zielpfad unterstützen.\n- Dem Amt sowie allfälligen vom Amt beauftragten Auditoren die verlangten Daten und Informationen aushändigen.","d.   Le modérateur assure au minimum les fonctions suivantes :\n- Représentation du groupe dans le cadre de la présente convention d’objectifs ;\n- Conduite et coordination du groupe ;\n- Mise à disposition de l’outil de suivi imposé pour la saisie des données et leur utilisation ;\n- Assistance des membres du groupe pour l’introduction dans le système de monitoring des résultats obtenus ;\n- Collection et agrégation des données fournies par les membres du groupe. Le modérateur a le droit de vérifier la plausibilité des données et de les remettre en question ;\n- Assistance du groupe pour la surveillance des objectifs à atteindre et la planification des mesures à prendre en cas de divergence ;\n- Remise au Service des données et des informations demandées, ainsi qu’aux éventuels auditeurs mandatés par celui-ci.","d.   Der Moderator übernimmt mindestens die folgenden Aufgaben:\n- Die Gruppe im Rahmen der vorliegenden Zielvereinbarung vertreten.\n- Die Gruppe leiten und koordinieren.\n- Das Monitoringtool für die Erfassung der Daten und deren Verwendung bereitstellen.\n- Die Gruppenmitglieder bei der Erfassung der Resultate im Monitoringsystem unterstützen.\n- Die Daten, die von den Gruppenmitgliedern geliefert werden, sammeln und aggregieren. Die Plausibilität der Daten prüfen und sie auch hinterfragen.\n- Die Gruppe bei der Überwachung des Fortschritts im Hinblick auf die Effizienzziele und bei der Planung von Massnahmen im Falle einer Abweichung vom Zielpfad unterstützen.\n- Dem Amt sowie allfälligen vom Amt beauftragten Auditoren die verlangten Daten und Informationen aushändigen."]
["Vereinbarung","Zelle","6. Laufzeit der Vereinbarung","6. Durée de la convention","6. Laufzeit der Vereinbarung"]
["Vereinbarung","Zelle","a.   Die Vereinbarung tritt am Datum der letzten erforderlichen Unterzeichnung in Kraft. Sie dauert 10 Jahre unter Vorbehalt einer Kündigung gestützt auf Artikel 8 dieser Vereinbarung.","a.   La convention entre en vigueur à la date à laquelle est apposée la dernière des signatures requises. Elle a une durée de 10 ans, sous réserve d’une dénonciation au sens de l’article 8 de la présente convention.","a.   Die Vereinbarung tritt am Datum der letzten erforderlichen Unterzeichnung in Kraft. Sie dauert 10 Jahre unter Vorbehalt einer Kündigung gestützt auf Artikel 8 dieser Vereinbarung."]
["Vereinbarung","Zelle","7. Bestimmungen bei Missachtung der Verpflichtungen","7. Dispositions en cas de non-respect des engagements","7. Bestimmungen bei Missachtung der Verpflichtungen"]
["Vereinbarung","Zelle","Das Amt kann die Vereinbarung kündigen, wenn die Effizienzziele, insbesondere die Zwischenziele, nicht erreicht werden. Insbesondere darf die reale Energieeffizienz:\na.   nie unter den minimalen Zwischenzielen liegen;\n","Le Service peut dénoncer la convention si les objectifs d’efficacité énergétique, notamment intermédiaires, ne sont pas atteints : \na.   l’efficacité énergétique réelle ne doit jamais être inférieure aux objectifs intermédiaires minimaux ;","Das Amt kann die Vereinbarung kündigen, wenn die Effizienzziele, insbesondere die Zwischenziele, nicht erreicht werden. Insbesondere darf die reale Energieeffizienz:\na.   nie unter den minimalen Zwischenzielen liegen;\n"]
["Vereinbarung","Zelle","b.   nicht mehr als zwei Jahre in Folge unter den vereinbarten Zwischenzielen liegen.","b.   l’efficacité énergétique réelle ne doit pas être inférieure aux objectifs intermédiaires convenus pendant plus de deux années consécutives.","b.   nicht mehr als zwei Jahre in Folge unter den vereinbarten Zwischenzielen liegen."]
["Vereinbarung","Zelle","8. Kündigung","8. Dénonciation","8. Kündigung"]
["Vereinbarung","Zelle","a.   Das Amt kann die Vereinbarung mit eingeschriebenem Brief fristlos kündigen, wenn es feststellt, dass die Ziele gemäss Artikel 7 dieser Vereinbarung nicht erreicht wurden.","a.   Une dénonciation avec effet immédiat peut procéder du Service – par courrier recommandé - lorsqu’il constate que les objectifs ne sont pas atteints conformément à l’article 7 de la présente convention.","a.   Das Amt kann die Vereinbarung mit eingeschriebenem Brief fristlos kündigen, wenn es feststellt, dass die Ziele gemäss Artikel 7 dieser Vereinbarung nicht erreicht wurden."]
["Vereinbarung","Zelle","b.   Auch der Grossverbraucher bzw. die Gruppe kann die Vereinbarung mit eingeschriebenem Brief unter Beachtung einer sechsmonatigen Kündigungsfrist auf das Ende eines Kalenderjahres kündigen.","b.   Elle peut aussi procéder du gros consommateur/du groupe, pour la fin d’une année civile, avec un préavis de six mois, par courrier recommandé.","b.   Auch der Grossverbraucher bzw. die Gruppe kann die Vereinbarung mit eingeschriebenem Brief unter Beachtung einer sechsmonatigen Kündigungsfrist auf das Ende eines Kalenderjahres kündigen."]
["Vereinbarung","Zelle","c.   Unter Beachtung der gleichen Fristen und in der gleichen Form kann auch ein Grossverbraucher aus einer Gruppe austreten oder von ihr ausgeschlossen werden.","c.   En respectant les mêmes délais et forme, un gros consommateur peut quitter un groupe ou en être exclu.","c.   Unter Beachtung der gleichen Fristen und in der gleichen Form kann auch ein Grossverbraucher aus einer Gruppe austreten oder von ihr ausgeschlossen werden."]
["Vereinbarung","Zelle","d.   Ab dem Kündigungsdatum gilt für den Grossverbraucher die Variante 3 gemäss Artikel 21c EnR. Er muss die vorgeschriebenen Massnahmen innerhalb der vom Amt festgelegten Frist umsetzen.","d.   Dès la date de dénonciation, chaque gros consommateur est soumis à la variante 3 selon l’art. 21c REn et doit mettre en œuvre les mesures prescrites dans un délai fixé par le Service.","d.   Ab dem Kündigungsdatum gilt für den Grossverbraucher die Variante 3 gemäss Artikel 21c EnR. Er muss die vorgeschriebenen Massnahmen innerhalb der vom Amt festgelegten Frist umsetzen."]
["Vereinbarung","Zelle","9. Gerichtsstand und anwendbares Recht","9. For et droit applicable","9. Gerichtsstand und anwendbares Recht"]
["Vereinbarung","Zelle","a.   Gerichtsstand ist Freiburg.","a.   Le for est à Fribourg ;","a.   Gerichtsstand ist Freiburg."]
["Vereinbarung","Zelle","b.   Das Schweizer Recht ist anwendbar.","b.   Le droit suisse est applicable.","b.   Das Schweizer Recht ist anwendbar."]
["Vereinbarung","Zelle","Anhang zur Vereinbarung:","Annexe à la convention :","Anhang zur Vereinbarung:"]
["Vereinbarung","Zelle","- Formulare A bis D sowie die Beschreibung der Massnahmen.","- Formulaires A à D, ainsi que la description des mesures","- Formulare A bis D sowie die Beschreibung der Massnahmen."]
["Vereinbarung","Zelle","Ausgefertigt in doppelter Urschrift und unterzeichnet vom Staat, von jedem Grossverbraucher und im Falle einer Gruppe vom Moderator.","Fait en deux exemplaires originaux signés par le canton, chaque gros consommateur et, en cas de groupe, le modérateur.","Ausgefertigt in doppelter Urschrift und unterzeichnet vom Staat, von jedem Grossverbraucher und im Falle einer Gruppe vom Moderator."]
["Vereinbarung","Zelle","Ort / Datum / Unterschrift:","Lieu / Date / Signature :","Ort / Datum / Unterschrift:"]
["Vereinbarung","Zelle","Baudirektion"," CANTON DE FRIBOURG\n DEE - Service de l’énergie","Baudirektion"]
["Vereinbarung","Zelle","Firma / Organisation:","LE GROS CONSOMMATEUR","Firma / Organisation:"]
["Bemerkungen","Zelle","KZV, Bemerkungen","COC, remarques",{"$f":"IF(Sprache=\"FR\",D270,C270)","v":"KZV, Bemerkungen"}]
["Bemerkungen","Zelle","Bemerkungen zur Zielvereinbarung","Remarques concernant la convention d’objectifs ","Bemerkungen zur Zielvereinbarung"]
[]
["Allgemein","Version","Version","Version ",{"$f":"IF(Sprache=\"FR\",D273,C273)","v":"Version"}]
[]
["Allgemein","Logo"]
["Titelblatt","Zelle","Verbrauchsstätten",null,"Verbrauchsstätten"]
[]
[]
["Titelblatt","Zelle","Elektrozähler Nr.","…",{"$f":"IF(Sprache=\"FR\",D279,C279)","v":"Elektrozähler Nr."}]
["Titelblatt","Zelle","Tarif A","…","Tarif A"]
["Titelblatt","Zelle","Tarif B","…","Tarif B"]
["Titelblatt","Zelle","Tarif C","…","Tarif C"]
["Titelblatt","Zelle","Tarif WP","…","Tarif WP"]
["Titelblatt","Zelle","Tarif EEA","…","Tarif EEA"]

{"sheet":"Parameter","index":1,"n_rows":10,"n_cols":4,"rows_kept":10,"cut":false,"hidden":true,"merged":[]}
[]
[]
[null,"Wirtschaftlicher Payback Haustechnik",8,"Jahre"]
[null,"Wirtschaftlicher Payback Produktion",4,"Jahre"]
[]
[null,"Richtwert Effizienz in 10 Jahren",20,"%"]
[]
[null,"Referenzwert HGT",3348]
[]
[null,"Version","v2 / November 2021"]

{"sheet":"SankeyParameters","index":2,"n_rows":17,"n_cols":4,"rows_kept":17,"cut":false,"hidden":true,"merged":[]}
["Item","Value","Comments"]
["titles","<!DOCTYPE html>\n<meta charset=\"utf-8\">\n<title>Energieflussdiagramm KZV</title>","Probably dont need to touch"]
["defaultStyles","<style>\n \nhtml {\n  min-width: 1040px;\n}\n\nbody {\n  position: relative;\n  font-family: \"Helvetica Neue\", Helvetica, sans-serif;\n  margin: 1em auto 4em auto;\n  width: 960px;\n}\n\nh1 {\n  font-size: 64px;\n  font-weight: 300;\n  letter-spacing: -2px;\n  margin: .3em 0 .1em 0;\n}\n\nh2 {\n  margin-top: 2em;\n}\n\nh1, h2 {\n  text-rendering: optimizeLegibility;\n}\n\nh2 a {\n  color: #ccc;\n  left: -20px;\n  position: absolute;\n  width: 740px;\n}\n\nfooter {\n  font-size: small;\n  margin-top: 8em;\n}\n\nheader aside {\n  margin-top: 82px;\n}\n\nheader aside,\nfooter aside {\n  color: #636363;\n  text-align: right;\n}\n\naside {\n  font-size: small;\n  left: 780px;\n  position: absolute;\n  width: 180px;\n}\n\n.attribution {\n  font-size: small;\n  margin-bottom: 2em;\n}\n\nbody > p, li > p {\n  line-height: 1.5em;\n}\n\nbody > p {\n  width: 720px;\n}\n\nbody > blockquote {\n  width: 640px;\n}\n\nli {\n  width: 680px;\n}\n\na {\n  color: steelblue;\n}\n\na:not(:hover) {\n  text-decoration: none;\n}\n\npre, code, textarea {\n  font-family: \"Menlo\", monospace;\n}\n\ncode {\n  line-height: 1em;\n}\n\ntextarea {\n  font-size: 100%;\n}\n\nbody > pre {\n  border-left: solid 2px #ccc;\n  padding-left: 18px;\n  margin: 2em 0 2em -20px;\n}\n\n.html .value,\n.javascript .string,\n.javascript .regexp {\n  color: #756bb1;\n}\n\n.html .tag,\n.css .tag,\n.javascript .keyword {\n  color: #3182bd;\n}\n\n.comment {\n  color: #636363;\n}\n\n.html .doctype,\n.javascript .number {\n  color: #31a354;\n}\n\n.html .attribute,\n.css .attribute,\n.javascript .class,\n.javascript .special {\n  color: #e6550d;\n}\n\nsvg {\n  font: 12px sans-serif;\n}\n\n.axis path, .axis line {\n  fill: none;\n  stroke: #000;\n  shape-rendering: crispEdges;\n}\n\nsup, sub {\n  line-height: 0;\n}\n\nq:before,\nblockquote:before {\n  content: \"â€œ\";\n}\n\nq:after,\nblockquote:after {\n  content: \"â€\u009d\";\n}\n\nblockquote:before {\n  position: absolute;\n  left: 2em;\n}\n\nblockquote:after {\n  position: absolute;\n}\n\n</style>","Default Style - change general layout here"]
["sankeyStyles","<style>\n  #chart {\n\n }\n .node rect {\n  cursor: move;\n  fill-opacity: .9;\n  shape-rendering: crispEdges;\n }\n .node text {\n  pointer-events: none;\n  text-shadow: 0 1px 0 #fff;\n }\n .link {\n  fill: none;\n  stroke: #000;\n  stroke-opacity: .2;\n }\n .link:hover {\n  stroke-opacity: .5;\n }\n</style>","Sankey Style - change chart specific styles here"]
["header","<body>\n\n <h3>Energieflussdiagramm KZV\n</h3>  <div id=\"chart\"></div>","Change report header here"]
["sankeyCode"," <script src=\"http://d3js.org/d3.v3.min.js\"></script>\n\n  <script>\n  d3.sankey = function() {\n    var sankey = {},\n        nodeWidth = 24,\n        nodePadding = 8,\n        size = [1, 1],\n        nodes = [],\n        links = [];\n\n    sankey.nodeWidth = function(_) {\n      if (!arguments.length) return nodeWidth;\n      nodeWidth = +_;\n      return sankey;\n    };\n\n    sankey.nodePadding = function(_) {\n      if (!arguments.length) return nodePadding;\n      nodePadding = +_;\n      return sankey;\n    };\n  \n    sankey.nodes = function(_) {\n      if (!arguments.length) return nodes;\n      nodes = _;\n      return sankey;\n    };\n\n    sankey.links = function(_) {\n      if (!arguments.length) return links;\n      links = _;\n      return sankey;\n    };\n  \n    sankey.size = function(_) {\n      if (!arguments.length) return size;\n      size = _;\n      return sankey;\n    };\n  \n    sankey.layout = function(iterations) {\n      computeNodeLinks();\n      computeNodeValues();\n      computeNodeBreadths();\n      computeNodeDepths(iterations);\n      computeLinkDepths();\n      return sankey;\n    };\n  \n    sankey.relayout = function() {\n      computeLinkDepths();\n      return sankey;\n    };\n  \n    sankey.link = function() {\n      var curvature = .5;\n  \n      function link(d) {\n        var x0 = d.source.x + d.source.dx,\n            x1 = d.target.x,\n            xi = d3.interpolateNumber(x0, x1),\n            x2 = xi(curvature),\n            x3 = xi(1 - curvature),\n            y0 = d.source.y + d.sy + d.dy / 2,\n            y1 = d.target.y + d.ty + d.dy / 2;\n        return \"M\" + x0 + \",\" + y0\n             + \"C\" + x2 + \",\" + y0\n             + \" \" + x3 + \",\" + y1\n             + \" \" + x1 + \",\" + y1;\n      }\n  \n      link.curvature = function(_) {\n        if (!arguments.length) return curvature;\n        curvature = +_;\n        return link;\n      };\n  \n      return link;\n    };\n\n    // Populate the sourceLinks and targetLinks for each node.\n    // Also, if the source and target are not objects, assume they are indices.\n    function computeNodeLinks() {\n      nodes.forEach(function(node) {\n        node.sourceLinks = [];\n        node.targetLinks = [];\n      });\n      links.forEach(function(link) {\n        var source = link.source,\n            target = link.target;\n        if (typeof source === \"number\") source = link.source = nodes[link.source];\n        if (typeof target === \"number\") target = link.target = nodes[link.target];\n        source.sourceLinks.push(link);\n        target.targetLinks.push(link);\n      });\n    }\n  \n    // Compute the value (size) of each node by summing the associated links.\n    function computeNodeValues() {\n      nodes.forEach(function(node) {\n        node.value = Math.max(\n          d3.sum(node.sourceLinks, value),\n          d3.sum(node.targetLinks, value)\n        );\n      });\n    }\n\n    // Iteratively assign the breadth (x-position) for each node.\n    // Nodes are assigned the maximum breadth of incoming neighbors plus one;\n    // nodes with no incoming links are assigned breadth zero, while\n    // nodes with no outgoing links are assigned the maximum breadth.\n    function computeNodeBreadths() {\n      var remainingNodes = nodes,\n          nextNodes,\n          x = 0;\n  \n      while (remainingNodes.length) {\n        nextNodes = [];\n        remainingNodes.forEach(function(node) {\n          node.x = x;\n          node.dx = nodeWidth;\n          node.sourceLinks.forEach(function(link) {\n            nextNodes.push(link.target);\n          });\n        });\n        remainingNodes = nextNodes;\n        ++x;\n      }\n  \n      //\n      moveSinksRight(x);\n      scaleNodeBreadths((width - nodeWidth) / (x - 1));\n    }\n  \n    function moveSourcesRight() {\n      nodes.forEach(function(node) {\n        if (!node.targetLinks.length) {\n          node.x = d3.min(node.sourceLinks, function(d) { return d.target.x; }) - 1;\n        }\n      });\n    }\n  \n    function moveSinksRight(x) {\n      nodes.forEach(function(node) {\n        if (!node.sourceLinks.length) {\n          node.x = x - 1;\n        }\n      });\n    }\n  \n    function scaleNodeBreadths(kx) {\n      nodes.forEach(function(node) {\n        node.x *= kx;\n      });\n    }\n  \n    function computeNodeDepths(iterations) {\n      var nodesByBreadth = d3.nest()\n          .key(function(d) { return d.x; })\n          .sortKeys(d3.ascending)\n          .entries(nodes)\n          .map(function(d) { return d.values; });\n  \n      //\n      initializeNodeDepth();\n      resolveCollisions();\n      for (var alpha = 1; iterations > 0; --iterations) {\n        relaxRightToLeft(alpha *= .99);\n        resolveCollisions();\n        relaxLeftToRight(alpha);\n        resolveCollisions();\n      }\n  \n      function initializeNodeDepth() {\n        var ky = d3.min(nodesByBreadth, function(nodes) {\n          return (size[1] - (nodes.length - 1) * nodePadding) / d3.sum(nodes, value);\n        });\n  \n        nodesByBreadth.forEach(function(nodes) {\n          nodes.forEach(function(node, i) {\n            node.y = i;\n            node.dy = node.value * ky;\n          });\n        });\n  \n        links.forEach(function(link) {\n          link.dy = link.value * ky;\n        });\n      }\n  \n      function relaxLeftToRight(alpha) {\n        nodesByBreadth.forEach(function(nodes, breadth) {\n          nodes.forEach(function(node) {\n            if (node.targetLinks.length) {\n              var y = d3.sum(node.targetLinks, weightedSource) / d3.sum(node.targetLinks, value);\n              node.y += (y - center(node)) * alpha;\n            }\n          });\n        });\n  \n        function weightedSource(link) {\n          return center(link.source) * link.value;\n        }\n      }\n  \n      function relaxRightToLeft(alpha) {\n        nodesByBreadth.slice().reverse().forEach(function(nodes) {\n          nodes.forEach(function(node) {\n            if (node.sourceLinks.length) {\n              var y = d3.sum(node.sourceLinks, weightedTarget) / d3.sum(node.sourceLinks, value);\n              node.y += (y - center(node)) * alpha;\n            }\n          });\n        });\n  \n        function weightedTarget(link) {\n          return center(link.target) * link.value;\n        }\n      }\n  \n      function resolveCollisions() {\n        nodesByBreadth.forEach(function(nodes) {\n          var node,\n              dy,\n              y0 = 0,\n              n = nodes.length,\n              i;\n  \n          // Push any overlapping nodes down.\n          nodes.sort(ascendingDepth);\n          for (i = 0; i < n; ++i) {\n            node = nodes[i];\n            dy = y0 - node.y;\n            if (dy > 0) node.y += dy;\n            y0 = node.y + node.dy + nodePadding;\n          }\n  \n          // If the bottommost node goes outside the bounds, push it back up.\n          dy = y0 - nodePadding - size[1];\n          if (dy > 0) {\n            y0 = node.y -= dy;\n  \n            // Push any overlapping nodes back up.\n            for (i = n - 2; i >= 0; --i) {\n              node = nodes[i];\n              dy = node.y + node.dy + nodePadding - y0;\n              if (dy > 0) node.y -= dy;\n              y0 = node.y;\n            }\n          }\n        });\n      }\n  \n      function ascendingDepth(a, b) {\n        return a.y - b.y;\n      }\n    }\n  \n    function computeLinkDepths() {\n      nodes.forEach(function(node) {\n        node.sourceLinks.sort(ascendingTargetDepth);\n        node.targetLinks.sort(ascendingSourceDepth);\n      });\n      nodes.forEach(function(node) {\n        var sy = 0, ty = 0;\n        node.sourceLinks.forEach(function(link) {\n          link.sy = sy;\n          sy += link.dy;\n        });\n        node.targetLinks.forEach(function(link) {\n          link.ty = ty;\n          ty += link.dy;\n        });\n      });\n  \n      function ascendingSourceDepth(a, b) {\n        return a.source.y - b.source.y;\n      }\n  \n      function ascendingTargetDepth(a, b) {\n        return a.target.y - b.target.y;\n      }\n    }\n  \n    function center(node) {\n      return node.y + node.dy / 2;\n    }\n  \n    function value(link) {\n      return link.value;\n    }\n  \n    return sankey;\n  };\n</script>\n","Dont touch"]
["chartCode","<script>var margin = {\n    top : 1,\n    right : 1,\n    bottom : 6,\n    left : 1\n   }, \n   width = (mcpherSankeyData.options.width ?  mcpherSankeyData.options.width : 900) - margin.left - margin.right, \n   height = (mcpherSankeyData.options.height ?  mcpherSankeyData.options.height : 500) - margin.top - margin.bottom;\n   var formatNumber = d3.format(\",.0f\"), format = function(d) {\n    return formatNumber(d) ;\n   }, \n   color = d3.scale.category20();\n   \n   var svg = d3.select(\"#chart\")\n    .append(\"svg\")\n    .attr(\"width\", width + margin.left + margin.right)\n    .attr(\"height\", height + margin.top + margin.bottom)\n    .append(\"g\")\n    .attr(\"transform\", \"translate(\" + margin.left + \",\" + margin.top + \")\");\n    \n   var sankey = d3.sankey()\n    .nodeWidth(15)\n    .nodePadding(10)\n    .size([width, height]);\n    \n   var path = sankey.link();\n   \n   sankey.nodes(mcpherSankeyData.nodes)\n    .links(mcpherSankeyData.links)\n    .layout(32);\n    \n\n   var linkEnter = svg.append(\"g\")\n      .selectAll(\".link\")\n      .data(mcpherSankeyData.links)\n      .enter();\n\n    var link = linkEnter.append(\"path\")\n      .attr(\"class\", \"link\")\n      .attr(\"d\", path)\n      .style(\"stroke-width\", \n       function(d) {\n        return Math.max(1, d.dy);\n       })\n      .style(\"stroke\", \n       function(d) {\n        return d.color = d.color ? d.color : \"#000\";\n       })\n      .style(\"stroke-opacity\", \n       function(d) {\n        return d.opacity = d.opacity ? d.opacity : null;\n       })\n      .sort(function(a, b) {\n       return b.dy - a.dy;\n       })\n      .on('click', function(d) {\n          if (d.linkurl)window.open(d.linkurl);\n       });\n\n    \n   link.append(\"title\")\n     .text(function(d) {\n        return d.source.name + \" > \" + d.target.name + \"(\" + format(d.value) + \")\" + \n            (d.linkurl ? '\\nclick to go to ' + d.linkurl : '') ;\n      });\n      \n   var node = svg.append(\"g\")\n      .selectAll(\".node\")\n      .data(mcpherSankeyData.nodes)\n      .enter()\n      .append(\"g\")\n      .attr(\"class\", \"node\")\n      .attr(\"transform\", \n       function(d) {\n         return \"translate(\" + d.x + \",\" + d.y + \")\";\n        }\n       )\n      .call(d3.behavior.drag()\n      .origin(function(d) {\n         return d;\n        }\n       )\n      .on(\"dragstart\", function() {\n        this.parentNode.appendChild(this);\n        }\n       )\n      .on(\"drag\", dragmove));\n      \n      var nodeurl = node.append(\"a\")\n        .attr(\"xlink:href\", function(d) {return d.nodeurl ? d.nodeurl : null; });\n        \n      var rect = nodeurl.append(\"rect\")\n       .attr(\"height\", \n         function(d) {\n          return d.dy;\n         }\n        )\n       .attr(\"width\", sankey.nodeWidth())\n       .style(\"fill\", function(d) {\n          return d.color = d.color ? d.color : color(d.name.replace(/ .*/, \"\"));\n         }\n        )\n       .style(\"stroke\", function(d) {\n           return d3.rgb(d.color).darker(2);\n        });\n\n      rect.append(\"title\")\n       .text(function(d) {\n        return d.name +  \"(\" + format(d.value) + \")\" + \n            (d.nodeurl ? '\\nclick to go to ' + d.nodeurl : '') ;\n         }\n        );\n        \n      node.append(\"text\")\n      .attr(\"x\", -6)\n      .attr(\"y\", function(d) {\n          return d.dy / 2;\n         }\n        )\n      .attr(\"dy\", \".35em\")\n      .attr(\"text-anchor\", \"end\")\n      .attr(\"transform\", null)\n      .text(function(d) {\n         return d.name;\n        }\n       )\n      .filter(function(d) {\n         return d.x < width / 2;\n       }\n      )\n      .attr(\"x\", 6 + sankey.nodeWidth())\n      .attr(\"text-anchor\", \"start\");\n    \n     function dragmove(d) {\n      d3.select(this)\n       .attr(\"transform\", \"translate(\" + d.x + \",\" + (d.y = Math.max(0, Math.min(height - d.dy, d3.event.y))) + \")\");\n       sankey.relayout();\n      link.attr(\"d\", path);\n     }\n\n  </script></body>","code for the chart - touch if you know what you are doing"]
["htmlName","\\sankey.html","where to generate the executable","(davor wird %userprofile% gehängt)"]
["inheritNodeColor","yes","inherits cell color from source/target id"]
["inheritLinkColor","yes","inherits link color from value cell"]
["linkOpacity",0.5,"note if this is anything other than blank hover wont work ( 0.0-1.0 are valid range)"]
["linkurl",null,"column name for clickable urls on each link"]
["nodeurl",null,"column name for clickable urls on each node"]
[]
["sankey options","Value","Comments"]
["height",500]
["width ",900]

{"sheet":"Sankey","index":3,"n_rows":101,"n_cols":11,"rows_kept":101,"cut":false,"hidden":true,"merged":[]}
["SourceID","TargetID","SourceLabel","TargetLabel","Value","linkurl","nodeurl",null,"Namensdefinition","Original","ohne ÄÖÜ (für Sankey)"]
["1-ET1","2-Bezug-Waerme",{"$f":"K2","v":""},{"$f":"K12","v":"Bezug Thermisch"},null,null,null,null,"1-ET1",null,{"$f":"SUBSTITUTE(SUBSTITUTE(SUBSTITUTE(SUBSTITUTE(SUBSTITUTE(SUBSTITUTE(SUBSTITUTE(SUBSTITUTE(SUBSTITUTE(SUBSTITUTE(SUBSTITUTE(SUBSTITUTE(SUBSTITUTE(SUBSTITUTE(J2,\"ß\",\"ss\"),\"ä\",\"ae\"),\"ö\",\"oe\"),\"ü\",\"ue\"),\"Ü\",\"Ue\"),\"Ö\",\"Oe\"),\"Ä\",\"Ae\"),\"é\",\"e\"),\"É\",\"E\"),\"à\",\"a\"),\"À\",\"A\"),\"ï\",\"i\"),\"â\",\"a\"),\"è\",\"e\")","v":""}]
["1-ET2","2-Bezug-Waerme",{"$f":"K3","v":"Fossile Brennstoffe"},{"$f":"K12","v":"Bezug Thermisch"},{"$f":"'Formular B'!G40","v":0},null,null,null,"1-ET2","Fossile Brennstoffe",{"$f":"SUBSTITUTE(SUBSTITUTE(SUBSTITUTE(SUBSTITUTE(SUBSTITUTE(SUBSTITUTE(SUBSTITUTE(SUBSTITUTE(SUBSTITUTE(SUBSTITUTE(SUBSTITUTE(SUBSTITUTE(SUBSTITUTE(SUBSTITUTE(J3,\"ß\",\"ss\"),\"ä\",\"ae\"),\"ö\",\"oe\"),\"ü\",\"ue\"),\"Ü\",\"Ue\"),\"Ö\",\"Oe\"),\"Ä\",\"Ae\"),\"é\",\"e\"),\"É\",\"E\"),\"à\",\"a\"),\"À\",\"A\"),\"ï\",\"i\"),\"â\",\"a\"),\"è\",\"e\")","v":"Fossile Brennstoffe"}]
["1-ET3","2-Bezug-Waerme","Fernwaerme",{"$f":"K12","v":"Bezug Thermisch"},{"$f":"'Formular B'!G41","v":0},null,null,null,"1-ET3","Fernwärme","Fernwaerme"]
["1-ET4","2-Bezug-Waerme","Holz, Biomasse usw.",{"$f":"K12","v":"Bezug Thermisch"},{"$f":"'Formular B'!G42","v":0},null,null,null,"1-ET4","Holz, Biomasse usw.","Holz, Biomasse usw."]
["1-ET5","2-Bezug-Waerme",{"$f":"K6","v":"Weitere Brennstoffe"},{"$f":"K12","v":"Bezug Thermisch"},{"$f":"'Formular B'!G43","v":0},null,null,null,"1-ET5","Weitere Brennstoffe","Weitere Brennstoffe"]
["1-AWN","3-AWN-Direktnutzung",{"$f":"K7","v":"Abwaermenutzung"},{"$f":"K15","v":"Direktnutzung Abwaerme"},{"$f":"Energieflussdiagramm!D12","v":0},null,null,null,"1-AWN","Abwärmenutzung","Abwaermenutzung"]
["1-AWN","3-WP-Nutzung",{"$f":"K7","v":"Abwaermenutzung"},{"$f":"K14","v":"WP/KM"},{"$f":"(1-Energieflussdiagramm!M11)*(Energieflussdiagramm!D11+Energieflussdiagramm!F11)","v":0},null,null,null,"1-S-Waerme","Solarwaerme","Solarwaerme"]
["1-UE","3-WP-Nutzung",{"$f":"K9","v":"Umweltenergie"},{"$f":"K14","v":"WP/KM"},{"$f":"Energieflussdiagramm!M11*(Energieflussdiagramm!D11+Energieflussdiagramm!F11)","v":0},null,null,null,"1-U-Waerme","Umweltenergie","Umweltenergie"]
["1-UE","3-UE-Direktnutzung",{"$f":"K9","v":"Umweltenergie"},{"$f":"K16","v":"Direktnutzung Umweltenergie"},{"$f":"Energieflussdiagramm!D13","v":0},null,null,null,"1-Strombezug","Strombezug Werk","Strombezug Werk"]
["1-Strombezug","2-Bezug-Strom",{"$f":"K10","v":"Strombezug Werk"},{"$f":"K13","v":"Bezug Elektrisch"},{"$f":"'Formular B'!G45","v":0},null,null,null,"1-SE-Strom","Stromproduktion Erneuerbar","Stromproduktion Erneuerbar"]
["1-SE-Strom","4-Strombedarf",{"$f":"K11","v":"Stromproduktion Erneuerbar"},{"$f":"K19","v":"Bedarf Elektrisch"},{"$f":"Energieflussdiagramm!F15","v":0},null,null,null,"2-Bezug-Waerme","Bezug Thermisch","Bezug Thermisch"]
["2-Bezug-Waerme","3-BHWK-Umwandlung",{"$f":"K12","v":"Bezug Thermisch"},{"$f":"K17","v":"BHKW"},{"$f":"(-1)*Energieflussdiagramm!D14","v":0},null,null,null,"2-Bezug-Strom","Bezug Elektrisch","Bezug Elektrisch"]
["2-Bezug-Waerme","4-Wärmebedarf",{"$f":"K12","v":"Bezug Thermisch"},{"$f":"K18","v":"Bedarf Thermisch"},{"$f":"SUM(E2:E6)-E13-E15","v":0},null,null,null,"3-WP-Nutzung","WP/KM","WP/KM"]
["2-Bezug-Waerme","5-Verluste",{"$f":"K12","v":"Bezug Thermisch"},{"$f":"K59","v":"Verluste (Erzeugung/Verteilung)"},{"$f":"(-1)*Energieflussdiagramm!D17","v":0},null,null,null,"3-AWN-Direktnutzung","Direktnutzung Abwärme","Direktnutzung Abwaerme"]
["2-Bezug-Strom","3-WP-Nutzung",{"$f":"K13","v":"Bezug Elektrisch"},{"$f":"K14","v":"WP/KM"},{"$f":"(-1)*Energieflussdiagramm!F11","v":0},null,null,null,"3-UE-Direktnutzung","Direktnutzung Umweltenergie","Direktnutzung Umweltenergie"]
["2-Bezug-Strom","4-Strombedarf",{"$f":"K13","v":"Bezug Elektrisch"},{"$f":"K19","v":"Bedarf Elektrisch"},{"$f":"E11-E16-E18","v":0},null,null,null,"3-BHWK-Umwandlung","BHKW","BHKW"]
["2-Bezug-Strom","5-Verluste",{"$f":"K13","v":"Bezug Elektrisch"},{"$f":"K59","v":"Verluste (Erzeugung/Verteilung)"},{"$f":"(-1)*Energieflussdiagramm!F17","v":0},null,null,null,"4-Waermebedarf","Bedarf Thermisch","Bedarf Thermisch"]
["3-WP-Nutzung","4-Wärmebedarf",{"$f":"K14","v":"WP/KM"},{"$f":"K18","v":"Bedarf Thermisch"},{"$f":"1*Energieflussdiagramm!D11","v":0},null,null,null,"4-Strombedarf","Bedarf Elektrisch","Bedarf Elektrisch"]
["3-AWN-Direktnutzung","4-Wärmebedarf",{"$f":"K15","v":"Direktnutzung Abwaerme"},{"$f":"K18","v":"Bedarf Thermisch"},{"$f":"Energieflussdiagramm!D12","v":0},null,null,null,"5-HTH1",{"$f":"IF(Energieflussdiagramm!B25=\"\",\"-\",Energieflussdiagramm!B25)","v":"-"},"-"]
["3-UE-Direktnutzung","4-Wärmebedarf",{"$f":"K16","v":"Direktnutzung Umweltenergie"},{"$f":"K18","v":"Bedarf Thermisch"},{"$f":"Energieflussdiagramm!D13","v":0},null,null,null,"5-HTH2",{"$f":"IF(Energieflussdiagramm!B26=\"\",\"-\",Energieflussdiagramm!B26)","v":"-"},"-"]
["3-BHWK-Umwandlung","4-Strombedarf",{"$f":"K17","v":"BHKW"},{"$f":"K19","v":"Bedarf Elektrisch"},{"$f":"Energieflussdiagramm!F14","v":0},null,null,null,"5-HTH3",{"$f":"IF(Energieflussdiagramm!B27=\"\",\"-\",Energieflussdiagramm!B27)","v":"-"},"-"]
["3-BHWK-Umwandlung","5-Verluste",{"$f":"K17","v":"BHKW"},{"$f":"K59","v":"Verluste (Erzeugung/Verteilung)"},{"$f":"E13-E22","v":0},null,null,null,"5-HTH4",{"$f":"IF(Energieflussdiagramm!B28=\"\",\"-\",Energieflussdiagramm!B28)","v":"-"},"-"]
["4-Wärmebedarf","5-HTH1",{"$f":"K18","v":"Bedarf Thermisch"},{"$f":"K20","v":"-"},{"$f":"Energieflussdiagramm!D25","v":0},null,null,null,"5-HTH5",{"$f":"IF(Energieflussdiagramm!B29=\"\",\"-\",Energieflussdiagramm!B29)","v":"-"},"-"]
["4-Wärmebedarf","5-HTH2",{"$f":"K18","v":"Bedarf Thermisch"},{"$f":"K21","v":"-"},{"$f":"Energieflussdiagramm!D26","v":0},null,null,null,"5-HTW1",{"$f":"IF(Energieflussdiagramm!B30=\"\",\"-\",Energieflussdiagramm!B30)","v":"-"},"-"]
["4-Wärmebedarf","5-HTH3",{"$f":"K18","v":"Bedarf Thermisch"},"-",{"$f":"Energieflussdiagramm!D27","v":0},null,null,null,"5-HTW2",{"$f":"IF(Energieflussdiagramm!B31=\"\",\"-\",Energieflussdiagramm!B31)","v":"-"},"-"]
["4-Wärmebedarf","5-HTH4",{"$f":"K18","v":"Bedarf Thermisch"},"-",{"$f":"Energieflussdiagramm!D28","v":0},null,null,null,"5-HTW3",{"$f":"IF(Energieflussdiagramm!B32=\"\",\"-\",Energieflussdiagramm!B32)","v":"-"},"-"]
["4-Wärmebedarf","5-HTH5",{"$f":"K18","v":"Bedarf Thermisch"},"-",{"$f":"Energieflussdiagramm!D29","v":0},null,null,null,"5-HTW4",{"$f":"IF(Energieflussdiagramm!B33=\"\",\"-\",Energieflussdiagramm!B33)","v":"-"},"-"]
["4-Wärmebedarf","5-HTW1",{"$f":"K18","v":"Bedarf Thermisch"},"-",{"$f":"Energieflussdiagramm!D30","v":0},null,null,null,"5-HTW5",{"$f":"IF(Energieflussdiagramm!B34=\"\",\"-\",Energieflussdiagramm!B34)","v":"-"},"-"]
["4-Wärmebedarf","5-HTW2",{"$f":"K18","v":"Bedarf Thermisch"},"-",{"$f":"Energieflussdiagramm!D31","v":0},null,null,null,"5-HTL1",{"$f":"IF(Energieflussdiagramm!B35=\"\",\"-\",Energieflussdiagramm!B35)","v":"-"},"-"]
["4-Wärmebedarf","5-HTW3",{"$f":"K18","v":"Bedarf Thermisch"},"-",{"$f":"Energieflussdiagramm!D32","v":0},null,null,null,"5-HTL2",{"$f":"IF(Energieflussdiagramm!B36=\"\",\"-\",Energieflussdiagramm!B36)","v":"-"},"-"]
["4-Wärmebedarf","5-HTW4",{"$f":"K18","v":"Bedarf Thermisch"},"-",{"$f":"Energieflussdiagramm!D33","v":0},null,null,null,"5-HTL3",{"$f":"IF(Energieflussdiagramm!B37=\"\",\"-\",Energieflussdiagramm!B37)","v":"-"},"-"]
["4-Wärmebedarf","5-HTW5",{"$f":"K18","v":"Bedarf Thermisch"},"-",{"$f":"Energieflussdiagramm!D34","v":0},null,null,null,"5-HTL4",{"$f":"IF(Energieflussdiagramm!B38=\"\",\"-\",Energieflussdiagramm!B38)","v":"-"},"-"]
["4-Wärmebedarf","5-HTL1",{"$f":"K18","v":"Bedarf Thermisch"},"-",{"$f":"Energieflussdiagramm!D35","v":0},null,null,null,"5-HTL5",{"$f":"IF(Energieflussdiagramm!B39=\"\",\"-\",Energieflussdiagramm!B39)","v":"-"},"-"]
["4-Wärmebedarf","5-HTL2",{"$f":"K18","v":"Bedarf Thermisch"},"-",{"$f":"Energieflussdiagramm!D36","v":0},null,null,null,"5-HTB1",{"$f":"IF(Energieflussdiagramm!B40=\"\",\"-\",Energieflussdiagramm!B40)","v":"-"},"-"]
["4-Wärmebedarf","5-HTL3",{"$f":"K18","v":"Bedarf Thermisch"},"-",{"$f":"Energieflussdiagramm!D37","v":0},null,null,null,"5-HTB2",{"$f":"IF(Energieflussdiagramm!B41=\"\",\"-\",Energieflussdiagramm!B41)","v":"-"},"-"]
["4-Wärmebedarf","5-HTL4",{"$f":"K18","v":"Bedarf Thermisch"},"-",{"$f":"Energieflussdiagramm!D38","v":0},null,null,null,"5-HTB3",{"$f":"IF(Energieflussdiagramm!B42=\"\",\"-\",Energieflussdiagramm!B42)","v":"-"},"-"]
["4-Wärmebedarf","5-HTL5",{"$f":"K18","v":"Bedarf Thermisch"},"-",{"$f":"Energieflussdiagramm!D39","v":0},null,null,null,"5-HTB4",{"$f":"IF(Energieflussdiagramm!B43=\"\",\"-\",Energieflussdiagramm!B43)","v":"-"},"-"]
["4-Wärmebedarf","5-HTB1",{"$f":"K18","v":"Bedarf Thermisch"},"-",{"$f":"Energieflussdiagramm!D40","v":0},null,null,null,"5-HTB5",{"$f":"IF(Energieflussdiagramm!B44=\"\",\"-\",Energieflussdiagramm!B44)","v":"-"},"-"]
["4-Wärmebedarf","5-HTB2",{"$f":"K18","v":"Bedarf Thermisch"},"-",{"$f":"Energieflussdiagramm!D41","v":0},null,null,null,"5-HTD1",{"$f":"IF(Energieflussdiagramm!I25=\"\",\"-\",Energieflussdiagramm!I25)","v":"-"},"-"]
["4-Wärmebedarf","5-HTB3",{"$f":"K18","v":"Bedarf Thermisch"},"-",{"$f":"Energieflussdiagramm!D42","v":0},null,null,null,"5-HTD2",{"$f":"IF(Energieflussdiagramm!I26=\"\",\"-\",Energieflussdiagramm!I26)","v":"-"},"-"]
["4-Wärmebedarf","5-HTB4",{"$f":"K18","v":"Bedarf Thermisch"},"-",{"$f":"Energieflussdiagramm!D43","v":0},null,null,null,"5-HTD3",{"$f":"IF(Energieflussdiagramm!I27=\"\",\"-\",Energieflussdiagramm!I27)","v":"-"},"-"]
["4-Wärmebedarf","5-HTB5",{"$f":"K18","v":"Bedarf Thermisch"},"-",{"$f":"Energieflussdiagramm!D44","v":0},null,null,null,"5-HTD4",{"$f":"IF(Energieflussdiagramm!I28=\"\",\"-\",Energieflussdiagramm!I28)","v":"-"},"-"]
["4-Wärmebedarf","5-HTD1",{"$f":"K18","v":"Bedarf Thermisch"},"-",{"$f":"Energieflussdiagramm!J25","v":0},null,null,null,"5-HTD5",{"$f":"IF(Energieflussdiagramm!I29=\"\",\"-\",Energieflussdiagramm!I29)","v":"-"},"-"]
["4-Wärmebedarf","5-HTD2",{"$f":"K18","v":"Bedarf Thermisch"},"-",{"$f":"Energieflussdiagramm!J26","v":0},null,null,null,"5-HTA1",{"$f":"IF(Energieflussdiagramm!I30=\"\",\"-\",Energieflussdiagramm!I30)","v":"-"},"-"]
["4-Wärmebedarf","5-HTD3",{"$f":"K18","v":"Bedarf Thermisch"},"-",{"$f":"Energieflussdiagramm!J27","v":0},null,null,null,"5-HTA2",{"$f":"IF(Energieflussdiagramm!I31=\"\",\"-\",Energieflussdiagramm!I31)","v":"-"},"-"]
["4-Wärmebedarf","5-HTD4",{"$f":"K18","v":"Bedarf Thermisch"},"-",{"$f":"Energieflussdiagramm!J28","v":0},null,null,null,"5-HTA3",{"$f":"IF(Energieflussdiagramm!I32=\"\",\"-\",Energieflussdiagramm!I32)","v":"-"},"-"]
["4-Wärmebedarf","5-HTD5",{"$f":"K18","v":"Bedarf Thermisch"},"-",{"$f":"Energieflussdiagramm!J29","v":0},null,null,null,"5-HTA4",{"$f":"IF(Energieflussdiagramm!I33=\"\",\"-\",Energieflussdiagramm!I33)","v":"-"},"-"]
["4-Wärmebedarf","5-HTA1",{"$f":"K18","v":"Bedarf Thermisch"},"-",{"$f":"Energieflussdiagramm!J30","v":0},null,null,null,"5-HTA5",{"$f":"LEFT(Energieflussdiagramm!I34,LEN(Energieflussdiagramm!I34)-3)","v":"Diverse Verbraucher"},"Diverse Verbraucher"]
["4-Wärmebedarf","5-HTA2",{"$f":"K18","v":"Bedarf Thermisch"},"-",{"$f":"Energieflussdiagramm!J31","v":0},null,null,null,"5-PP1",{"$f":"IF(Energieflussdiagramm!I36=\"\",\"-\",Energieflussdiagramm!I36)","v":"-"},"-"]
["4-Wärmebedarf","5-HTA3",{"$f":"K18","v":"Bedarf Thermisch"},"-",{"$f":"Energieflussdiagramm!J32","v":0},null,null,null,"5-PP2",{"$f":"IF(Energieflussdiagramm!I37=\"\",\"-\",Energieflussdiagramm!I37)","v":"-"},"-"]
["4-Wärmebedarf","5-HTA4",{"$f":"K18","v":"Bedarf Thermisch"},"-",{"$f":"Energieflussdiagramm!J33","v":0},null,null,null,"5-PP3",{"$f":"IF(Energieflussdiagramm!I38=\"\",\"-\",Energieflussdiagramm!I38)","v":"-"},"-"]
["4-Wärmebedarf","5-HTA5",{"$f":"K18","v":"Bedarf Thermisch"},"Diverse Verbraucher",{"$f":"Energieflussdiagramm!J34","v":0},null,null,null,"5-PP4",{"$f":"IF(Energieflussdiagramm!I39=\"\",\"-\",Energieflussdiagramm!I39)","v":"-"},"-"]
["4-Wärmebedarf","5-PP1",{"$f":"K18","v":"Bedarf Thermisch"},{"$f":"K50","v":"-"},{"$f":"Energieflussdiagramm!J36","v":0},null,null,null,"5-PP5",{"$f":"IF(Energieflussdiagramm!I40=\"\",\"-\",Energieflussdiagramm!I40)","v":"-"},"-"]
["4-Wärmebedarf","5-PP2",{"$f":"K18","v":"Bedarf Thermisch"},{"$f":"K51","v":"-"},{"$f":"Energieflussdiagramm!J37","v":0},null,null,null,"5-PP6",{"$f":"IF(Energieflussdiagramm!I41=\"\",\"-\",Energieflussdiagramm!I41)","v":"-"},"-"]
["4-Wärmebedarf","5-PP3",{"$f":"K18","v":"Bedarf Thermisch"},{"$f":"K52","v":"-"},{"$f":"Energieflussdiagramm!J38","v":0},null,null,null,"5-PP7",{"$f":"IF(Energieflussdiagramm!I42=\"\",\"-\",Energieflussdiagramm!I42)","v":"-"},"-"]
["4-Wärmebedarf","5-PP4",{"$f":"K18","v":"Bedarf Thermisch"},{"$f":"K53","v":"-"},{"$f":"Energieflussdiagramm!J39","v":0},null,null,null,"5-PP8",{"$f":"IF(Energieflussdiagramm!I43=\"\",\"-\",Energieflussdiagramm!I43)","v":"-"},"-"]
["4-Wärmebedarf","5-PP5",{"$f":"K18","v":"Bedarf Thermisch"},{"$f":"K54","v":"-"},{"$f":"Energieflussdiagramm!J40","v":0},null,null,null,"5-PP9",{"$f":"IF(Energieflussdiagramm!I44=\"\",\"-\",Energieflussdiagramm!I44)","v":"-"},"-"]
["4-Wärmebedarf","5-PP6",{"$f":"K18","v":"Bedarf Thermisch"},{"$f":"K55","v":"-"},{"$f":"Energieflussdiagramm!J41","v":0},null,null,null,"5-Verluste","Verluste (Erzeugung/Verteilung)","Verluste (Erzeugung/Verteilung)"]
["4-Wärmebedarf","5-PP7",{"$f":"K18","v":"Bedarf Thermisch"},"-",{"$f":"Energieflussdiagramm!J42","v":0}]
["4-Wärmebedarf","5-PP8",{"$f":"K18","v":"Bedarf Thermisch"},"-",{"$f":"Energieflussdiagramm!J43","v":0}]
["4-Wärmebedarf","5-PP9",{"$f":"K18","v":"Bedarf Thermisch"},{"$f":"K58","v":"-"},{"$f":"Energieflussdiagramm!J44","v":0}]
["4-Strombedarf","5-HTH1",{"$f":"K19","v":"Bedarf Elektrisch"},{"$f":"K20","v":"-"},{"$f":"Energieflussdiagramm!F25","v":0}]
["4-Strombedarf","5-HTH2",{"$f":"K19","v":"Bedarf Elektrisch"},{"$f":"K21","v":"-"},{"$f":"Energieflussdiagramm!F26","v":0}]
["4-Strombedarf","5-HTH3",{"$f":"K19","v":"Bedarf Elektrisch"},"-",{"$f":"Energieflussdiagramm!F27","v":0}]
["4-Strombedarf","5-HTH4",{"$f":"K19","v":"Bedarf Elektrisch"},"-",{"$f":"Energieflussdiagramm!F28","v":0}]
["4-Strombedarf","5-HTH5",{"$f":"K19","v":"Bedarf Elektrisch"},"-",{"$f":"Energieflussdiagramm!F29","v":0}]
["4-Strombedarf","5-HTW1",{"$f":"K19","v":"Bedarf Elektrisch"},{"$f":"K25","v":"-"},{"$f":"Energieflussdiagramm!F30","v":0}]
["4-Strombedarf","5-HTW2",{"$f":"K19","v":"Bedarf Elektrisch"},{"$f":"K26","v":"-"},{"$f":"Energieflussdiagramm!F31","v":0}]
["4-Strombedarf","5-HTW3",{"$f":"K19","v":"Bedarf Elektrisch"},"-",{"$f":"Energieflussdiagramm!F32","v":0}]
["4-Strombedarf","5-HTW4",{"$f":"K19","v":"Bedarf Elektrisch"},"-",{"$f":"Energieflussdiagramm!F33","v":0}]
["4-Strombedarf","5-HTW5",{"$f":"K19","v":"Bedarf Elektrisch"},"-",{"$f":"Energieflussdiagramm!F34","v":0}]
["4-Strombedarf","5-HTL1",{"$f":"K19","v":"Bedarf Elektrisch"},{"$f":"K30","v":"-"},{"$f":"Energieflussdiagramm!F35","v":0}]
["4-Strombedarf","5-HTL2",{"$f":"K19","v":"Bedarf Elektrisch"},{"$f":"K31","v":"-"},{"$f":"Energieflussdiagramm!F36","v":0}]
["4-Strombedarf","5-HTL3",{"$f":"K19","v":"Bedarf Elektrisch"},"-",{"$f":"Energieflussdiagramm!F37","v":0}]
["4-Strombedarf","5-HTL4",{"$f":"K19","v":"Bedarf Elektrisch"},"-",{"$f":"Energieflussdiagramm!F38","v":0}]
["4-Strombedarf","5-HTL5",{"$f":"K19","v":"Bedarf Elektrisch"},"-",{"$f":"Energieflussdiagramm!F39","v":0}]
["4-Strombedarf","5-HTB1",{"$f":"K19","v":"Bedarf Elektrisch"},{"$f":"K35","v":"-"},{"$f":"Energieflussdiagramm!F40","v":0}]
["4-Strombedarf","5-HTB2",{"$f":"K19","v":"Bedarf Elektrisch"},{"$f":"K36","v":"-"},{"$f":"Energieflussdiagramm!F41","v":0}]
["4-Strombedarf","5-HTB3",{"$f":"K19","v":"Bedarf Elektrisch"},"-",{"$f":"Energieflussdiagramm!F42","v":0}]
["4-Strombedarf","5-HTB4",{"$f":"K19","v":"Bedarf Elektrisch"},"-",{"$f":"Energieflussdiagramm!F43","v":0}]
["4-Strombedarf","5-HTB5",{"$f":"K19","v":"Bedarf Elektrisch"},"-",{"$f":"Energieflussdiagramm!F44","v":"n"}]
["4-Strombedarf","5-HTD1",{"$f":"K19","v":"Bedarf Elektrisch"},{"$f":"K40","v":"-"},{"$f":"Energieflussdiagramm!L25","v":0}]
["4-Strombedarf","5-HTD2",{"$f":"K19","v":"Bedarf Elektrisch"},{"$f":"K41","v":"-"},{"$f":"Energieflussdiagramm!L26","v":0}]
["4-Strombedarf","5-HTD3",{"$f":"K19","v":"Bedarf Elektrisch"},"-",{"$f":"Energieflussdiagramm!L27","v":0}]
["4-Strombedarf","5-HTD4",{"$f":"K19","v":"Bedarf Elektrisch"},"-",{"$f":"Energieflussdiagramm!L28","v":0}]
["4-Strombedarf","5-HTD5",{"$f":"K19","v":"Bedarf Elektrisch"},"-",{"$f":"Energieflussdiagramm!L29","v":0}]
["4-Strombedarf","5-HTA1",{"$f":"K19","v":"Bedarf Elektrisch"},{"$f":"K45","v":"-"},{"$f":"Energieflussdiagramm!L30","v":0}]
["4-Strombedarf","5-HTA2",{"$f":"K19","v":"Bedarf Elektrisch"},{"$f":"K46","v":"-"},{"$f":"Energieflussdiagramm!L31","v":0}]
["4-Strombedarf","5-HTA3",{"$f":"K19","v":"Bedarf Elektrisch"},"-",{"$f":"Energieflussdiagramm!L32","v":0}]
["4-Strombedarf","5-HTA4",{"$f":"K19","v":"Bedarf Elektrisch"},"-",{"$f":"Energieflussdiagramm!L33","v":0}]
["4-Strombedarf","5-HTA5",{"$f":"K19","v":"Bedarf Elektrisch"},"Diverse Verbraucher",{"$f":"Energieflussdiagramm!L34","v":0}]
["4-Strombedarf","5-PP1",{"$f":"K19","v":"Bedarf Elektrisch"},{"$f":"K50","v":"-"},{"$f":"Energieflussdiagramm!L36","v":0}]
["4-Strombedarf","5-PP2",{"$f":"K19","v":"Bedarf Elektrisch"},{"$f":"K51","v":"-"},{"$f":"Energieflussdiagramm!L37","v":0}]
["4-Strombedarf","5-PP3",{"$f":"K19","v":"Bedarf Elektrisch"},{"$f":"K52","v":"-"},{"$f":"Energieflussdiagramm!L38","v":0}]
["4-Strombedarf","5-PP4",{"$f":"K19","v":"Bedarf Elektrisch"},{"$f":"K53","v":"-"},{"$f":"Energieflussdiagramm!L39","v":0}]
["4-Strombedarf","5-PP5",{"$f":"K19","v":"Bedarf Elektrisch"},{"$f":"K54","v":"-"},{"$f":"Energieflussdiagramm!L40","v":0}]
["4-Strombedarf","5-PP6",{"$f":"K19","v":"Bedarf Elektrisch"},{"$f":"K55","v":"-"},{"$f":"Energieflussdiagramm!L41","v":0}]
["4-Strombedarf","5-PP7",{"$f":"K19","v":"Bedarf Elektrisch"},"-",{"$f":"Energieflussdiagramm!L42","v":0}]
["4-Strombedarf","5-PP8",{"$f":"K19","v":"Bedarf Elektrisch"},"-",{"$f":"Energieflussdiagramm!L43","v":0}]
["4-Strombedarf","5-PP9",{"$f":"K19","v":"Bedarf Elektrisch"},{"$f":"K58","v":"-"},{"$f":"Energieflussdiagramm!L44","v":0}]

{"sheet":"Anleitung","index":4,"n_rows":41,"n_cols":13,"rows_kept":41,"cut":false,"hidden":false,"merged":[[9,1,9,3],[39,1,39,13],[35,1,35,13],[40,1,40,13],[1,12,2,13],[23,1,23,13]]}
[]
[null,{"$f":"Sprache!E27","v":"Kurzanleitung"},null,null,null,null,null,null,null,null,null,"Kantonale Zielvereinbarung (KZV) für Grossverbraucher im Kanton Basel-Stadt","KZV"]
[null,null,null,null,null,null,null,null,null,null,null,"Massnahmenbasierte Steigerung der Energieeffizienz"]
[]
[]
[]
[null,{"$f":"Sprache!E29","v":"Sprache"},"DE"]
[]
[null,"DE: Bitte wählen Sie Ihre gewünschte Sprache",null,null,null,null,"FR: S'il vous plaît choisissez votre langue"]
[]
[null,{"$f":"Sprache!E30","v":"Bedienung"}]
[]
[null,{"$f":"Sprache!E31","v":"Die Blätter dieser Arbeitsmappe sind geschützt, um zu verhindern, dass versehentlich Formeln überschrieben werden."}]
[]
[null,{"$f":"Sprache!E32","v":"Füllen Sie die Arbeitsmappe in folgender Reihenfolge aus:"}]
[null,{"$f":"Sprache!E33","v":"- Titelblatt"}]
[null,{"$f":"Sprache!E34","v":"- Formular A"}]
[null,{"$f":"Sprache!E35","v":"- Formular B"}]
[null,{"$f":"Sprache!E36","v":"- Formular C (dieses Formular muss dem Kanton nicht zwingend abgegeben werden)"}]
[null,{"$f":"Sprache!E37","v":"- Beschreibung Massnahmen"}]
[null,"- Formular D"]
[null,{"$f":"Sprache!E38","v":"- Bemerkungen"}]
[]
[null,"Das Ausfüllen vom Blatt Energieflussdiagramm ist fakultativ. Es kann dazu verwendet werden, ein einfaches Energieflussdiagramm zu erzeugen, das den eigenen Energieverbrauch visualisiert."]
[]
[null,null,null,{"$f":"Sprache!E39","v":"Zwingende Eingaben (in Formular C lassen sich durch Eingabe eines Textes in der untersten Zeile pro Kategorie neue Zeilen einfügen)"}]
[]
[null,null,null,{"$f":"Sprache!E40","v":"Fakultative Eingaben"}]
[]
[null,null,null,{"$f":"Sprache!E41","v":"Wichtige Hinweise"}]
[]
[null,null,null,{"$f":"Sprache!E42","v":"Zielgrösse der Zielvereinbarung"}]
[]
[null,{"$f":"Sprache!E43","v":"Ziel"}]
[]
[null,{"$f":"Sprache!E44","v":"Die Zielgrösse dieser Zielvereinbarung ist die Energieeffizienz. Sie ist auf Formular D dargestellt. Sie resultiert aus den markierten Massnahmen in Formular C. Bei der späteren Auswahl der Massnahmen, welche effektiv realisiert werden sollen, ist man jedoch frei. Es dürfen auch andere Massnahmen ausgeführt werden. Wichtig ist einzig das Einhalten des Effizienzzieles. Alle für die Zielvereinbarung relevanten Angaben finden sich auf dem Formular Vereinbarung. Dieses Formular ist zu unterschreiben."}]
[]
[null,{"$f":"Sprache!E45","v":"Disclaimer"}]
[]
[null,"Weder der Kanton Basel-Stadt als Auftraggeber, noch die Weisskopf Partner GmbH als Ersteller haften für die Richtigkeit der Resultate oder Schlussfolgerungen, welche aus dieser Arbeitsmappe gezogen werden. Für die Richtigkeit der Angaben haftet der Benutzer dieser Arbeitsmappe."]
[null,{"$f":"Sprache!E273&\": \" & version","v":"Version: v2 / November 2021"}]

{"sheet":"Titelblatt","index":5,"n_rows":34,"n_cols":13,"rows_kept":34,"cut":false,"hidden":false,"merged":[[2,11,3,12],[14,8,14,9],[18,10,18,12],[24,5,24,12],[27,6,27,12],[28,5,28,12],[9,5,9,12],[11,6,11,9],[11,11,11,12],[12,6,12,12],[19,5,19,12],[18,5,18,7],[13,5,13,12],[14,5,14,7],[14,10,14,12],[15,10,15,12],[16,10,16,12],[17,10,17,12],[5,1,5,3],[5,5,5,12],[6,5,6,12],[7,5,7,12],[10,6,10,12],[8,5,8,12],[29,5,29,12],[15,5,15,7],[16,5,16,7],[32,1,32,3],[32,5,32,12],[31,5,31,6],[31,9,31,12],[17,5,17,7],[30,5,30,12],[25,6,25,12],[26,6,26,9],[26,11,26,12],[22,5,22,12],[21,5,21,12],[20,5,20,12],[23,5,23,12]]}
[]
[]
[null,null,null,null,null,null,null,null,null,null,"Kantonale Zielvereinbarung (KZV) für Grossverbraucher im Kanton Basel-Stadt","KZV"]
[null,null,null,null,null,null,null,null,null,null,"Massnahmenbasierte Steigerung der Energieeffizienz"]
[]
[]
[null,{"$f":"Sprache!E47","v":"Firma / Organisation:"}]
[null,{"$f":"Sprache!E48","v":"Hauptadresse:"}]
[null,{"$f":"Sprache!E225","v":"Unternehmensidentifikations-Nr. (UID): "}]
[]
[null,{"$f":"Sprache!E54","v":"Kontaktperson:"},null,null,null,{"$f":"Sprache!E50","v":"Name:"}]
[null,null,null,null,null,{"$f":"Sprache!E51","v":"Tel.:"},null,null,null,null,{"$f":"Sprache!E53","v":"Fax:"}]
[null,null,null,null,null,{"$f":"Sprache!E52","v":"E-Mail:"}]
[]
[null,{"$f":"Sprache!E55&\":\"","v":"Verbrauchsstätten:"},null,null,null,null,null,null,{"$f":"Sprache!E279&\":\"","v":"Elektrozähler Nr.:"}]
[]
[]
[]
[]
[]
[]
[]
[null,{"$f":"Sprache!E56","v":"Technische Begleitung:"}]
[null,{"$f":"Sprache!E49","v":"Adresse:"}]
[]
[null,{"$f":"B11","v":"Kontaktperson:"},null,null,null,{"$f":"F11","v":"Name:"}]
[null,null,null,null,null,{"$f":"F12","v":"Tel.:"},null,null,null,null,{"$f":"K12","v":"Fax:"}]
[null,null,null,null,null,"E-Mail:"]
[]
[]
[]
[null,{"$f":"Sprache!E57","v":"Erstellungsdatum:"},null,null,null,null,null,"Version:"]
[]
[null,null,null,null,null,null,null,null,null,null,null,null,{"$f":"\"KZV Tool \" & version","v":"KZV Tool v2 / November 2021"}]

{"sheet":"Formular A","index":6,"n_rows":17,"n_cols":30,"rows_kept":17,"cut":false,"hidden":false,"merged":[[16,17,16,28],[17,17,17,28],[15,17,15,28],[2,26,2,29],[7,18,7,28],[5,6,5,28],[6,6,6,28],[8,6,8,7],[7,6,7,7],[8,18,8,28],[11,6,11,9],[11,11,11,28],[20,17,20,28],[18,7,18,15],[18,17,18,28],[17,7,17,15],[19,7,19,15],[20,7,20,15],[19,17,19,28]]}
[]
[null,{"$f":"Sprache!E59","v":"KZV, Formular A / Allgemeine Angaben zu den Standorten"},null,null,null,null,null,null,null,null,null,null,null,null,null,null,null,null,null,null,null,null,null,null,null,null,null,null,null,{"$f":"IF(Titelblatt!$F$7=\"\",\"\",Titelblatt!$F$7)","v":""}]
[null,null,null,null,null,null,null,null,null,null,null,null,null,null,null,null,null,null,null,null,null,null,null,null,null,null,{"$f":"IF(Titelblatt!$F$32=\"\",\"\",Titelblatt!$F$32)","v":""}]
[]
[]
[null,{"$f":"Sprache!E60","v":"A.1"},{"$f":"Sprache!E65","v":"Branche:"}]
[null,null,{"$f":"Sprache!E66","v":"Geschäftstätigkeit:"}]
[null,{"$f":"Sprache!E61","v":"A.2"},{"$f":"Sprache!E67","v":"Anzahl Mitarbeiter/innen Total:"},null,null,null,null,null,{"$f":"Sprache!E72","v":"Personen"}]
[null,null,{"$f":"Sprache!E68","v":"Anzahl Mitarbeiter/innen auf Vollzeitstellen umgerechnet:"},null,null,null,null,null,{"$f":"I8","v":"Personen"}]
[null,{"$f":"Sprache!E62","v":"A.3"},{"$f":"Sprache!E69","v":"Betriebsorganisation:"},null,null,null,null,"1",null,"2",null,"3",{"$f":"Sprache!E74","v":"- schichtig"}]
[null,null,{"$f":"Sprache!E70","v":"Produktionszeit / Arbeitszeit:"},null,null,null,null,{"$f":"Sprache!E73","v":"Stunden pro Tag"},null,null,null,null,null,{"$f":"Sprache!E75","v":"Tage pro Woche"}]
[null,{"$f":"Sprache!E63","v":"A.4"},{"$f":"Sprache!E71","v":"Absatz, Umsatz oder Ausgaben pro Jahr:"},null,null,null,null,null,null,null,":"]
[]
[]
[null,null,null,null,null,{"$f":"Sprache!E64","v":"A.5"},{"$f":"Sprache!E76","v":"Beilagen:"},null,null,null,null,null,null,null,null,null,null,{"$f":"Sprache!E79","v":"Genaue  Bezeichnung:"}]
[null,null,null,null,null,null,null,{"$f":"Sprache!E77","v":"Firmenbroschüre"}]
[null,null,null,null,null,null,null,{"$f":"Sprache!E78","v":"Hilfsmittel zum Verbrauch Zieljahr"}]

{"sheet":"Formular B","index":7,"n_rows":47,"n_cols":12,"rows_kept":47,"cut":false,"hidden":false,"merged":[[27,8,30,11],[31,8,31,11],[42,3,42,4],[35,6,35,7],[35,8,35,9],[35,10,35,11]]}
[]
[null,{"$f":"Sprache!E80","v":"KZV, Formular B / Energieverbrauch unbeeinflusst"},null,null,null,null,null,null,null,null,null,{"$f":"IF(Titelblatt!$F$7=\"\",\"\",Titelblatt!$F$7)","v":""}]
[null,null,null,null,null,null,null,null,null,null,null,{"$f":"IF(Titelblatt!$F$32=\"\",\"\",Titelblatt!$F$32)","v":""}]
[]
[]
[null,{"$f":"Sprache!E81","v":"B.1  Angabe der Ausgangsdaten"}]
[]
[]
[null,{"$f":"Sprache!E82","v":"Energiegewichtungsfaktoren"}]
[]
[null,{"$f":"Sprache!E83","v":"Ö/G"},{"$f":"Sprache!E88","v":"Faktor fossile Brennstoffe"},null,null,"[-]",1]
[null,{"$f":"Sprache!E84","v":"F"},{"$f":"Sprache!E89","v":"Faktor für Fernwärme"},null,null,"[-]"]
[null,{"$f":"Sprache!E85","v":"H"},{"$f":"Sprache!E90","v":"Faktor für Holz, Biomasse usw."},null,null,"[-]",0.1]
[null,{"$f":"Sprache!E86","v":"W"},{"$f":"Sprache!E91","v":"Faktor für weitere Brennstoffe"},null,null,"[-]"]
[null,{"$f":"Sprache!E87","v":"E"},{"$f":"Sprache!E92","v":"Faktor für elektrische Energie"},null,null,"[-]",2]
[]
[null,{"$f":"Sprache!E93","v":"Anteil Heizung"}]
[]
[null,null,{"$f":"Sprache!E94","v":"Fossile Brennstoffe, Anteil für Heizung"},null,null,"[%]"]
[null,null,{"$f":"Sprache!E96","v":"Fernwärme, Anteil für Heizung"},null,null,"[%]"]
[null,null,{"$f":"Sprache!E97","v":"Holz, Biomasse usw., Anteil für Heizung"},null,null,"[%]"]
[null,null,{"$f":"Sprache!E98","v":"Weitere Brennstoffe, Anteil für Heizung"},null,null,"[%]"]
[null,null,{"$f":"Sprache!E99","v":"Elektrische Energie, Anteil für Heizung"},null,null,"[%]"]
[]
[null,{"$f":"Sprache!E107","v":"Ausgangsjahr / Dauer Zielvereinbarung sowie betriebliches Wachstum"}]
[]
[null,null,{"$f":"Sprache!E108","v":"Ausgangsjahr"},null,null,{"$f":"Sprache!E114","v":"Jahr"},null,null,{"$f":"Sprache!E102","v":"Heizgradtage Basel-Binningen"}]
[null,null,{"$f":"Sprache!E110","v":"Heizgradtage im Ausgangsjahr"},null,null,null,null,null,{"$f":"Sprache!E103","v":"Bitte verwenden Sie den Jahreswert Januar bis Dezember der Heizgradtage der meteorologischen Beobachtungsstation Basel-Binningen für das entsprechende Kalenderjahr. Die Zahlen können unter folgendem Link eingesehen werden:"}]
[null,null,{"$f":"Sprache!E111","v":"Dauer der Zielvereinbarung"},null,null,"[a]",10]
[null,null,{"$f":"Sprache!E112","v":"Mutmassliches jährl. Wachstum des Betr."},null,null,"[%]"]
[null,null,{"$f":"Sprache!E113","v":"Elastizität bezogen auf das Wachstum"},null,null,"[-]"]
[null,null,null,null,null,null,null,null,{"$f":"HYPERLINK(Sprache!E104)","v":"http://www.klimabasel.ch/daten.htm"}]
[]
[null,"B.2  Angabe der absoluten Energieverbräuche"]
[]
[null,"Endenergieverbrauch ",null,null,null,null,{"$f":"Sprache!E117","v":"ungew. / ohne HGT-Korr."},null,{"$f":"Sprache!E118","v":"ungew. / mit HGT-Korr."},null,{"$f":"Sprache!E119","v":"gewichtet / mit HGT-Korr."}]
[null,null,null,null,null,null,{"$f":"C27","v":"Ausgangsjahr"},{"$f":"Sprache!E120","v":"Zieljahr"},{"$f":"C27","v":"Ausgangsjahr"},{"$f":"H37","v":"Zieljahr"},{"$f":"C27","v":"Ausgangsjahr"},{"$f":"H37","v":"Zieljahr"}]
[null,null,null,null,null,null,{"$f":"IF(G27=\"\",\"\",G27)","v":""},{"$f":"'Formular D'!G25","v":10},{"$f":"G38","v":""},{"$f":"H38","v":10},{"$f":"G38","v":""},{"$f":"H38","v":10}]
[null,{"$f":"Sprache!E121","v":"Thermische Energie:"}]
[null,{"$f":"Sprache!E122","v":"Fossile Brennstoffe"},null,null,null,"[kWh/a]",null,{"$f":"IFERROR(G40*(1+(($G$30*$G$31)/100))^($H$38-$G$38),\"\")","v":""},{"$f":"IFERROR(G40*(G19/100)*(Parameter!$C$8/$G$28)+G40*(1-(G19/100)),\"\")","v":""},{"$f":"IFERROR(H40*(G19/100)*(Parameter!$C$8/$G$28)+H40*(1-(G19/100)),\"\")","v":""},{"$f":"IFERROR($G$11*I40,\"\")","v":""},{"$f":"IFERROR($G$11*J40,\"\")","v":""}]
[null,{"$f":"Sprache!E124","v":"Fernwärme"},null,null,null,"[kWh/a]",null,{"$f":"IFERROR(G41*(1+(($G$30*$G$31)/100))^($H$38-$G$38),\"\")","v":""},{"$f":"IFERROR(G41*(G20/100)*(Parameter!$C$8/$G$28)+G41*(1-(G20/100)),\"\")","v":""},{"$f":"IFERROR(H41*(G20/100)*(Parameter!$C$8/$G$28)+H41*(1-(G20/100)),\"\")","v":""},{"$f":"IFERROR($G$12*I41,\"\")","v":""},{"$f":"IFERROR($G$12*J41,\"\")","v":""}]
[null,{"$f":"Sprache!E125","v":"Holz, Biomasse usw."},null,null,null,"[kWh/a]",null,"",{"$f":"IFERROR(G42*(G21/100)*(Parameter!$C$8/$G$28)+G42*(1-(G21/100)),\"\")","v":""},{"$f":"IFERROR(H42*(G21/100)*(Parameter!$C$8/$G$28)+H42*(1-(G21/100)),\"\")","v":""},{"$f":"IFERROR($G$13*I42,\"\")","v":""},{"$f":"IFERROR($G$13*J42,\"\")","v":""}]
[null,{"$f":"Sprache!E126","v":"Weitere Brennstoffe"},null,null,null,"[kWh/a]",null,"",{"$f":"IFERROR(G43*(G22/100)*(Parameter!$C$8/$G$28)+G43*(1-(G22/100)),\"\")","v":""},{"$f":"IFERROR(H43*(G22/100)*(Parameter!$C$8/$G$28)+H43*(1-(G22/100)),\"\")","v":""},{"$f":"IFERROR($G$14*I43,\"\")","v":""},{"$f":"IFERROR($G$14*J43,\"\")","v":""}]
[null,{"$f":"Sprache!E127","v":"Thermische Energie Total"},null,null,null,"[kWh/a]",{"$f":"SUM(G40:G43)","v":0},0,0,0,0,0]
[null,"Elektrische Energie Total (Netzbezug)",null,null,null,"[kWh/a]",null,{"$f":"IFERROR(G45*(1+(($G$30*$G$31)/100))^($H$38-$G$38),\"\")","v":""},{"$f":"IFERROR(G45*(G23/100)*(Parameter!$C$8/$G$28)+G45*(1-(G23/100)),\"\")","v":""},{"$f":"IFERROR(H45*(G23/100)*(Parameter!$C$8/$G$28)+H45*(1-(G23/100)),\"\")","v":""},{"$f":"IFERROR($G$15*I45,\"\")","v":""},{"$f":"IFERROR($G$15*J45,\"\")","v":""}]
[]
[null,"Endenergieverbrauch pro Jahr",null,null,null,"[kWh/a]",{"$f":"SUM(G44,G45)","v":0},0,0,0,0,0]

{"sheet":"Energieflussdiagramm","index":8,"n_rows":69,"n_cols":17,"rows_kept":69,"cut":false,"hidden":false,"merged":[[12,0,12,2],[12,7,12,12],[5,0,6,2],[5,3,5,4],[5,5,5,6],[7,0,7,2],[7,7,7,12],[9,0,9,12],[10,0,10,2],[10,7,10,8],[10,10,10,11],[11,0,11,2],[11,7,11,12],[13,0,13,2],[13,7,13,12],[14,0,14,2],[14,7,14,12],[16,0,16,2],[16,7,16,12],[18,0,18,2],[18,7,18,12],[21,0,22,2],[21,3,21,4],[21,5,21,6],[21,9,21,10],[21,11,21,12],[23,0,23,2],[23,7,23,8],[24,0,28,0],[24,1,24,2],[24,7,28,7],[25,1,25,2],[26,1,26,2],[27,1,27,2],[28,1,28,2],[29,0,33,0],[29,1,29,2],[29,7,33,7],[30,1,30,2],[31,1,31,2],[32,1,32,2],[33,1,33,2],[34,0,38,0],[34,1,34,2],[35,1,35,2],[36,1,36,2],[37,1,37,2],[38,1,38,2],[39,0,43,0],[39,1,39,2],[40,1,40,2],[41,1,41,2],[42,1,42,2],[43,1,43,2],[63,1,63,8],[45,7,45,8],[53,8,53,9],[54,8,54,9],[55,1,55,7],[56,1,56,9],[57,1,57,9],[58,1,58,9],[59,1,59,9],[60,0,60,9],[61,0,61,9],[62,1,62,9],[70,2,70,8],[64,1,64,9],[65,1,65,9],[66,1,66,9],[67,1,67,9],[68,1,68,9]]}
[null,null,null,null,null,null,null,null,null,null,null,null,"","Eingabemeldung","Eingabemeldung"]
["Fakultativ: Angaben zum Energiebedarf der Hauptverbraucher 1 / 2",null,null,null,null,null,null,null,null,null,null,null,""]
[]
[]
["1. Ermittlung des Energiebedarfs des aktuellen Jahres:"]
[null,null,null,"Thermische Energie",null,"Elektrische Energie"]
[null,null,null,"[kWh/a]","(Vorzeichen)","[kWh/a]","(Vorzeichen)"]
["Aktueller Endenergieverbrauch, ungewichtet:",{"$error":"#REF!"},0,{"$f":"'Formular B'!G44","v":0},null,{"$f":"'Formular B'!G45","v":0},null,"Gemäss Angaben von Formular B, Ziffer B.2"]
[]
["Hinweis: Die nachfolgenden fünf Eingabezeilen sind nur bei einer aktuellen Verwendung von WP-, AWN-, UE-, BHKW- oder SE-Anlagen (siehe nachfolgend) auszufüllen.  Beachten Sie auch die Eingabemeldungen."]
["Wärmepumpen/Kältemaschinen (WP/KM):",{"$error":"#REF!"},{"$error":"#REF!"},{"$f":"IF(AND(F11<>\"\",J11<>\"\",M11<>\"\"),(-1)*F11*J11,IF(AND(F11<>\"\",F11<>0,J11=\"\"),\"JAZ?\",IF(AND(F11<>\"\",F11<>0,J11<>\"\",M11=\"\"),\"Anteil UE?\",\"0\")))","v":"0"},"        (+)",null,"(-)","(durchschn.) Jahresarbeitszahl (JAZ):",null,null,"Anteil Umweltenergie:",null,1,"","","",""]
["Direktnutzung interner Abwärme (AWN):",{"$error":"#REF!"},0,null,"(+)",null,null,"Direkt genutzte Abwärme von externen Arealen ist als Fernwärme zu erfassen (Formular B, Ziffer B.2).",null,null,null,null,null,""]
["Thermische Nutzung Umweltenergie (UE):",{"$error":"#REF!"},0,null,"(+)",null,null,"Z.B. Free-Cooling oder solarthermisch erzeugte Wärme- oder Kälteenergie für den Eigengebrauch.",null,null,null,null,null,""]
["Stromeigenprod. Blockheizkraftwerk (BHKW):",{"$error":"#REF!"},0,{"$f":"(-1)*45/35*F14","v":0},"1)      (-)",null,"(+)","1) Die benötigte thermische Energie wird vereinfacht mit einem Wirkungsgrad von 90% berechnet.",null,null,null,null,null,""]
["Stromeigenproduktion Erneuerbar (SE):",{"$error":"#REF!"},0,null,null,null,"(+)","Stromeigenproduktion Erneuerbar (PV, Kleinwasser, etc.) für den Eigenverbrauch; ohne Zukäufe von Zertifikaten.",null,null,null,null,null,""]
[]
["Energieverluste (Erzeugung/Verteilung):",{"$error":"#REF!"},0,null,"(-)",null,"(-)","Eine Abschätzung der Energieverluste aller Energieerzeugungsanlagen und Verteilsysteme ist hier anzugeben."]
[]
["Total Energiebedarf:",{"$error":"#REF!"},0,{"$f":"D8+D13+D11+D12+D14+D17","v":0},1,{"$f":"F8+F15+F11+F14+F17","v":0},1,"Dieser Energiebedarf muss nachfolgend den Haustechnik- und Prozessanlagen zugeordnet werden."]
[]
["2. Aufteilung des Nutzenergiebedarfs des aktuellen Jahres, nach (Haupt-)Verbrauchern:"]
[null,null,null,"Thermische Energie",null,"Elektrische Energie",null,null,null,"Thermische Energie",null,"Elektrische Energie"]
[null,null,null,"Energie","Anteil","Energie","Anteil",null,null,"Energie","Anteil","Energie","Anteil"]
["Haustechnikanlagen:",{"$error":"#REF!"},0,"[kWh/a]","[-]","[kWh/a]","[-]","Haustechnikanlagen:",null,"[kWh/a]","[-]","[kWh/a]","[-]"]
["Heizung",null,null,null,{"$f":"IF($D$19=0,\"\",D25/$D$19)","v":""},null,{"$f":"IF($F$19=0,\"\",F25/$F$19)","v":""},"Druckluft",null,null,{"$f":"IF($D$19=0,\"\",J25/$D$19)","v":""},null,{"$f":"IF($F$19=0,\"\",L25/$F$19)","v":""}]
[{"$error":"#REF!"},null,null,null,{"$f":"IF($D$19=0,\"\",D26/$D$19)","v":""},null,{"$f":"IF($F$19=0,\"\",F26/$F$19)","v":""},{"$error":"#REF!"},null,null,"",null,""]
[{"$error":"#REF!"},null,null,null,"",null,"",{"$error":"#REF!"},null,null,"",null,""]
[{"$error":"#REF!"},null,null,null,"",null,"",{"$error":"#REF!"},null,null,"",null,""]
[{"$error":"#REF!"},null,null,null,"",null,"",{"$error":"#REF!"},null,null,"",null,""]
["Warmwasser",null,null,null,"",null,"","Andere",null,null,"",null,""]
[{"$error":"#REF!"},null,null,null,"",null,"",null,null,null,"",null,""]
[{"$error":"#REF!"},null,null,null,"",null,"",null,null,null,"",null,""]
[{"$error":"#REF!"},null,null,null,"",null,"",null,null,null,"",null,""]
[{"$error":"#REF!"},null,null,null,"",null,"",null,"Diverse Verbraucher ²⁾",null,"",null,""]
["Lüftung/Klima",null,null,null,"",null,"","Prozess- und Produktionsanlagen:"]
[{"$error":"#REF!"},null,null,null,"",null,"",null,null,null,{"$f":"IF($D$19=0,\"\",J36/$D$19)","v":""},null,{"$f":"IF($F$19=0,\"\",L36/$F$19)","v":""}]
[{"$error":"#REF!"},null,null,null,"",null,"",null,null,null,"",null,""]
[{"$error":"#REF!"},null,null,null,"",null,"",null,null,null,"",null,""]
[{"$error":"#REF!"},null,null,null,"",null,"",null,null,null,"",null,""]
["Beleuchtung",null,null,null,"",null,"",null,null,null,"",null,""]
[{"$error":"#REF!"},null,null,null,"",null,"",null,null,null,"",null,""]
[{"$error":"#REF!"},null,null,null,"",null,"",null,null,null,"",null,""]
[{"$error":"#REF!"},null,null,null,"",null,"",null,null,null,"",null,""]
[{"$error":"#REF!"},null,null,null,"","n","",null,null,null,"",null,""]
[]
["2) Max. 20% Diverse. Gesamthaft muss der Energiebedarf zu 100% einzelnen Verbrauchern zugeordnet werden.",null,null,null,null,null,null,"Total zugeordneter Nutzenergiebedarf:",null,{"$f":"SUM(D25:D44,J25:J34,J36:J44)","v":0},{"$f":"IF($D$19=0,\"\",J46/D19)","v":""},{"$f":"SUM(F25:F44,L25:L34,L36:L44)","v":0},{"$f":"IF($F$19=0,\"\",L46/F19)","v":""}]
["Hinweis: Im nachfolgenden Punkt 3. ist ein Energieflussdiagramm zu erstellen. Beachten Sie bitte dazu die Anleitung \"In fünf Schritten zum Energieflussdiagramm\"."]
[null,null,null,null,null,null,null,null,null,null,null,null,""]
["Angaben zum Energiebedarf der Hauptverbraucher 2 / 2",null,null,null,null,null,null,null,null,null,null,null,""]
[]
[]
["3. Energieflussdiagramm"]
["In fünf Schritten zum Energieflussdiagramm:"]
["1.","Drücken Sie den Button \"Energieflussdiagramm erzeugen\":"]
["->","Bei einer allfälligen Sicherheitswarnung des Internet-Browsers: Lassen Sie geblockte Inhalte zu."]
["->","das Energieflussdiagramm öffnet sich in Ihrem Internet-Browser."]
["2.","Passen Sie das Energieflussdiagramm bei Bedarf an (fakultativ).",{"$error":"#REF!"},0,0,0,0,0,0,0]
["->","mit der Maus können die Balken vertikal verschoben werden.",{"$error":"#REF!"},0,0,0,0,0,0,0]
["->","dadurch kann die Darstellung verbessert und die Reihenfolge der Energieträger und Anlagen bei Bedarf verändert werden.",{"$error":"#REF!"},0,0,0,0,0,0,0]
["3.","Kopieren Sie das Energieflussdiagramm.",{"$error":"#REF!"},0,0,0,0,0,0,0]
["Internet Explorer: drücken Sie mir der rechten Maustaste auf die Grafik und wählen sie \"Kopieren\"."]
["Firefox oder Chrome: Kopieren Sie das Energieflussdiagramm mit Hilfe eines Screenshot-Programmes:"]
["->","auf  Computern mit dem Betriebssystem Windows Vista (oder neuer) ist standardmässig das Screenshot-Programm \"Snipping-Tool\" installiert.",{"$error":"#REF!"},0,0,0,0,0,0,0]
["->","klicken Sie auf folgenden Button, damit sich das Programm automatisch öffnet: ",{"$error":"#REF!"},0,0,0,0,0,0]
["->","oder starten Sie das SnippingTool manuell, indem Sie in der Schaltfläche \"Start\" (Taskleiste) im Suchfeld den Begriff \"SnippingTool\" eingeben.",{"$error":"#REF!"},0,0,0,0,0,0,0]
["->","schneiden Sie das Energieflussdiagramm mit dem Screenshot-Programm aus. Es befindet sich nun automatisch in der Zwischenablage.",{"$error":"#REF!"},0,0,0,0,0,0,0]
["4.","Fügen Sie das Energieflussdiagramm innerhalb des weissen Rahmens ein.",{"$error":"#REF!"},0,0,0,0,0,0,0]
["->","drücken Sie mit der rechten Maustaste auf die weisse Fläche und wählen Sie \"Einfügen\".",{"$error":"#REF!"},0,0,0,0,0,0,0]
["->","passen Sie das Energieflussdiagramm falls nötig der Grösse der weissen Fläche an.",{"$error":"#REF!"},0,0,0,0,0,0,0]

{"sheet":"Formular C","index":9,"n_rows":358,"n_cols":32,"rows_kept":358,"cut":false,"hidden":false,"merged":[[250,22,250,23],[249,22,249,23],[248,22,248,23],[243,1,243,23],[11,1,11,23],[245,19,246,19],[357,1,357,23],[358,1,358,23],[252,2,252,3],[251,2,251,3],[347,2,347,3],[348,2,348,3],[349,2,349,3],[350,2,350,3],[351,2,351,3],[352,2,352,3],[353,1,353,7],[355,1,355,7],[338,2,338,3],[339,2,339,3],[340,2,340,3],[341,2,341,3],[342,2,342,3],[343,2,343,3],[346,2,346,3],[329,2,329,3],[330,2,330,3],[331,2,331,3],[332,2,332,3],[333,2,333,3],[334,2,334,3],[335,2,335,3],[336,2,336,3],[337,2,337,3],[313,2,313,3],[314,2,314,3],[315,2,315,3],[316,2,316,3],[317,2,317,3],[318,2,318,3],[319,2,319,3],[345,2,345,3],[320,2,320,3],[321,2,321,3],[322,2,322,3],[323,2,323,3],[324,2,324,3],[344,2,344,3],[328,2,328,3],[325,2,325,3],[326,2,326,3],[327,2,327,3],[304,2,304,3],[305,2,305,3],[306,2,306,3],[307,2,307,3],[308,2,308,3],[309,2,309,3],[310,2,310,3],[311,2,311,3],[312,2,312,3],[295,2,295,3],[296,2,296,3],[297,2,297,3],[298,2,298,3],[299,2,299,3],[300,2,300,3],[301,2,301,3],[302,2,302,3],[303,2,303,3],[286,2,286,3],[287,2,287,3],[288,2,288,3],[289,2,289,3],[290,2,290,3],[291,2,291,3],[292,2,292,3],[293,2,293,3],[294,2,294,3],[277,2,277,3],[278,2,278,3],[279,2,279,3],[280,2,280,3],[281,2,281,3],[282,2,282,3],[283,2,283,3],[284,2,284,3],[285,2,285,3],[268,2,268,3],[269,2,269,3],[270,2,270,3],[271,2,271,3],[272,2,272,3],[273,2,273,3],[274,2,274,3],[275,2,275,3],[276,2,276,3],[259,2,259,3],[260,2,260,3],[261,2,261,3],[262,2,262,3],[263,2,263,3],[264,2,264,3],[265,2,265,3],[266,2,266,3],[267,2,267,3],[247,11,248,11],[247,12,248,12],[253,2,253,3],[254,2,254,3],[255,2,255,3],[256,2,256,3],[247,6,247,7],[257,2,257,3],[258,2,258,3],[223,2,223,3],[224,2,224,3],[63,2,63,3],[64,2,64,3],[65,2,65,3],[66,2,66,3],[54,2,54,3],[82,2,82,3],[55,2,55,3],[56,2,56,3],[212,2,212,3],[98,2,98,3],[59,2,59,3],[60,2,60,3],[92,2,92,3],[93,2,93,3],[61,2,61,3],[62,2,62,3],[67,2,67,3],[68,2,68,3],[71,2,71,3],[72,2,72,3],[89,2,89,3],[69,2,69,3],[22,2,22,3],[23,2,23,3],[124,2,124,3],[30,2,30,3],[211,2,211,3],[221,2,221,3],[222,2,222,3],[31,2,31,3],[32,2,32,3],[48,2,48,3],[49,2,49,3],[50,2,50,3],[51,2,51,3],[52,2,52,3],[46,2,46,3],[47,2,47,3],[25,2,25,3],[34,2,34,3],[35,2,35,3],[29,2,29,3],[33,2,33,3],[26,2,26,3],[27,2,27,3],[28,2,28,3],[36,2,36,3],[37,2,37,3],[38,2,38,3],[39,2,39,3],[40,2,40,3],[41,2,41,3],[57,2,57,3],[58,2,58,3],[53,2,53,3],[70,2,70,3],[73,2,73,3],[74,2,74,3],[75,2,75,3],[76,2,76,3],[77,2,77,3],[78,2,78,3],[79,2,79,3],[80,2,80,3],[2,22,2,23],[5,7,5,13],[6,7,6,13],[42,2,42,3],[43,2,43,3],[44,2,44,3],[45,2,45,3],[16,17,16,18],[18,9,19,9],[18,8,19,8],[18,10,19,10],[18,11,19,11],[17,17,17,18],[21,1,21,3],[16,16,17,16],[16,4,16,15],[18,4,18,5],[18,6,18,7],[17,2,17,3],[17,4,17,13],[17,14,17,15],[24,2,24,3],[18,12,19,12],[18,1,20,3],[102,2,102,3],[103,2,103,3],[104,2,104,3],[99,2,99,3],[100,2,100,3],[81,2,81,3],[94,2,94,3],[83,2,83,3],[84,2,84,3],[85,2,85,3],[86,2,86,3],[87,2,87,3],[88,2,88,3],[90,2,90,3],[91,2,91,3],[130,2,130,3],[131,2,131,3],[132,2,132,3],[121,2,121,3],[122,2,122,3],[95,2,95,3],[96,2,96,3],[97,2,97,3],[126,2,126,3],[125,2,125,3],[117,2,117,3],[118,2,118,3],[113,2,113,3],[114,2,114,3],[115,2,115,3],[105,2,105,3],[106,2,106,3],[107,2,107,3],[108,2,108,3],[116,2,116,3],[109,2,109,3],[112,2,112,3],[110,2,110,3],[101,2,101,3],[145,2,145,3],[146,2,146,3],[147,2,147,3],[148,2,148,3],[149,2,149,3],[150,2,150,3],[111,2,111,3],[139,2,139,3],[140,2,140,3],[141,2,141,3],[142,2,142,3],[143,2,143,3],[144,2,144,3],[133,2,133,3],[134,2,134,3],[135,2,135,3],[136,2,136,3],[137,2,137,3],[138,2,138,3],[127,2,127,3],[128,2,128,3],[119,2,119,3],[120,2,120,3],[129,2,129,3],[157,2,157,3],[158,2,158,3],[159,2,159,3],[160,2,160,3],[161,2,161,3],[162,2,162,3],[151,2,151,3],[152,2,152,3],[153,2,153,3],[154,2,154,3],[155,2,155,3],[156,2,156,3],[169,2,169,3],[170,2,170,3],[171,2,171,3],[172,2,172,3],[173,2,173,3],[174,2,174,3],[163,2,163,3],[164,2,164,3],[165,2,165,3],[166,2,166,3],[167,2,167,3],[168,2,168,3],[181,2,181,3],[182,2,182,3],[183,2,183,3],[184,2,184,3],[185,2,185,3],[186,2,186,3],[175,2,175,3],[176,2,176,3],[177,2,177,3],[178,2,178,3],[179,2,179,3],[180,2,180,3],[203,2,203,3],[204,2,204,3],[193,2,193,3],[194,2,194,3],[195,2,195,3],[196,2,196,3],[197,2,197,3],[198,2,198,3],[187,2,187,3],[188,2,188,3],[189,2,189,3],[190,2,190,3],[191,2,191,3],[192,2,192,3],[16,20,17,21],[16,23,17,23],[16,22,17,22],[230,1,230,23],[232,1,232,23],[219,2,219,3],[220,2,220,3],[213,2,213,3],[214,2,214,3],[215,2,215,3],[216,2,216,3],[217,2,217,3],[218,2,218,3],[205,2,205,3],[206,2,206,3],[207,2,207,3],[208,2,208,3],[16,19,17,19],[209,2,209,3],[210,2,210,3],[199,2,199,3],[200,2,200,3],[201,2,201,3],[202,2,202,3],[355,22,355,23],[238,7,238,13],[239,7,239,13],[354,1,354,7],[251,22,251,23],[252,22,252,23],[253,22,253,23],[254,22,254,23],[255,22,255,23],[353,22,353,23],[245,22,246,23],[245,20,246,21],[250,1,250,3],[245,4,245,15],[245,16,246,16],[245,17,245,18],[246,2,246,3],[246,4,246,13],[246,14,246,15],[246,17,246,18],[247,1,249,3],[247,4,247,5],[247,9,248,9],[247,10,248,10],[256,22,256,23],[257,22,257,23],[258,22,258,23],[259,22,259,23],[260,22,260,23],[261,22,261,23],[262,22,262,23],[263,22,263,23],[264,22,264,23],[265,22,265,23],[266,22,266,23],[267,22,267,23],[268,22,268,23],[269,22,269,23],[270,22,270,23],[271,22,271,23],[272,22,272,23],[273,22,273,23],[274,22,274,23],[275,22,275,23],[276,22,276,23],[277,22,277,23],[278,22,278,23],[279,22,279,23],[280,22,280,23],[281,22,281,23],[282,22,282,23],[283,22,283,23],[284,22,284,23],[285,22,285,23],[286,22,286,23],[287,22,287,23],[288,22,288,23],[289,22,289,23],[290,22,290,23],[291,22,291,23],[292,22,292,23],[293,22,293,23],[294,22,294,23],[295,22,295,23],[296,22,296,23],[297,22,297,23],[298,22,298,23],[299,22,299,23],[300,22,300,23],[301,22,301,23],[302,22,302,23],[303,22,303,23],[304,22,304,23],[305,22,305,23],[306,22,306,23],[307,22,307,23],[308,22,308,23],[309,22,309,23],[310,22,310,23],[311,22,311,23],[312,22,312,23],[313,22,313,23],[314,22,314,23],[315,22,315,23],[316,22,316,23],[317,22,317,23],[318,22,318,23],[332,22,332,23],[333,22,333,23],[334,22,334,23],[335,22,335,23],[336,22,336,23],[319,22,319,23],[320,22,320,23],[321,22,321,23],[322,22,322,23],[323,22,323,23],[324,22,324,23],[325,22,325,23],[326,22,326,23],[327,22,327,23],[234,1,234,23],[346,22,346,23],[347,22,347,23],[348,22,348,23],[349,22,349,23],[350,22,350,23],[351,22,351,23],[8,1,8,23],[12,1,12,23],[9,1,9,23],[10,1,10,23],[337,22,337,23],[338,22,338,23],[339,22,339,23],[340,22,340,23],[341,22,341,23],[342,22,342,23],[343,22,343,23],[344,22,344,23],[345,22,345,23],[328,22,328,23],[329,22,329,23],[330,22,330,23],[331,22,331,23]]}
[]
[null,{"$f":"Sprache!E138","v":"KZV, Formular C / Neue Massnahmen und Wirtschaftlichkeit"},null,null,null,null,null,null,null,null,null,null,null,null,null,null,null,null,null,null,null,null,null,{"$f":"IF(Titelblatt!$F$7=\"\",\"\",Titelblatt!$F$7)","v":""}]
[null,null,null,null,null,null,null,null,null,null,null,null,null,null,null,null,null,null,null,null,null,null,{"$f":"IF(Titelblatt!$F$32=\"\",\"\",Titelblatt!$F$32)","v":""}]
[]
[]
[null,{"$f":"Sprache!E139","v":"Jahresenergiebezug des Jahres Basisjahr+10 mit HGT-Korr., ungew."},null,null,null,null,null,{"$f":"'Formular B'!J47","v":0},null,null,null,null,null,null," kWh/a",null,null,{"$f":"Sprache!#REF!","v":{"$error":"#REF!"}}]
[null,{"$f":"Sprache!E140","v":"Jahresenergiebezug des Jahres Basisjahr+10 mit HGT-Korr., gewichtet"},null,null,null,null,null,{"$f":"'Formular B'!$K$47*(1+(('Formular B'!$G$30*'Formular B'!$G$31)/100))^'Formular B'!G29","v":0},null,null,null,null,null,null," kWh/a",null,null,{"$f":"Sprache!#REF!","v":{"$error":"#REF!"}},null,null,null,null,null,null,null,null,null,"Pfad auf Beschreibungsblatt"]
[]
[null,{"$f":"Sprache!E141","v":"Gemäss Kanton Basel-Stadt gelten Massnahmen mit einer statischen Paybackdauer von bis zu 8 Jahren (Haustechnik oder Gebäudehülle) beziehungsweise bis zu 4 Jahren (Produktion oder Dienstleistungen) als wirtschaftlich."},null,null,null,null,null,null,null,null,null,null,null,null,null,null,null,null,null,null,null,null,null,null,null,null,null,{"$f":"MID(CELL(\"filename\",A1),FIND(\"[\",CELL(\"filename\",A1)),FIND(\"]\",CELL(\"filename\",A1))-FIND(\"[\",CELL(\"filename\",A1))+1)&\"'\"&blattname_beschreibung_massnahmen&\"'!D\"","v":"[kzv_bs_v2.xlsm]'Beschreibung Massnahmen'!D"}]
[null,{"$f":"Sprache!E143","v":"1) Die prozentualen Einsparungen werden relativ zum prognostizierten Energieverbrauch in 10 Jahren (ausgehend vom Ausgangsjahr) berechnet."}]
[null,{"$f":"Sprache!E144","v":"2) als geplantes Jahr für die Umsetzung sind die nächsten 10 Jahre nach dem Ausgangsjahr zulässig."}]
[null,{"$f":"Sprache!E145","v":"3) Nur der Kostenanteil Energie (KE) der Investition wird für die Berechnung des Paybacks berücksichtigt."}]
[null,{"$f":"Sprache!E146","v":"4)  Wirtschaftliche Massnahmen werden automatisch in die ZV einbezogen und mit \"X\" markiert. Die Felder können aber überschrieben werden, sodass auch unwirtschaftliche Massnahmen einbezogen werden können oder wirtschaftliche Massnahmen nicht einbezogen werden können (für letzteres ist eine Begründung notwendig)."}]
[]
[null,{"$f":"Sprache!E142","v":"C.1 Liste von Massnahmen ab dem Ausgangsjahr, welche zur Zielbildung dienen (es müssen nicht genau diese Massnahmen realisiert werden)"}]
[]
[null,{"$f":"Sprache!E149","v":"Nr."},{"$f":"Sprache!E150","v":"Kurzbeschreibung"},null,{"$f":"Sprache!E151","v":"Energieeinsparung (Endenergie)"},{"$f":"Sprache!I151","v":0},{"$f":"Sprache!J151","v":0},{"$f":"Sprache!K151","v":0},{"$f":"Sprache!L151","v":0},{"$f":"Sprache!M151","v":0},{"$f":"Sprache!N151","v":0},{"$f":"Sprache!O151","v":0},{"$f":"Sprache!P151","v":0},{"$f":"Sprache!Q151","v":0},{"$f":"Sprache!R151","v":0},{"$f":"Sprache!I159","v":0},{"$f":"Sprache!E160","v":"geplante Umsetzung"},{"$f":"Sprache!E161","v":"Energiepreis"},{"$f":"Sprache!L159","v":0},{"$f":"Sprache!E163","v":"Kosten-Einspar."},{"$f":"Sprache!E164","v":"Investitionen"},{"$f":"Sprache!O159","v":0},{"$f":"Sprache!E165","v":"Pay-back"},{"$f":"Sprache!E166","v":"In ZV"}]
[null,null,null,null,{"$f":"Sprache!E152","v":"Ungewichtet"},{"$f":"Sprache!I152","v":0},{"$f":"Sprache!J152","v":0},{"$f":"Sprache!K152","v":0},{"$f":"Sprache!L152","v":0},{"$f":"Sprache!M152","v":0},{"$f":"Sprache!N152","v":0},{"$f":"Sprache!O152","v":0},{"$f":"Sprache!P152","v":0},{"$f":"Sprache!Q152","v":0},{"$f":"Sprache!E159","v":"Gewichtet"},{"$f":"Sprache!I160","v":0},{"$f":"Sprache!J160","v":0},{"$f":"Sprache!E162","v":"(Endenergie)"},{"$f":"Sprache!L160","v":0},null,{"$f":"Sprache!N160","v":0},{"$f":"Sprache!O160","v":0},{"$f":"Sprache!P160","v":0},{"$f":"Sprache!Q160","v":0}]
[null,{"$f":"Sprache!E157","v":"Bedienung: Durch Eingabe eines Textes in der untersten Zeile pro Kategorie, wird jeweils eine neue Zeile eingefügt."},{"$f":"Sprache!F153","v":0},{"$f":"Sprache!G153","v":0},{"$f":"Sprache!E153","v":"Einsparung 1"},{"$f":"Sprache!I153","v":0},{"$f":"Sprache!E154","v":"Einsparung 2"},{"$f":"Sprache!K153","v":0},"Fossile\nBrennst.","Fern-\nwärme","Holz, Bio-\nmasse","Weitere\nBrennst.","Elektr.\nEnergie",{"$f":"Sprache!E158","v":"Total"},{"$f":"N19","v":"Total"},{"$f":"Sprache!E167","v":"Anteil¹⁾"},{"$f":"Sprache!E168","v":"Jahr²⁾"},{"$f":"Sprache!E169","v":"Einspar.1"},{"$f":"Sprache!E170","v":"Einspar.2"},{"$f":"N19","v":"Total"},{"$f":"N19","v":"Total"},{"$f":"Sprache!E171","v":"KE³⁾"},null,{"$f":"Sprache!E172","v":"aufn.⁴⁾"}]
[null,{"$f":"Sprache!#REF!","v":{"$error":"#REF!"}},{"$f":"Sprache!F154","v":0},{"$f":"Sprache!G154","v":0},{"$f":"Sprache!E155","v":"Art"},"[kWh/a]",{"$f":"E20","v":"Art"},"[kWh/a]",null,null,null,null,null,"[kWh/a]","[kWh/a]","[-]","[a]","[Fr./kWh]","[Fr./kWh]","[Fr./a]","[Fr.]","[-]","[a]","[-]"]
[null,{"$f":"Sprache!#REF!","v":{"$error":"#REF!"}},{"$f":"Sprache!F155","v":0},{"$f":"Sprache!G155","v":0},null,"c",null,"d",null,null,null,null,null,"c+d",null,null,null,"f","g","h=c*f+d*g","i","k","i*k/h"]
[null,{"$f":"Sprache!E156","v":"Haustechnikanlagen / Gebäudehülle"},{"$f":"Sprache!F156","v":0},{"$f":"Sprache!G156","v":0},null,null,null,null,null,null,null,null,null,null,null,null,null,null,null,null,null,null,null,null,null,null,"Zeile Beschreibung","Eingabemeldung",null,"Jahr?","in ZV?","Wirtschaftlich?"]
[null,null,null,null,null,null,null,null,{"$f":"IF(OR(E23=Sprache!$C$19,E23=Sprache!$D$19),F23,0)+IF(OR(G23=Sprache!$C$19,G23=Sprache!$D$19),H23,0)+IF(OR(E23=Sprache!$C$20,E23=Sprache!$D$20),F23,0)+IF(OR(G23=Sprache!$C$20,G23=Sprache!$D$20),H23,0)","v":0},{"$f":"IF(OR(E23=Sprache!$C$21,E23=Sprache!$D$21),F23,0)+IF(OR(G23=Sprache!$C$21,G23=Sprache!$D$21),H23,0)","v":0},{"$f":"IF(OR(E23=Sprache!$C$22,E23=Sprache!$D$22),F23,0)+IF(OR(G23=Sprache!$C$22,G23=Sprache!$D$22),H23,0)","v":0},{"$f":"IF(OR(E23=Sprache!$C$23,E23=Sprache!$D$23),F23,0)+IF(OR(G23=Sprache!$C$23,G23=Sprache!$D$23),H23,0)","v":0},{"$f":"IF(OR(E23=Sprache!$C$24,E23=Sprache!$D$24),F23,0)+IF(OR(G23=Sprache!$C$24,G23=Sprache!$D$24),H23,0)","v":0},{"$f":"F23+H23","v":0},{"$f":"GFÖG*I23+GFF*J23+GFH*K23+GFW*L23+GFE*M23","v":0},{"$f":"IFERROR(O23/($H$7-$O$228),\"\")","v":""},null,null,null,{"$f":"(F23*R23)+(H23*S23)","v":0},null,null,{"$f":"IF(T23=0, \"\",U23*V23/T23)","v":""},{"$f":"IF(AF23,\"X\",\"\")","v":""},{"$f":"IF(B23<>\"\",HYPERLINK($AB$9&AA23,Sprache!$E$25 &\" \"&B23),\"\")","v":""},null,{"$f":"ROW(beschreibung_massnahmen_erste_zeile)","v":15},{"$f":"Eingabemeldung(Sprache!$E$18,Sprache!$E$17,'Formular C'!E23)","v":{"$error":"#VALUE!"}},{"$f":"Eingabemeldung(Sprache!$E$18,Sprache!$E$17,'Formular C'!G23)","v":{"$error":"#VALUE!"}},{"$f":"ISNUMBER(Q23)","v":false},{"$f":"IF(X23=\"X\",1,0)","v":0},{"$f":"IF(W23<Parameter!$C$3,1,0)","v":0}]
[null,null,null,null,null,null,null,null,{"$f":"IF(OR(E24=Sprache!$C$19,E24=Sprache!$D$19),F24,0)+IF(OR(G24=Sprache!$C$19,G24=Sprache!$D$19),H24,0)+IF(OR(E24=Sprache!$C$20,E24=Sprache!$D$20),F24,0)+IF(OR(G24=Sprache!$C$20,G24=Sprache!$D$20),H24,0)","v":0},{"$f":"IF(OR(E24=Sprache!$C$21,E24=Sprache!$D$21),F24,0)+IF(OR(G24=Sprache!$C$21,G24=Sprache!$D$21),H24,0)","v":0},{"$f":"IF(OR(E24=Sprache!$C$22,E24=Sprache!$D$22),F24,0)+IF(OR(G24=Sprache!$C$22,G24=Sprache!$D$22),H24,0)","v":0},{"$f":"IF(OR(E24=Sprache!$C$23,E24=Sprache!$D$23),F24,0)+IF(OR(G24=Sprache!$C$23,G24=Sprache!$D$23),H24,0)","v":0},{"$f":"IF(OR(E24=Sprache!$C$24,E24=Sprache!$D$24),F24,0)+IF(OR(G24=Sprache!$C$24,G24=Sprache!$D$24),H24,0)","v":0},0,0,"",null,null,null,0,null,null,{"$f":"IF(T24=0, \"\",U24*V24/T24)","v":""},"",{"$f":"IF(B24<>\"\",HYPERLINK($AB$9&AA24,Sprache!$E$25 &\" \"&B24),\"\")","v":""},null,{"$f":"AA23+1","v":16},{"$f":"Eingabemeldung(Sprache!$E$18,Sprache!$E$17,'Formular C'!E24)","v":{"$error":"#VALUE!"}},{"$f":"Eingabemeldung(Sprache!$E$18,Sprache!$E$17,'Formular C'!G24)","v":{"$error":"#VALUE!"}},{"$f":"ISNUMBER(Q24)","v":false},{"$f":"IF(X24=\"X\",1,0)","v":0},{"$f":"IF(W24<Parameter!$C$3,1,0)","v":0}]
[null,null,null,null,null,null,null,null,{"$f":"IF(OR(E25=Sprache!$C$19,E25=Sprache!$D$19),F25,0)+IF(OR(G25=Sprache!$C$19,G25=Sprache!$D$19),H25,0)+IF(OR(E25=Sprache!$C$20,E25=Sprache!$D$20),F25,0)+IF(OR(G25=Sprache!$C$20,G25=Sprache!$D$20),H25,0)","v":0},{"$f":"IF(OR(E25=Sprache!$C$21,E25=Sprache!$D$21),F25,0)+IF(OR(G25=Sprache!$C$21,G25=Sprache!$D$21),H25,0)","v":0},{"$f":"IF(OR(E25=Sprache!$C$22,E25=Sprache!$D$22),F25,0)+IF(OR(G25=Sprache!$C$22,G25=Sprache!$D$22),H25,0)","v":0},{"$f":"IF(OR(E25=Sprache!$C$23,E25=Sprache!$D$23),F25,0)+IF(OR(G25=Sprache!$C$23,G25=Sprache!$D$23),H25,0)","v":0},{"$f":"IF(OR(E25=Sprache!$C$24,E25=Sprache!$D$24),F25,0)+IF(OR(G25=Sprache!$C$24,G25=Sprache!$D$24),H25,0)","v":0},0,0,"",null,null,null,0,null,null,"","",{"$f":"IF(B25<>\"\",HYPERLINK($AB$9&AA25,Sprache!$E$25 &\" \"&B25),\"\")","v":""},null,{"$f":"AA24+1","v":17},{"$f":"Eingabemeldung(Sprache!$E$18,Sprache!$E$17,'Formular C'!E25)","v":{"$error":"#VALUE!"}},{"$f":"Eingabemeldung(Sprache!$E$18,Sprache!$E$17,'Formular C'!G25)","v":{"$error":"#VALUE!"}},false,0,{"$f":"IF(W25<Parameter!$C$3,1,0)","v":0}]
[null,null,null,null,null,null,null,null,{"$f":"IF(OR(E26=Sprache!$C$19,E26=Sprache!$D$19),F26,0)+IF(OR(G26=Sprache!$C$19,G26=Sprache!$D$19),H26,0)+IF(OR(E26=Sprache!$C$20,E26=Sprache!$D$20),F26,0)+IF(OR(G26=Sprache!$C$20,G26=Sprache!$D$20),H26,0)","v":0},{"$f":"IF(OR(E26=Sprache!$C$21,E26=Sprache!$D$21),F26,0)+IF(OR(G26=Sprache!$C$21,G26=Sprache!$D$21),H26,0)","v":0},{"$f":"IF(OR(E26=Sprache!$C$22,E26=Sprache!$D$22),F26,0)+IF(OR(G26=Sprache!$C$22,G26=Sprache!$D$22),H26,0)","v":0},{"$f":"IF(OR(E26=Sprache!$C$23,E26=Sprache!$D$23),F26,0)+IF(OR(G26=Sprache!$C$23,G26=Sprache!$D$23),H26,0)","v":0},{"$f":"IF(OR(E26=Sprache!$C$24,E26=Sprache!$D$24),F26,0)+IF(OR(G26=Sprache!$C$24,G26=Sprache!$D$24),H26,0)","v":0},0,0,"",null,null,null,0,null,null,"","",{"$f":"IF(B26<>\"\",HYPERLINK($AB$9&AA26,Sprache!$E$25 &\" \"&B26),\"\")","v":""},null,18,{"$f":"Eingabemeldung(Sprache!$E$18,Sprache!$E$17,'Formular C'!E26)","v":{"$error":"#VALUE!"}},{"$f":"Eingabemeldung(Sprache!$E$18,Sprache!$E$17,'Formular C'!G26)","v":{"$error":"#VALUE!"}},false,0,{"$f":"IF(W26<Parameter!$C$3,1,0)","v":0}]
[null,null,null,null,null,null,null,null,{"$f":"IF(OR(E27=Sprache!$C$19,E27=Sprache!$D$19),F27,0)+IF(OR(G27=Sprache!$C$19,G27=Sprache!$D$19),H27,0)+IF(OR(E27=Sprache!$C$20,E27=Sprache!$D$20),F27,0)+IF(OR(G27=Sprache!$C$20,G27=Sprache!$D$20),H27,0)","v":0},{"$f":"IF(OR(E27=Sprache!$C$21,E27=Sprache!$D$21),F27,0)+IF(OR(G27=Sprache!$C$21,G27=Sprache!$D$21),H27,0)","v":0},{"$f":"IF(OR(E27=Sprache!$C$22,E27=Sprache!$D$22),F27,0)+IF(OR(G27=Sprache!$C$22,G27=Sprache!$D$22),H27,0)","v":0},{"$f":"IF(OR(E27=Sprache!$C$23,E27=Sprache!$D$23),F27,0)+IF(OR(G27=Sprache!$C$23,G27=Sprache!$D$23),H27,0)","v":0},{"$f":"IF(OR(E27=Sprache!$C$24,E27=Sprache!$D$24),F27,0)+IF(OR(G27=Sprache!$C$24,G27=Sprache!$D$24),H27,0)","v":0},0,0,"",null,null,null,0,null,null,"","",{"$f":"IF(B27<>\"\",HYPERLINK($AB$9&AA27,Sprache!$E$25 &\" \"&B27),\"\")","v":""},null,19,{"$f":"Eingabemeldung(Sprache!$E$18,Sprache!$E$17,'Formular C'!E27)","v":{"$error":"#VALUE!"}},{"$f":"Eingabemeldung(Sprache!$E$18,Sprache!$E$17,'Formular C'!G27)","v":{"$error":"#VALUE!"}},false,0,{"$f":"IF(W27<Parameter!$C$3,1,0)","v":0}]
[null,null,null,null,null,null,null,null,{"$f":"IF(OR(E28=Sprache!$C$19,E28=Sprache!$D$19),F28,0)+IF(OR(G28=Sprache!$C$19,G28=Sprache!$D$19),H28,0)+IF(OR(E28=Sprache!$C$20,E28=Sprache!$D$20),F28,0)+IF(OR(G28=Sprache!$C$20,G28=Sprache!$D$20),H28,0)","v":0},{"$f":"IF(OR(E28=Sprache!$C$21,E28=Sprache!$D$21),F28,0)+IF(OR(G28=Sprache!$C$21,G28=Sprache!$D$21),H28,0)","v":0},{"$f":"IF(OR(E28=Sprache!$C$22,E28=Sprache!$D$22),F28,0)+IF(OR(G28=Sprache!$C$22,G28=Sprache!$D$22),H28,0)","v":0},{"$f":"IF(OR(E28=Sprache!$C$23,E28=Sprache!$D$23),F28,0)+IF(OR(G28=Sprache!$C$23,G28=Sprache!$D$23),H28,0)","v":0},{"$f":"IF(OR(E28=Sprache!$C$24,E28=Sprache!$D$24),F28,0)+IF(OR(G28=Sprache!$C$24,G28=Sprache!$D$24),H28,0)","v":0},0,0,"",null,null,null,0,null,null,"","",{"$f":"IF(B28<>\"\",HYPERLINK($AB$9&AA28,Sprache!$E$25 &\" \"&B28),\"\")","v":""},null,20,{"$f":"Eingabemeldung(Sprache!$E$18,Sprache!$E$17,'Formular C'!E28)","v":{"$error":"#VALUE!"}},{"$f":"Eingabemeldung(Sprache!$E$18,Sprache!$E$17,'Formular C'!G28)","v":{"$error":"#VALUE!"}},false,0,{"$f":"IF(W28<Parameter!$C$3,1,0)","v":0}]
[null,null,null,null,null,null,null,null,{"$f":"IF(OR(E29=Sprache!$C$19,E29=Sprache!$D$19),F29,0)+IF(OR(G29=Sprache!$C$19,G29=Sprache!$D$19),H29,0)+IF(OR(E29=Sprache!$C$20,E29=Sprache!$D$20),F29,0)+IF(OR(G29=Sprache!$C$20,G29=Sprache!$D$20),H29,0)","v":0},{"$f":"IF(OR(E29=Sprache!$C$21,E29=Sprache!$D$21),F29,0)+IF(OR(G29=Sprache!$C$21,G29=Sprache!$D$21),H29,0)","v":0},{"$f":"IF(OR(E29=Sprache!$C$22,E29=Sprache!$D$22),F29,0)+IF(OR(G29=Sprache!$C$22,G29=Sprache!$D$22),H29,0)","v":0},{"$f":"IF(OR(E29=Sprache!$C$23,E29=Sprache!$D$23),F29,0)+IF(OR(G29=Sprache!$C$23,G29=Sprache!$D$23),H29,0)","v":0},{"$f":"IF(OR(E29=Sprache!$C$24,E29=Sprache!$D$24),F29,0)+IF(OR(G29=Sprache!$C$24,G29=Sprache!$D$24),H29,0)","v":0},0,0,"",null,null,null,0,null,null,"","",{"$f":"IF(B29<>\"\",HYPERLINK($AB$9&AA29,Sprache!$E$25 &\" \"&B29),\"\")","v":""},null,21,{"$f":"Eingabemeldung(Sprache!$E$18,Sprache!$E$17,'Formular C'!E29)","v":{"$error":"#VALUE!"}},{"$f":"Eingabemeldung(Sprache!$E$18,Sprache!$E$17,'Formular C'!G29)","v":{"$error":"#VALUE!"}},false,0,{"$f":"IF(W29<Parameter!$C$3,1,0)","v":0}]
[null,null,null,null,null,null,null,null,{"$f":"IF(OR(E30=Sprache!$C$19,E30=Sprache!$D$19),F30,0)+IF(OR(G30=Sprache!$C$19,G30=Sprache!$D$19),H30,0)+IF(OR(E30=Sprache!$C$20,E30=Sprache!$D$20),F30,0)+IF(OR(G30=Sprache!$C$20,G30=Sprache!$D$20),H30,0)","v":0},{"$f":"IF(OR(E30=Sprache!$C$21,E30=Sprache!$D$21),F30,0)+IF(OR(G30=Sprache!$C$21,G30=Sprache!$D$21),H30,0)","v":0},{"$f":"IF(OR(E30=Sprache!$C$22,E30=Sprache!$D$22),F30,0)+IF(OR(G30=Sprache!$C$22,G30=Sprache!$D$22),H30,0)","v":0},{"$f":"IF(OR(E30=Sprache!$C$23,E30=Sprache!$D$23),F30,0)+IF(OR(G30=Sprache!$C$23,G30=Sprache!$D$23),H30,0)","v":0},{"$f":"IF(OR(E30=Sprache!$C$24,E30=Sprache!$D$24),F30,0)+IF(OR(G30=Sprache!$C$24,G30=Sprache!$D$24),H30,0)","v":0},0,0,"",null,null,null,0,null,null,"","",{"$f":"IF(B30<>\"\",HYPERLINK($AB$9&AA30,Sprache!$E$25 &\" \"&B30),\"\")","v":""},null,22,{"$f":"Eingabemeldung(Sprache!$E$18,Sprache!$E$17,'Formular C'!E30)","v":{"$error":"#VALUE!"}},{"$f":"Eingabemeldung(Sprache!$E$18,Sprache!$E$17,'Formular C'!G30)","v":{"$error":"#VALUE!"}},false,0,{"$f":"IF(W30<Parameter!$C$3,1,0)","v":0}]
[null,null,null,null,null,null,null,null,{"$f":"IF(OR(E31=Sprache!$C$19,E31=Sprache!$D$19),F31,0)+IF(OR(G31=Sprache!$C$19,G31=Sprache!$D$19),H31,0)+IF(OR(E31=Sprache!$C$20,E31=Sprache!$D$20),F31,0)+IF(OR(G31=Sprache!$C$20,G31=Sprache!$D$20),H31,0)","v":0},{"$f":"IF(OR(E31=Sprache!$C$21,E31=Sprache!$D$21),F31,0)+IF(OR(G31=Sprache!$C$21,G31=Sprache!$D$21),H31,0)","v":0},{"$f":"IF(OR(E31=Sprache!$C$22,E31=Sprache!$D$22),F31,0)+IF(OR(G31=Sprache!$C$22,G31=Sprache!$D$22),H31,0)","v":0},{"$f":"IF(OR(E31=Sprache!$C$23,E31=Sprache!$D$23),F31,0)+IF(OR(G31=Sprache!$C$23,G31=Sprache!$D$23),H31,0)","v":0},{"$f":"IF(OR(E31=Sprache!$C$24,E31=Sprache!$D$24),F31,0)+IF(OR(G31=Sprache!$C$24,G31=Sprache!$D$24),H31,0)","v":0},0,0,"",null,null,null,0,null,null,"","",{"$f":"IF(B31<>\"\",HYPERLINK($AB$9&AA31,Sprache!$E$25 &\" \"&B31),\"\")","v":""},null,23,{"$f":"Eingabemeldung(Sprache!$E$18,Sprache!$E$17,'Formular C'!E31)","v":{"$error":"#VALUE!"}},{"$f":"Eingabemeldung(Sprache!$E$18,Sprache!$E$17,'Formular C'!G31)","v":{"$error":"#VALUE!"}},false,0,{"$f":"IF(W31<Parameter!$C$3,1,0)","v":0}]
[null,null,null,null,null,null,null,null,{"$f":"IF(OR(E32=Sprache!$C$19,E32=Sprache!$D$19),F32,0)+IF(OR(G32=Sprache!$C$19,G32=Sprache!$D$19),H32,0)+IF(OR(E32=Sprache!$C$20,E32=Sprache!$D$20),F32,0)+IF(OR(G32=Sprache!$C$20,G32=Sprache!$D$20),H32,0)","v":0},{"$f":"IF(OR(E32=Sprache!$C$21,E32=Sprache!$D$21),F32,0)+IF(OR(G32=Sprache!$C$21,G32=Sprache!$D$21),H32,0)","v":0},{"$f":"IF(OR(E32=Sprache!$C$22,E32=Sprache!$D$22),F32,0)+IF(OR(G32=Sprache!$C$22,G32=Sprache!$D$22),H32,0)","v":0},{"$f":"IF(OR(E32=Sprache!$C$23,E32=Sprache!$D$23),F32,0)+IF(OR(G32=Sprache!$C$23,G32=Sprache!$D$23),H32,0)","v":0},{"$f":"IF(OR(E32=Sprache!$C$24,E32=Sprache!$D$24),F32,0)+IF(OR(G32=Sprache!$C$24,G32=Sprache!$D$24),H32,0)","v":0},0,0,"",null,null,null,0,null,null,"","",{"$f":"IF(B32<>\"\",HYPERLINK($AB$9&AA32,Sprache!$E$25 &\" \"&B32),\"\")","v":""},null,24,{"$f":"Eingabemeldung(Sprache!$E$18,Sprache!$E$17,'Formular C'!E32)","v":{"$error":"#VALUE!"}},{"$f":"Eingabemeldung(Sprache!$E$18,Sprache!$E$17,'Formular C'!G32)","v":{"$error":"#VALUE!"}},false,0,{"$f":"IF(W32<Parameter!$C$3,1,0)","v":0}]
[null,null,null,null,null,null,null,null,{"$f":"IF(OR(E33=Sprache!$C$19,E33=Sprache!$D$19),F33,0)+IF(OR(G33=Sprache!$C$19,G33=Sprache!$D$19),H33,0)+IF(OR(E33=Sprache!$C$20,E33=Sprache!$D$20),F33,0)+IF(OR(G33=Sprache!$C$20,G33=Sprache!$D$20),H33,0)","v":0},{"$f":"IF(OR(E33=Sprache!$C$21,E33=Sprache!$D$21),F33,0)+IF(OR(G33=Sprache!$C$21,G33=Sprache!$D$21),H33,0)","v":0},{"$f":"IF(OR(E33=Sprache!$C$22,E33=Sprache!$D$22),F33,0)+IF(OR(G33=Sprache!$C$22,G33=Sprache!$D$22),H33,0)","v":0},{"$f":"IF(OR(E33=Sprache!$C$23,E33=Sprache!$D$23),F33,0)+IF(OR(G33=Sprache!$C$23,G33=Sprache!$D$23),H33,0)","v":0},{"$f":"IF(OR(E33=Sprache!$C$24,E33=Sprache!$D$24),F33,0)+IF(OR(G33=Sprache!$C$24,G33=Sprache!$D$24),H33,0)","v":0},0,0,"",null,null,null,0,null,null,"","",{"$f":"IF(B33<>\"\",HYPERLINK($AB$9&AA33,Sprache!$E$25 &\" \"&B33),\"\")","v":""},null,25,{"$f":"Eingabemeldung(Sprache!$E$18,Sprache!$E$17,'Formular C'!E33)","v":{"$error":"#VALUE!"}},{"$f":"Eingabemeldung(Sprache!$E$18,Sprache!$E$17,'Formular C'!G33)","v":{"$error":"#VALUE!"}},false,0,{"$f":"IF(W33<Parameter!$C$3,1,0)","v":0}]
[null,null,null,null,null,null,null,null,{"$f":"IF(OR(E34=Sprache!$C$19,E34=Sprache!$D$19),F34,0)+IF(OR(G34=Sprache!$C$19,G34=Sprache!$D$19),H34,0)+IF(OR(E34=Sprache!$C$20,E34=Sprache!$D$20),F34,0)+IF(OR(G34=Sprache!$C$20,G34=Sprache!$D$20),H34,0)","v":0},{"$f":"IF(OR(E34=Sprache!$C$21,E34=Sprache!$D$21),F34,0)+IF(OR(G34=Sprache!$C$21,G34=Sprache!$D$21),H34,0)","v":0},{"$f":"IF(OR(E34=Sprache!$C$22,E34=Sprache!$D$22),F34,0)+IF(OR(G34=Sprache!$C$22,G34=Sprache!$D$22),H34,0)","v":0},{"$f":"IF(OR(E34=Sprache!$C$23,E34=Sprache!$D$23),F34,0)+IF(OR(G34=Sprache!$C$23,G34=Sprache!$D$23),H34,0)","v":0},{"$f":"IF(OR(E34=Sprache!$C$24,E34=Sprache!$D$24),F34,0)+IF(OR(G34=Sprache!$C$24,G34=Sprache!$D$24),H34,0)","v":0},0,0,"",null,null,null,0,null,null,"","",{"$f":"IF(B34<>\"\",HYPERLINK($AB$9&AA34,Sprache!$E$25 &\" \"&B34),\"\")","v":""},null,26,{"$f":"Eingabemeldung(Sprache!$E$18,Sprache!$E$17,'Formular C'!E34)","v":{"$error":"#VALUE!"}},{"$f":"Eingabemeldung(Sprache!$E$18,Sprache!$E$17,'Formular C'!G34)","v":{"$error":"#VALUE!"}},false,0,{"$f":"IF(W34<Parameter!$C$3,1,0)","v":0}]
[null,null,null,null,null,null,null,null,{"$f":"IF(OR(E35=Sprache!$C$19,E35=Sprache!$D$19),F35,0)+IF(OR(G35=Sprache!$C$19,G35=Sprache!$D$19),H35,0)+IF(OR(E35=Sprache!$C$20,E35=Sprache!$D$20),F35,0)+IF(OR(G35=Sprache!$C$20,G35=Sprache!$D$20),H35,0)","v":0},{"$f":"IF(OR(E35=Sprache!$C$21,E35=Sprache!$D$21),F35,0)+IF(OR(G35=Sprache!$C$21,G35=Sprache!$D$21),H35,0)","v":0},{"$f":"IF(OR(E35=Sprache!$C$22,E35=Sprache!$D$22),F35,0)+IF(OR(G35=Sprache!$C$22,G35=Sprache!$D$22),H35,0)","v":0},{"$f":"IF(OR(E35=Sprache!$C$23,E35=Sprache!$D$23),F35,0)+IF(OR(G35=Sprache!$C$23,G35=Sprache!$D$23),H35,0)","v":0},{"$f":"IF(OR(E35=Sprache!$C$24,E35=Sprache!$D$24),F35,0)+IF(OR(G35=Sprache!$C$24,G35=Sprache!$D$24),H35,0)","v":0},0,0,"",null,null,null,0,null,null,"","",{"$f":"IF(B35<>\"\",HYPERLINK($AB$9&AA35,Sprache!$E$25 &\" \"&B35),\"\")","v":""},null,27,{"$f":"Eingabemeldung(Sprache!$E$18,Sprache!$E$17,'Formular C'!E35)","v":{"$error":"#VALUE!"}},{"$f":"Eingabemeldung(Sprache!$E$18,Sprache!$E$17,'Formular C'!G35)","v":{"$error":"#VALUE!"}},false,0,{"$f":"IF(W35<Parameter!$C$3,1,0)","v":0}]
[null,null,null,null,null,null,null,null,{"$f":"IF(OR(E36=Sprache!$C$19,E36=Sprache!$D$19),F36,0)+IF(OR(G36=Sprache!$C$19,G36=Sprache!$D$19),H36,0)+IF(OR(E36=Sprache!$C$20,E36=Sprache!$D$20),F36,0)+IF(OR(G36=Sprache!$C$20,G36=Sprache!$D$20),H36,0)","v":0},{"$f":"IF(OR(E36=Sprache!$C$21,E36=Sprache!$D$21),F36,0)+IF(OR(G36=Sprache!$C$21,G36=Sprache!$D$21),H36,0)","v":0},{"$f":"IF(OR(E36=Sprache!$C$22,E36=Sprache!$D$22),F36,0)+IF(OR(G36=Sprache!$C$22,G36=Sprache!$D$22),H36,0)","v":0},{"$f":"IF(OR(E36=Sprache!$C$23,E36=Sprache!$D$23),F36,0)+IF(OR(G36=Sprache!$C$23,G36=Sprache!$D$23),H36,0)","v":0},{"$f":"IF(OR(E36=Sprache!$C$24,E36=Sprache!$D$24),F36,0)+IF(OR(G36=Sprache!$C$24,G36=Sprache!$D$24),H36,0)","v":0},0,0,"",null,null,null,0,null,null,"","",{"$f":"IF(B36<>\"\",HYPERLINK($AB$9&AA36,Sprache!$E$25 &\" \"&B36),\"\")","v":""},null,28,{"$f":"Eingabemeldung(Sprache!$E$18,Sprache!$E$17,'Formular C'!E36)","v":{"$error":"#VALUE!"}},{"$f":"Eingabemeldung(Sprache!$E$18,Sprache!$E$17,'Formular C'!G36)","v":{"$error":"#VALUE!"}},false,0,{"$f":"IF(W36<Parameter!$C$3,1,0)","v":0}]
[null,null,null,null,null,null,null,null,{"$f":"IF(OR(E37=Sprache!$C$19,E37=Sprache!$D$19),F37,0)+IF(OR(G37=Sprache!$C$19,G37=Sprache!$D$19),H37,0)+IF(OR(E37=Sprache!$C$20,E37=Sprache!$D$20),F37,0)+IF(OR(G37=Sprache!$C$20,G37=Sprache!$D$20),H37,0)","v":0},{"$f":"IF(OR(E37=Sprache!$C$21,E37=Sprache!$D$21),F37,0)+IF(OR(G37=Sprache!$C$21,G37=Sprache!$D$21),H37,0)","v":0},{"$f":"IF(OR(E37=Sprache!$C$22,E37=Sprache!$D$22),F37,0)+IF(OR(G37=Sprache!$C$22,G37=Sprache!$D$22),H37,0)","v":0},{"$f":"IF(OR(E37=Sprache!$C$23,E37=Sprache!$D$23),F37,0)+IF(OR(G37=Sprache!$C$23,G37=Sprache!$D$23),H37,0)","v":0},{"$f":"IF(OR(E37=Sprache!$C$24,E37=Sprache!$D$24),F37,0)+IF(OR(G37=Sprache!$C$24,G37=Sprache!$D$24),H37,0)","v":0},0,0,"",null,null,null,0,null,null,"","",{"$f":"IF(B37<>\"\",HYPERLINK($AB$9&AA37,Sprache!$E$25 &\" \"&B37),\"\")","v":""},null,29,{"$f":"Eingabemeldung(Sprache!$E$18,Sprache!$E$17,'Formular C'!E37)","v":{"$error":"#VALUE!"}},{"$f":"Eingabemeldung(Sprache!$E$18,Sprache!$E$17,'Formular C'!G37)","v":{"$error":"#VALUE!"}},false,0,{"$f":"IF(W37<Parameter!$C$3,1,0)","v":0}]
[null,null,null,null,null,null,null,null,{"$f":"IF(OR(E38=Sprache!$C$19,E38=Sprache!$D$19),F38,0)+IF(OR(G38=Sprache!$C$19,G38=Sprache!$D$19),H38,0)+IF(OR(E38=Sprache!$C$20,E38=Sprache!$D$20),F38,0)+IF(OR(G38=Sprache!$C$20,G38=Sprache!$D$20),H38,0)","v":0},{"$f":"IF(OR(E38=Sprache!$C$21,E38=Sprache!$D$21),F38,0)+IF(OR(G38=Sprache!$C$21,G38=Sprache!$D$21),H38,0)","v":0},{"$f":"IF(OR(E38=Sprache!$C$22,E38=Sprache!$D$22),F38,0)+IF(OR(G38=Sprache!$C$22,G38=Sprache!$D$22),H38,0)","v":0},{"$f":"IF(OR(E38=Sprache!$C$23,E38=Sprache!$D$23),F38,0)+IF(OR(G38=Sprache!$C$23,G38=Sprache!$D$23),H38,0)","v":0},{"$f":"IF(OR(E38=Sprache!$C$24,E38=Sprache!$D$24),F38,0)+IF(OR(G38=Sprache!$C$24,G38=Sprache!$D$24),H38,0)","v":0},0,0,"",null,null,null,0,null,null,"","",{"$f":"IF(B38<>\"\",HYPERLINK($AB$9&AA38,Sprache!$E$25 &\" \"&B38),\"\")","v":""},null,30,{"$f":"Eingabemeldung(Sprache!$E$18,Sprache!$E$17,'Formular C'!E38)","v":{"$error":"#VALUE!"}},{"$f":"Eingabemeldung(Sprache!$E$18,Sprache!$E$17,'Formular C'!G38)","v":{"$error":"#VALUE!"}},false,0,{"$f":"IF(W38<Parameter!$C$3,1,0)","v":0}]
[null,null,null,null,null,null,null,null,{"$f":"IF(OR(E39=Sprache!$C$19,E39=Sprache!$D$19),F39,0)+IF(OR(G39=Sprache!$C$19,G39=Sprache!$D$19),H39,0)+IF(OR(E39=Sprache!$C$20,E39=Sprache!$D$20),F39,0)+IF(OR(G39=Sprache!$C$20,G39=Sprache!$D$20),H39,0)","v":0},{"$f":"IF(OR(E39=Sprache!$C$21,E39=Sprache!$D$21),F39,0)+IF(OR(G39=Sprache!$C$21,G39=Sprache!$D$21),H39,0)","v":0},{"$f":"IF(OR(E39=Sprache!$C$22,E39=Sprache!$D$22),F39,0)+IF(OR(G39=Sprache!$C$22,G39=Sprache!$D$22),H39,0)","v":0},{"$f":"IF(OR(E39=Sprache!$C$23,E39=Sprache!$D$23),F39,0)+IF(OR(G39=Sprache!$C$23,G39=Sprache!$D$23),H39,0)","v":0},{"$f":"IF(OR(E39=Sprache!$C$24,E39=Sprache!$D$24),F39,0)+IF(OR(G39=Sprache!$C$24,G39=Sprache!$D$24),H39,0)","v":0},0,0,"",null,null,null,0,null,null,"","",{"$f":"IF(B39<>\"\",HYPERLINK($AB$9&AA39,Sprache!$E$25 &\" \"&B39),\"\")","v":""},null,31,{"$f":"Eingabemeldung(Sprache!$E$18,Sprache!$E$17,'Formular C'!E39)","v":{"$error":"#VALUE!"}},{"$f":"Eingabemeldung(Sprache!$E$18,Sprache!$E$17,'Formular C'!G39)","v":{"$error":"#VALUE!"}},false,0,{"$f":"IF(W39<Parameter!$C$3,1,0)","v":0}]
[null,null,null,null,null,null,null,null,{"$f":"IF(OR(E40=Sprache!$C$19,E40=Sprache!$D$19),F40,0)+IF(OR(G40=Sprache!$C$19,G40=Sprache!$D$19),H40,0)+IF(OR(E40=Sprache!$C$20,E40=Sprache!$D$20),F40,0)+IF(OR(G40=Sprache!$C$20,G40=Sprache!$D$20),H40,0)","v":0},{"$f":"IF(OR(E40=Sprache!$C$21,E40=Sprache!$D$21),F40,0)+IF(OR(G40=Sprache!$C$21,G40=Sprache!$D$21),H40,0)","v":0},{"$f":"IF(OR(E40=Sprache!$C$22,E40=Sprache!$D$22),F40,0)+IF(OR(G40=Sprache!$C$22,G40=Sprache!$D$22),H40,0)","v":0},{"$f":"IF(OR(E40=Sprache!$C$23,E40=Sprache!$D$23),F40,0)+IF(OR(G40=Sprache!$C$23,G40=Sprache!$D$23),H40,0)","v":0},{"$f":"IF(OR(E40=Sprache!$C$24,E40=Sprache!$D$24),F40,0)+IF(OR(G40=Sprache!$C$24,G40=Sprache!$D$24),H40,0)","v":0},0,0,"",null,null,null,0,null,null,"","",{"$f":"IF(B40<>\"\",HYPERLINK($AB$9&AA40,Sprache!$E$25 &\" \"&B40),\"\")","v":""},null,32,{"$f":"Eingabemeldung(Sprache!$E$18,Sprache!$E$17,'Formular C'!E40)","v":{"$error":"#VALUE!"}},{"$f":"Eingabemeldung(Sprache!$E$18,Sprache!$E$17,'Formular C'!G40)","v":{"$error":"#VALUE!"}},false,0,{"$f":"IF(W40<Parameter!$C$3,1,0)","v":0}]
[null,null,null,null,null,null,null,null,{"$f":"IF(OR(E41=Sprache!$C$19,E41=Sprache!$D$19),F41,0)+IF(OR(G41=Sprache!$C$19,G41=Sprache!$D$19),H41,0)+IF(OR(E41=Sprache!$C$20,E41=Sprache!$D$20),F41,0)+IF(OR(G41=Sprache!$C$20,G41=Sprache!$D$20),H41,0)","v":0},{"$f":"IF(OR(E41=Sprache!$C$21,E41=Sprache!$D$21),F41,0)+IF(OR(G41=Sprache!$C$21,G41=Sprache!$D$21),H41,0)","v":0},{"$f":"IF(OR(E41=Sprache!$C$22,E41=Sprache!$D$22),F41,0)+IF(OR(G41=Sprache!$C$22,G41=Sprache!$D$22),H41,0)","v":0},{"$f":"IF(OR(E41=Sprache!$C$23,E41=Sprache!$D$23),F41,0)+IF(OR(G41=Sprache!$C$23,G41=Sprache!$D$23),H41,0)","v":0},{"$f":"IF(OR(E41=Sprache!$C$24,E41=Sprache!$D$24),F41,0)+IF(OR(G41=Sprache!$C$24,G41=Sprache!$D$24),H41,0)","v":0},0,0,"",null,null,null,0,null,null,"","",{"$f":"IF(B41<>\"\",HYPERLINK($AB$9&AA41,Sprache!$E$25 &\" \"&B41),\"\")","v":""},null,33,{"$f":"Eingabemeldung(Sprache!$E$18,Sprache!$E$17,'Formular C'!E41)","v":{"$error":"#VALUE!"}},{"$f":"Eingabemeldung(Sprache!$E$18,Sprache!$E$17,'Formular C'!G41)","v":{"$error":"#VALUE!"}},false,0,{"$f":"IF(W41<Parameter!$C$3,1,0)","v":0}]
[null,null,null,null,null,null,null,null,{"$f":"IF(OR(E42=Sprache!$C$19,E42=Sprache!$D$19),F42,0)+IF(OR(G42=Sprache!$C$19,G42=Sprache!$D$19),H42,0)+IF(OR(E42=Sprache!$C$20,E42=Sprache!$D$20),F42,0)+IF(OR(G42=Sprache!$C$20,G42=Sprache!$D$20),H42,0)","v":0},{"$f":"IF(OR(E42=Sprache!$C$21,E42=Sprache!$D$21),F42,0)+IF(OR(G42=Sprache!$C$21,G42=Sprache!$D$21),H42,0)","v":0},{"$f":"IF(OR(E42=Sprache!$C$22,E42=Sprache!$D$22),F42,0)+IF(OR(G42=Sprache!$C$22,G42=Sprache!$D$22),H42,0)","v":0},{"$f":"IF(OR(E42=Sprache!$C$23,E42=Sprache!$D$23),F42,0)+IF(OR(G42=Sprache!$C$23,G42=Sprache!$D$23),H42,0)","v":0},{"$f":"IF(OR(E42=Sprache!$C$24,E42=Sprache!$D$24),F42,0)+IF(OR(G42=Sprache!$C$24,G42=Sprache!$D$24),H42,0)","v":0},0,0,"",null,null,null,0,null,null,"","",{"$f":"IF(B42<>\"\",HYPERLINK($AB$9&AA42,Sprache!$E$25 &\" \"&B42),\"\")","v":""},null,34,{"$f":"Eingabemeldung(Sprache!$E$18,Sprache!$E$17,'Formular C'!E42)","v":{"$error":"#VALUE!"}},{"$f":"Eingabemeldung(Sprache!$E$18,Sprache!$E$17,'Formular C'!G42)","v":{"$error":"#VALUE!"}},false,0,{"$f":"IF(W42<Parameter!$C$3,1,0)","v":0}]
[null,null,null,null,null,null,null,null,{"$f":"IF(OR(E43=Sprache!$C$19,E43=Sprache!$D$19),F43,0)+IF(OR(G43=Sprache!$C$19,G43=Sprache!$D$19),H43,0)+IF(OR(E43=Sprache!$C$20,E43=Sprache!$D$20),F43,0)+IF(OR(G43=Sprache!$C$20,G43=Sprache!$D$20),H43,0)","v":0},{"$f":"IF(OR(E43=Sprache!$C$21,E43=Sprache!$D$21),F43,0)+IF(OR(G43=Sprache!$C$21,G43=Sprache!$D$21),H43,0)","v":0},{"$f":"IF(OR(E43=Sprache!$C$22,E43=Sprache!$D$22),F43,0)+IF(OR(G43=Sprache!$C$22,G43=Sprache!$D$22),H43,0)","v":0},{"$f":"IF(OR(E43=Sprache!$C$23,E43=Sprache!$D$23),F43,0)+IF(OR(G43=Sprache!$C$23,G43=Sprache!$D$23),H43,0)","v":0},{"$f":"IF(OR(E43=Sprache!$C$24,E43=Sprache!$D$24),F43,0)+IF(OR(G43=Sprache!$C$24,G43=Sprache!$D$24),H43,0)","v":0},0,0,"",null,null,null,0,null,null,"","",{"$f":"IF(B43<>\"\",HYPERLINK($AB$9&AA43,Sprache!$E$25 &\" \"&B43),\"\")","v":""},null,35,{"$f":"Eingabemeldung(Sprache!$E$18,Sprache!$E$17,'Formular C'!E43)","v":{"$error":"#VALUE!"}},{"$f":"Eingabemeldung(Sprache!$E$18,Sprache!$E$17,'Formular C'!G43)","v":{"$error":"#VALUE!"}},false,0,{"$f":"IF(W43<Parameter!$C$3,1,0)","v":0}]
[null,null,null,null,null,null,null,null,{"$f":"IF(OR(E44=Sprache!$C$19,E44=Sprache!$D$19),F44,0)+IF(OR(G44=Sprache!$C$19,G44=Sprache!$D$19),H44,0)+IF(OR(E44=Sprache!$C$20,E44=Sprache!$D$20),F44,0)+IF(OR(G44=Sprache!$C$20,G44=Sprache!$D$20),H44,0)","v":0},{"$f":"IF(OR(E44=Sprache!$C$21,E44=Sprache!$D$21),F44,0)+IF(OR(G44=Sprache!$C$21,G44=Sprache!$D$21),H44,0)","v":0},{"$f":"IF(OR(E44=Sprache!$C$22,E44=Sprache!$D$22),F44,0)+IF(OR(G44=Sprache!$C$22,G44=Sprache!$D$22),H44,0)","v":0},{"$f":"IF(OR(E44=Sprache!$C$23,E44=Sprache!$D$23),F44,0)+IF(OR(G44=Sprache!$C$23,G44=Sprache!$D$23),H44,0)","v":0},{"$f":"IF(OR(E44=Sprache!$C$24,E44=Sprache!$D$24),F44,0)+IF(OR(G44=Sprache!$C$24,G44=Sprache!$D$24),H44,0)","v":0},0,0,"",null,null,null,0,null,null,"","",{"$f":"IF(B44<>\"\",HYPERLINK($AB$9&AA44,Sprache!$E$25 &\" \"&B44),\"\")","v":""},null,36,{"$f":"Eingabemeldung(Sprache!$E$18,Sprache!$E$17,'Formular C'!E44)","v":{"$error":"#VALUE!"}},{"$f":"Eingabemeldung(Sprache!$E$18,Sprache!$E$17,'Formular C'!G44)","v":{"$error":"#VALUE!"}},false,0,{"$f":"IF(W44<Parameter!$C$3,1,0)","v":0}]
[null,null,null,null,null,null,null,null,{"$f":"IF(OR(E45=Sprache!$C$19,E45=Sprache!$D$19),F45,0)+IF(OR(G45=Sprache!$C$19,G45=Sprache!$D$19),H45,0)+IF(OR(E45=Sprache!$C$20,E45=Sprache!$D$20),F45,0)+IF(OR(G45=Sprache!$C$20,G45=Sprache!$D$20),H45,0)","v":0},{"$f":"IF(OR(E45=Sprache!$C$21,E45=Sprache!$D$21),F45,0)+IF(OR(G45=Sprache!$C$21,G45=Sprache!$D$21),H45,0)","v":0},{"$f":"IF(OR(E45=Sprache!$C$22,E45=Sprache!$D$22),F45,0)+IF(OR(G45=Sprache!$C$22,G45=Sprache!$D$22),H45,0)","v":0},{"$f":"IF(OR(E45=Sprache!$C$23,E45=Sprache!$D$23),F45,0)+IF(OR(G45=Sprache!$C$23,G45=Sprache!$D$23),H45,0)","v":0},{"$f":"IF(OR(E45=Sprache!$C$24,E45=Sprache!$D$24),F45,0)+IF(OR(G45=Sprache!$C$24,G45=Sprache!$D$24),H45,0)","v":0},0,0,"",null,null,null,0,null,null,"","",{"$f":"IF(B45<>\"\",HYPERLINK($AB$9&AA45,Sprache!$E$25 &\" \"&B45),\"\")","v":""},null,37,{"$f":"Eingabemeldung(Sprache!$E$18,Sprache!$E$17,'Formular C'!E45)","v":{"$error":"#VALUE!"}},{"$f":"Eingabemeldung(Sprache!$E$18,Sprache!$E$17,'Formular C'!G45)","v":{"$error":"#VALUE!"}},false,0,{"$f":"IF(W45<Parameter!$C$3,1,0)","v":0}]
[null,null,null,null,null,null,null,null,{"$f":"IF(OR(E46=Sprache!$C$19,E46=Sprache!$D$19),F46,0)+IF(OR(G46=Sprache!$C$19,G46=Sprache!$D$19),H46,0)+IF(OR(E46=Sprache!$C$20,E46=Sprache!$D$20),F46,0)+IF(OR(G46=Sprache!$C$20,G46=Sprache!$D$20),H46,0)","v":0},{"$f":"IF(OR(E46=Sprache!$C$21,E46=Sprache!$D$21),F46,0)+IF(OR(G46=Sprache!$C$21,G46=Sprache!$D$21),H46,0)","v":0},{"$f":"IF(OR(E46=Sprache!$C$22,E46=Sprache!$D$22),F46,0)+IF(OR(G46=Sprache!$C$22,G46=Sprache!$D$22),H46,0)","v":0},{"$f":"IF(OR(E46=Sprache!$C$23,E46=Sprache!$D$23),F46,0)+IF(OR(G46=Sprache!$C$23,G46=Sprache!$D$23),H46,0)","v":0},{"$f":"IF(OR(E46=Sprache!$C$24,E46=Sprache!$D$24),F46,0)+IF(OR(G46=Sprache!$C$24,G46=Sprache!$D$24),H46,0)","v":0},0,0,"",null,null,null,0,null,null,"","",{"$f":"IF(B46<>\"\",HYPERLINK($AB$9&AA46,Sprache!$E$25 &\" \"&B46),\"\")","v":""},null,38,{"$f":"Eingabemeldung(Sprache!$E$18,Sprache!$E$17,'Formular C'!E46)","v":{"$error":"#VALUE!"}},{"$f":"Eingabemeldung(Sprache!$E$18,Sprache!$E$17,'Formular C'!G46)","v":{"$error":"#VALUE!"}},false,0,{"$f":"IF(W46<Parameter!$C$3,1,0)","v":0}]
[null,null,null,null,null,null,null,null,{"$f":"IF(OR(E47=Sprache!$C$19,E47=Sprache!$D$19),F47,0)+IF(OR(G47=Sprache!$C$19,G47=Sprache!$D$19),H47,0)+IF(OR(E47=Sprache!$C$20,E47=Sprache!$D$20),F47,0)+IF(OR(G47=Sprache!$C$20,G47=Sprache!$D$20),H47,0)","v":0},{"$f":"IF(OR(E47=Sprache!$C$21,E47=Sprache!$D$21),F47,0)+IF(OR(G47=Sprache!$C$21,G47=Sprache!$D$21),H47,0)","v":0},{"$f":"IF(OR(E47=Sprache!$C$22,E47=Sprache!$D$22),F47,0)+IF(OR(G47=Sprache!$C$22,G47=Sprache!$D$22),H47,0)","v":0},{"$f":"IF(OR(E47=Sprache!$C$23,E47=Sprache!$D$23),F47,0)+IF(OR(G47=Sprache!$C$23,G47=Sprache!$D$23),H47,0)","v":0},{"$f":"IF(OR(E47=Sprache!$C$24,E47=Sprache!$D$24),F47,0)+IF(OR(G47=Sprache!$C$24,G47=Sprache!$D$24),H47,0)","v":0},0,0,"",null,null,null,0,null,null,"","",{"$f":"IF(B47<>\"\",HYPERLINK($AB$9&AA47,Sprache!$E$25 &\" \"&B47),\"\")","v":""},null,39,{"$f":"Eingabemeldung(Sprache!$E$18,Sprache!$E$17,'Formular C'!E47)","v":{"$error":"#VALUE!"}},{"$f":"Eingabemeldung(Sprache!$E$18,Sprache!$E$17,'Formular C'!G47)","v":{"$error":"#VALUE!"}},false,0,{"$f":"IF(W47<Parameter!$C$3,1,0)","v":0}]
[null,null,null,null,null,null,null,null,{"$f":"IF(OR(E48=Sprache!$C$19,E48=Sprache!$D$19),F48,0)+IF(OR(G48=Sprache!$C$19,G48=Sprache!$D$19),H48,0)+IF(OR(E48=Sprache!$C$20,E48=Sprache!$D$20),F48,0)+IF(OR(G48=Sprache!$C$20,G48=Sprache!$D$20),H48,0)","v":0},{"$f":"IF(OR(E48=Sprache!$C$21,E48=Sprache!$D$21),F48,0)+IF(OR(G48=Sprache!$C$21,G48=Sprache!$D$21),H48,0)","v":0},{"$f":"IF(OR(E48=Sprache!$C$22,E48=Sprache!$D$22),F48,0)+IF(OR(G48=Sprache!$C$22,G48=Sprache!$D$22),H48,0)","v":0},{"$f":"IF(OR(E48=Sprache!$C$23,E48=Sprache!$D$23),F48,0)+IF(OR(G48=Sprache!$C$23,G48=Sprache!$D$23),H48,0)","v":0},{"$f":"IF(OR(E48=Sprache!$C$24,E48=Sprache!$D$24),F48,0)+IF(OR(G48=Sprache!$C$24,G48=Sprache!$D$24),H48,0)","v":0},0,0,"",null,null,null,0,null,null,"","",{"$f":"IF(B48<>\"\",HYPERLINK($AB$9&AA48,Sprache!$E$25 &\" \"&B48),\"\")","v":""},null,40,{"$f":"Eingabemeldung(Sprache!$E$18,Sprache!$E$17,'Formular C'!E48)","v":{"$error":"#VALUE!"}},{"$f":"Eingabemeldung(Sprache!$E$18,Sprache!$E$17,'Formular C'!G48)","v":{"$error":"#VALUE!"}},false,0,{"$f":"IF(W48<Parameter!$C$3,1,0)","v":0}]
[null,null,null,null,null,null,null,null,{"$f":"IF(OR(E49=Sprache!$C$19,E49=Sprache!$D$19),F49,0)+IF(OR(G49=Sprache!$C$19,G49=Sprache!$D$19),H49,0)+IF(OR(E49=Sprache!$C$20,E49=Sprache!$D$20),F49,0)+IF(OR(G49=Sprache!$C$20,G49=Sprache!$D$20),H49,0)","v":0},{"$f":"IF(OR(E49=Sprache!$C$21,E49=Sprache!$D$21),F49,0)+IF(OR(G49=Sprache!$C$21,G49=Sprache!$D$21),H49,0)","v":0},{"$f":"IF(OR(E49=Sprache!$C$22,E49=Sprache!$D$22),F49,0)+IF(OR(G49=Sprache!$C$22,G49=Sprache!$D$22),H49,0)","v":0},{"$f":"IF(OR(E49=Sprache!$C$23,E49=Sprache!$D$23),F49,0)+IF(OR(G49=Sprache!$C$23,G49=Sprache!$D$23),H49,0)","v":0},{"$f":"IF(OR(E49=Sprache!$C$24,E49=Sprache!$D$24),F49,0)+IF(OR(G49=Sprache!$C$24,G49=Sprache!$D$24),H49,0)","v":0},0,0,"",null,null,null,0,null,null,"","",{"$f":"IF(B49<>\"\",HYPERLINK($AB$9&AA49,Sprache!$E$25 &\" \"&B49),\"\")","v":""},null,41,{"$f":"Eingabemeldung(Sprache!$E$18,Sprache!$E$17,'Formular C'!E49)","v":{"$error":"#VALUE!"}},{"$f":"Eingabemeldung(Sprache!$E$18,Sprache!$E$17,'Formular C'!G49)","v":{"$error":"#VALUE!"}},false,0,{"$f":"IF(W49<Parameter!$C$3,1,0)","v":0}]
[null,null,null,null,null,null,null,null,{"$f":"IF(OR(E50=Sprache!$C$19,E50=Sprache!$D$19),F50,0)+IF(OR(G50=Sprache!$C$19,G50=Sprache!$D$19),H50,0)+IF(OR(E50=Sprache!$C$20,E50=Sprache!$D$20),F50,0)+IF(OR(G50=Sprache!$C$20,G50=Sprache!$D$20),H50,0)","v":0},{"$f":"IF(OR(E50=Sprache!$C$21,E50=Sprache!$D$21),F50,0)+IF(OR(G50=Sprache!$C$21,G50=Sprache!$D$21),H50,0)","v":0},{"$f":"IF(OR(E50=Sprache!$C$22,E50=Sprache!$D$22),F50,0)+IF(OR(G50=Sprache!$C$22,G50=Sprache!$D$22),H50,0)","v":0},{"$f":"IF(OR(E50=Sprache!$C$23,E50=Sprache!$D$23),F50,0)+IF(OR(G50=Sprache!$C$23,G50=Sprache!$D$23),H50,0)","v":0},{"$f":"IF(OR(E50=Sprache!$C$24,E50=Sprache!$D$24),F50,0)+IF(OR(G50=Sprache!$C$24,G50=Sprache!$D$24),H50,0)","v":0},0,0,"",null,null,null,0,null,null,"","",{"$f":"IF(B50<>\"\",HYPERLINK($AB$9&AA50,Sprache!$E$25 &\" \"&B50),\"\")","v":""},null,42,{"$f":"Eingabemeldung(Sprache!$E$18,Sprache!$E$17,'Formular C'!E50)","v":{"$error":"#VALUE!"}},{"$f":"Eingabemeldung(Sprache!$E$18,Sprache!$E$17,'Formular C'!G50)","v":{"$error":"#VALUE!"}},false,0,{"$f":"IF(W50<Parameter!$C$3,1,0)","v":0}]
[null,null,null,null,null,null,null,null,{"$f":"IF(OR(E51=Sprache!$C$19,E51=Sprache!$D$19),F51,0)+IF(OR(G51=Sprache!$C$19,G51=Sprache!$D$19),H51,0)+IF(OR(E51=Sprache!$C$20,E51=Sprache!$D$20),F51,0)+IF(OR(G51=Sprache!$C$20,G51=Sprache!$D$20),H51,0)","v":0},{"$f":"IF(OR(E51=Sprache!$C$21,E51=Sprache!$D$21),F51,0)+IF(OR(G51=Sprache!$C$21,G51=Sprache!$D$21),H51,0)","v":0},{"$f":"IF(OR(E51=Sprache!$C$22,E51=Sprache!$D$22),F51,0)+IF(OR(G51=Sprache!$C$22,G51=Sprache!$D$22),H51,0)","v":0},{"$f":"IF(OR(E51=Sprache!$C$23,E51=Sprache!$D$23),F51,0)+IF(OR(G51=Sprache!$C$23,G51=Sprache!$D$23),H51,0)","v":0},{"$f":"IF(OR(E51=Sprache!$C$24,E51=Sprache!$D$24),F51,0)+IF(OR(G51=Sprache!$C$24,G51=Sprache!$D$24),H51,0)","v":0},0,0,"",null,null,null,0,null,null,"","",{"$f":"IF(B51<>\"\",HYPERLINK($AB$9&AA51,Sprache!$E$25 &\" \"&B51),\"\")","v":""},null,43,{"$f":"Eingabemeldung(Sprache!$E$18,Sprache!$E$17,'Formular C'!E51)","v":{"$error":"#VALUE!"}},{"$f":"Eingabemeldung(Sprache!$E$18,Sprache!$E$17,'Formular C'!G51)","v":{"$error":"#VALUE!"}},false,0,{"$f":"IF(W51<Parameter!$C$3,1,0)","v":0}]
[null,null,null,null,null,null,null,null,{"$f":"IF(OR(E52=Sprache!$C$19,E52=Sprache!$D$19),F52,0)+IF(OR(G52=Sprache!$C$19,G52=Sprache!$D$19),H52,0)+IF(OR(E52=Sprache!$C$20,E52=Sprache!$D$20),F52,0)+IF(OR(G52=Sprache!$C$20,G52=Sprache!$D$20),H52,0)","v":0},{"$f":"IF(OR(E52=Sprache!$C$21,E52=Sprache!$D$21),F52,0)+IF(OR(G52=Sprache!$C$21,G52=Sprache!$D$21),H52,0)","v":0},{"$f":"IF(OR(E52=Sprache!$C$22,E52=Sprache!$D$22),F52,0)+IF(OR(G52=Sprache!$C$22,G52=Sprache!$D$22),H52,0)","v":0},{"$f":"IF(OR(E52=Sprache!$C$23,E52=Sprache!$D$23),F52,0)+IF(OR(G52=Sprache!$C$23,G52=Sprache!$D$23),H52,0)","v":0},{"$f":"IF(OR(E52=Sprache!$C$24,E52=Sprache!$D$24),F52,0)+IF(OR(G52=Sprache!$C$24,G52=Sprache!$D$24),H52,0)","v":0},0,0,"",null,null,null,0,null,null,"","",{"$f":"IF(B52<>\"\",HYPERLINK($AB$9&AA52,Sprache!$E$25 &\" \"&B52),\"\")","v":""},null,44,{"$f":"Eingabemeldung(Sprache!$E$18,Sprache!$E$17,'Formular C'!E52)","v":{"$error":"#VALUE!"}},{"$f":"Eingabemeldung(Sprache!$E$18,Sprache!$E$17,'Formular C'!G52)","v":{"$error":"#VALUE!"}},false,0,{"$f":"IF(W52<Parameter!$C$3,1,0)","v":0}]
[null,null,null,null,null,null,null,null,{"$f":"IF(OR(E53=Sprache!$C$19,E53=Sprache!$D$19),F53,0)+IF(OR(G53=Sprache!$C$19,G53=Sprache!$D$19),H53,0)+IF(OR(E53=Sprache!$C$20,E53=Sprache!$D$20),F53,0)+IF(OR(G53=Sprache!$C$20,G53=Sprache!$D$20),H53,0)","v":0},{"$f":"IF(OR(E53=Sprache!$C$21,E53=Sprache!$D$21),F53,0)+IF(OR(G53=Sprache!$C$21,G53=Sprache!$D$21),H53,0)","v":0},{"$f":"IF(OR(E53=Sprache!$C$22,E53=Sprache!$D$22),F53,0)+IF(OR(G53=Sprache!$C$22,G53=Sprache!$D$22),H53,0)","v":0},{"$f":"IF(OR(E53=Sprache!$C$23,E53=Sprache!$D$23),F53,0)+IF(OR(G53=Sprache!$C$23,G53=Sprache!$D$23),H53,0)","v":0},{"$f":"IF(OR(E53=Sprache!$C$24,E53=Sprache!$D$24),F53,0)+IF(OR(G53=Sprache!$C$24,G53=Sprache!$D$24),H53,0)","v":0},0,0,"",null,null,null,0,null,null,"","",{"$f":"IF(B53<>\"\",HYPERLINK($AB$9&AA53,Sprache!$E$25 &\" \"&B53),\"\")","v":""},null,45,{"$f":"Eingabemeldung(Sprache!$E$18,Sprache!$E$17,'Formular C'!E53)","v":{"$error":"#VALUE!"}},{"$f":"Eingabemeldung(Sprache!$E$18,Sprache!$E$17,'Formular C'!G53)","v":{"$error":"#VALUE!"}},false,0,{"$f":"IF(W53<Parameter!$C$3,1,0)","v":0}]
[null,null,null,null,null,null,null,null,{"$f":"IF(OR(E54=Sprache!$C$19,E54=Sprache!$D$19),F54,0)+IF(OR(G54=Sprache!$C$19,G54=Sprache!$D$19),H54,0)+IF(OR(E54=Sprache!$C$20,E54=Sprache!$D$20),F54,0)+IF(OR(G54=Sprache!$C$20,G54=Sprache!$D$20),H54,0)","v":0},{"$f":"IF(OR(E54=Sprache!$C$21,E54=Sprache!$D$21),F54,0)+IF(OR(G54=Sprache!$C$21,G54=Sprache!$D$21),H54,0)","v":0},{"$f":"IF(OR(E54=Sprache!$C$22,E54=Sprache!$D$22),F54,0)+IF(OR(G54=Sprache!$C$22,G54=Sprache!$D$22),H54,0)","v":0},{"$f":"IF(OR(E54=Sprache!$C$23,E54=Sprache!$D$23),F54,0)+IF(OR(G54=Sprache!$C$23,G54=Sprache!$D$23),H54,0)","v":0},{"$f":"IF(OR(E54=Sprache!$C$24,E54=Sprache!$D$24),F54,0)+IF(OR(G54=Sprache!$C$24,G54=Sprache!$D$24),H54,0)","v":0},0,0,"",null,null,null,0,null,null,"","",{"$f":"IF(B54<>\"\",HYPERLINK($AB$9&AA54,Sprache!$E$25 &\" \"&B54),\"\")","v":""},null,46,{"$f":"Eingabemeldung(Sprache!$E$18,Sprache!$E$17,'Formular C'!E54)","v":{"$error":"#VALUE!"}},{"$f":"Eingabemeldung(Sprache!$E$18,Sprache!$E$17,'Formular C'!G54)","v":{"$error":"#VALUE!"}},false,0,{"$f":"IF(W54<Parameter!$C$3,1,0)","v":0}]
[null,null,null,null,null,null,null,null,{"$f":"IF(OR(E55=Sprache!$C$19,E55=Sprache!$D$19),F55,0)+IF(OR(G55=Sprache!$C$19,G55=Sprache!$D$19),H55,0)+IF(OR(E55=Sprache!$C$20,E55=Sprache!$D$20),F55,0)+IF(OR(G55=Sprache!$C$20,G55=Sprache!$D$20),H55,0)","v":0},{"$f":"IF(OR(E55=Sprache!$C$21,E55=Sprache!$D$21),F55,0)+IF(OR(G55=Sprache!$C$21,G55=Sprache!$D$21),H55,0)","v":0},{"$f":"IF(OR(E55=Sprache!$C$22,E55=Sprache!$D$22),F55,0)+IF(OR(G55=Sprache!$C$22,G55=Sprache!$D$22),H55,0)","v":0},{"$f":"IF(OR(E55=Sprache!$C$23,E55=Sprache!$D$23),F55,0)+IF(OR(G55=Sprache!$C$23,G55=Sprache!$D$23),H55,0)","v":0},{"$f":"IF(OR(E55=Sprache!$C$24,E55=Sprache!$D$24),F55,0)+IF(OR(G55=Sprache!$C$24,G55=Sprache!$D$24),H55,0)","v":0},{"$f":"F55+H55","v":0},{"$f":"GFÖG*I55+GFF*J55+GFH*K55+GFW*L55+GFE*M55","v":0},{"$f":"IFERROR(O55/($H$7-$O$228),\"\")","v":""},null,null,null,{"$f":"(F55*R55)+(H55*S55)","v":0},null,null,"","",{"$f":"IF(B55<>\"\",HYPERLINK($AB$9&AA55,Sprache!$E$25 &\" \"&B55),\"\")","v":""},null,47,{"$f":"Eingabemeldung(Sprache!$E$18,Sprache!$E$17,'Formular C'!E55)","v":{"$error":"#VALUE!"}},{"$f":"Eingabemeldung(Sprache!$E$18,Sprache!$E$17,'Formular C'!G55)","v":{"$error":"#VALUE!"}},false,0,{"$f":"IF(W55<Parameter!$C$3,1,0)","v":0}]
[null,null,null,null,null,null,null,null,{"$f":"IF(OR(E56=Sprache!$C$19,E56=Sprache!$D$19),F56,0)+IF(OR(G56=Sprache!$C$19,G56=Sprache!$D$19),H56,0)+IF(OR(E56=Sprache!$C$20,E56=Sprache!$D$20),F56,0)+IF(OR(G56=Sprache!$C$20,G56=Sprache!$D$20),H56,0)","v":0},{"$f":"IF(OR(E56=Sprache!$C$21,E56=Sprache!$D$21),F56,0)+IF(OR(G56=Sprache!$C$21,G56=Sprache!$D$21),H56,0)","v":0},{"$f":"IF(OR(E56=Sprache!$C$22,E56=Sprache!$D$22),F56,0)+IF(OR(G56=Sprache!$C$22,G56=Sprache!$D$22),H56,0)","v":0},{"$f":"IF(OR(E56=Sprache!$C$23,E56=Sprache!$D$23),F56,0)+IF(OR(G56=Sprache!$C$23,G56=Sprache!$D$23),H56,0)","v":0},{"$f":"IF(OR(E56=Sprache!$C$24,E56=Sprache!$D$24),F56,0)+IF(OR(G56=Sprache!$C$24,G56=Sprache!$D$24),H56,0)","v":0},0,0,"",null,null,null,0,null,null,"","",{"$f":"IF(B56<>\"\",HYPERLINK($AB$9&AA56,Sprache!$E$25 &\" \"&B56),\"\")","v":""},null,48,{"$f":"Eingabemeldung(Sprache!$E$18,Sprache!$E$17,'Formular C'!E56)","v":{"$error":"#VALUE!"}},{"$f":"Eingabemeldung(Sprache!$E$18,Sprache!$E$17,'Formular C'!G56)","v":{"$error":"#VALUE!"}},false,0,{"$f":"IF(W56<Parameter!$C$3,1,0)","v":0}]
[null,null,null,null,null,null,null,null,{"$f":"IF(OR(E57=Sprache!$C$19,E57=Sprache!$D$19),F57,0)+IF(OR(G57=Sprache!$C$19,G57=Sprache!$D$19),H57,0)+IF(OR(E57=Sprache!$C$20,E57=Sprache!$D$20),F57,0)+IF(OR(G57=Sprache!$C$20,G57=Sprache!$D$20),H57,0)","v":0},{"$f":"IF(OR(E57=Sprache!$C$21,E57=Sprache!$D$21),F57,0)+IF(OR(G57=Sprache!$C$21,G57=Sprache!$D$21),H57,0)","v":0},{"$f":"IF(OR(E57=Sprache!$C$22,E57=Sprache!$D$22),F57,0)+IF(OR(G57=Sprache!$C$22,G57=Sprache!$D$22),H57,0)","v":0},{"$f":"IF(OR(E57=Sprache!$C$23,E57=Sprache!$D$23),F57,0)+IF(OR(G57=Sprache!$C$23,G57=Sprache!$D$23),H57,0)","v":0},{"$f":"IF(OR(E57=Sprache!$C$24,E57=Sprache!$D$24),F57,0)+IF(OR(G57=Sprache!$C$24,G57=Sprache!$D$24),H57,0)","v":0},0,0,"",null,null,null,0,null,null,"","",{"$f":"IF(B57<>\"\",HYPERLINK($AB$9&AA57,Sprache!$E$25 &\" \"&B57),\"\")","v":""},null,49,{"$f":"Eingabemeldung(Sprache!$E$18,Sprache!$E$17,'Formular C'!E57)","v":{"$error":"#VALUE!"}},{"$f":"Eingabemeldung(Sprache!$E$18,Sprache!$E$17,'Formular C'!G57)","v":{"$error":"#VALUE!"}},false,0,{"$f":"IF(W57<Parameter!$C$3,1,0)","v":0}]
[null,null,null,null,null,null,null,null,{"$f":"IF(OR(E58=Sprache!$C$19,E58=Sprache!$D$19),F58,0)+IF(OR(G58=Sprache!$C$19,G58=Sprache!$D$19),H58,0)+IF(OR(E58=Sprache!$C$20,E58=Sprache!$D$20),F58,0)+IF(OR(G58=Sprache!$C$20,G58=Sprache!$D$20),H58,0)","v":0},{"$f":"IF(OR(E58=Sprache!$C$21,E58=Sprache!$D$21),F58,0)+IF(OR(G58=Sprache!$C$21,G58=Sprache!$D$21),H58,0)","v":0},{"$f":"IF(OR(E58=Sprache!$C$22,E58=Sprache!$D$22),F58,0)+IF(OR(G58=Sprache!$C$22,G58=Sprache!$D$22),H58,0)","v":0},{"$f":"IF(OR(E58=Sprache!$C$23,E58=Sprache!$D$23),F58,0)+IF(OR(G58=Sprache!$C$23,G58=Sprache!$D$23),H58,0)","v":0},{"$f":"IF(OR(E58=Sprache!$C$24,E58=Sprache!$D$24),F58,0)+IF(OR(G58=Sprache!$C$24,G58=Sprache!$D$24),H58,0)","v":0},0,0,"",null,null,null,0,null,null,"","",{"$f":"IF(B58<>\"\",HYPERLINK($AB$9&AA58,Sprache!$E$25 &\" \"&B58),\"\")","v":""},null,50,{"$f":"Eingabemeldung(Sprache!$E$18,Sprache!$E$17,'Formular C'!E58)","v":{"$error":"#VALUE!"}},{"$f":"Eingabemeldung(Sprache!$E$18,Sprache!$E$17,'Formular C'!G58)","v":{"$error":"#VALUE!"}},false,0,{"$f":"IF(W58<Parameter!$C$3,1,0)","v":0}]
[null,null,null,null,null,null,null,null,{"$f":"IF(OR(E59=Sprache!$C$19,E59=Sprache!$D$19),F59,0)+IF(OR(G59=Sprache!$C$19,G59=Sprache!$D$19),H59,0)+IF(OR(E59=Sprache!$C$20,E59=Sprache!$D$20),F59,0)+IF(OR(G59=Sprache!$C$20,G59=Sprache!$D$20),H59,0)","v":0},{"$f":"IF(OR(E59=Sprache!$C$21,E59=Sprache!$D$21),F59,0)+IF(OR(G59=Sprache!$C$21,G59=Sprache!$D$21),H59,0)","v":0},{"$f":"IF(OR(E59=Sprache!$C$22,E59=Sprache!$D$22),F59,0)+IF(OR(G59=Sprache!$C$22,G59=Sprache!$D$22),H59,0)","v":0},{"$f":"IF(OR(E59=Sprache!$C$23,E59=Sprache!$D$23),F59,0)+IF(OR(G59=Sprache!$C$23,G59=Sprache!$D$23),H59,0)","v":0},{"$f":"IF(OR(E59=Sprache!$C$24,E59=Sprache!$D$24),F59,0)+IF(OR(G59=Sprache!$C$24,G59=Sprache!$D$24),H59,0)","v":0},0,0,"",null,null,null,0,null,null,"","",{"$f":"IF(B59<>\"\",HYPERLINK($AB$9&AA59,Sprache!$E$25 &\" \"&B59),\"\")","v":""},null,51,{"$f":"Eingabemeldung(Sprache!$E$18,Sprache!$E$17,'Formular C'!E59)","v":{"$error":"#VALUE!"}},{"$f":"Eingabemeldung(Sprache!$E$18,Sprache!$E$17,'Formular C'!G59)","v":{"$error":"#VALUE!"}},false,0,{"$f":"IF(W59<Parameter!$C$3,1,0)","v":0}]
[null,null,null,null,null,null,null,null,{"$f":"IF(OR(E60=Sprache!$C$19,E60=Sprache!$D$19),F60,0)+IF(OR(G60=Sprache!$C$19,G60=Sprache!$D$19),H60,0)+IF(OR(E60=Sprache!$C$20,E60=Sprache!$D$20),F60,0)+IF(OR(G60=Sprache!$C$20,G60=Sprache!$D$20),H60,0)","v":0},{"$f":"IF(OR(E60=Sprache!$C$21,E60=Sprache!$D$21),F60,0)+IF(OR(G60=Sprache!$C$21,G60=Sprache!$D$21),H60,0)","v":0},{"$f":"IF(OR(E60=Sprache!$C$22,E60=Sprache!$D$22),F60,0)+IF(OR(G60=Sprache!$C$22,G60=Sprache!$D$22),H60,0)","v":0},{"$f":"IF(OR(E60=Sprache!$C$23,E60=Sprache!$D$23),F60,0)+IF(OR(G60=Sprache!$C$23,G60=Sprache!$D$23),H60,0)","v":0},{"$f":"IF(OR(E60=Sprache!$C$24,E60=Sprache!$D$24),F60,0)+IF(OR(G60=Sprache!$C$24,G60=Sprache!$D$24),H60,0)","v":0},0,0,"",null,null,null,0,null,null,"","",{"$f":"IF(B60<>\"\",HYPERLINK($AB$9&AA60,Sprache!$E$25 &\" \"&B60),\"\")","v":""},null,52,{"$f":"Eingabemeldung(Sprache!$E$18,Sprache!$E$17,'Formular C'!E60)","v":{"$error":"#VALUE!"}},{"$f":"Eingabemeldung(Sprache!$E$18,Sprache!$E$17,'Formular C'!G60)","v":{"$error":"#VALUE!"}},false,0,{"$f":"IF(W60<Parameter!$C$3,1,0)","v":0}]
[null,null,null,null,null,null,null,null,{"$f":"IF(OR(E61=Sprache!$C$19,E61=Sprache!$D$19),F61,0)+IF(OR(G61=Sprache!$C$19,G61=Sprache!$D$19),H61,0)+IF(OR(E61=Sprache!$C$20,E61=Sprache!$D$20),F61,0)+IF(OR(G61=Sprache!$C$20,G61=Sprache!$D$20),H61,0)","v":0},{"$f":"IF(OR(E61=Sprache!$C$21,E61=Sprache!$D$21),F61,0)+IF(OR(G61=Sprache!$C$21,G61=Sprache!$D$21),H61,0)","v":0},{"$f":"IF(OR(E61=Sprache!$C$22,E61=Sprache!$D$22),F61,0)+IF(OR(G61=Sprache!$C$22,G61=Sprache!$D$22),H61,0)","v":0},{"$f":"IF(OR(E61=Sprache!$C$23,E61=Sprache!$D$23),F61,0)+IF(OR(G61=Sprache!$C$23,G61=Sprache!$D$23),H61,0)","v":0},{"$f":"IF(OR(E61=Sprache!$C$24,E61=Sprache!$D$24),F61,0)+IF(OR(G61=Sprache!$C$24,G61=Sprache!$D$24),H61,0)","v":0},0,0,"",null,null,null,0,null,null,"","",{"$f":"IF(B61<>\"\",HYPERLINK($AB$9&AA61,Sprache!$E$25 &\" \"&B61),\"\")","v":""},null,53,{"$f":"Eingabemeldung(Sprache!$E$18,Sprache!$E$17,'Formular C'!E61)","v":{"$error":"#VALUE!"}},{"$f":"Eingabemeldung(Sprache!$E$18,Sprache!$E$17,'Formular C'!G61)","v":{"$error":"#VALUE!"}},false,0,{"$f":"IF(W61<Parameter!$C$3,1,0)","v":0}]
[null,null,null,null,null,null,null,null,{"$f":"IF(OR(E62=Sprache!$C$19,E62=Sprache!$D$19),F62,0)+IF(OR(G62=Sprache!$C$19,G62=Sprache!$D$19),H62,0)+IF(OR(E62=Sprache!$C$20,E62=Sprache!$D$20),F62,0)+IF(OR(G62=Sprache!$C$20,G62=Sprache!$D$20),H62,0)","v":0},{"$f":"IF(OR(E62=Sprache!$C$21,E62=Sprache!$D$21),F62,0)+IF(OR(G62=Sprache!$C$21,G62=Sprache!$D$21),H62,0)","v":0},{"$f":"IF(OR(E62=Sprache!$C$22,E62=Sprache!$D$22),F62,0)+IF(OR(G62=Sprache!$C$22,G62=Sprache!$D$22),H62,0)","v":0},{"$f":"IF(OR(E62=Sprache!$C$23,E62=Sprache!$D$23),F62,0)+IF(OR(G62=Sprache!$C$23,G62=Sprache!$D$23),H62,0)","v":0},{"$f":"IF(OR(E62=Sprache!$C$24,E62=Sprache!$D$24),F62,0)+IF(OR(G62=Sprache!$C$24,G62=Sprache!$D$24),H62,0)","v":0},0,0,"",null,null,null,0,null,null,"","",{"$f":"IF(B62<>\"\",HYPERLINK($AB$9&AA62,Sprache!$E$25 &\" \"&B62),\"\")","v":""},null,54,{"$f":"Eingabemeldung(Sprache!$E$18,Sprache!$E$17,'Formular C'!E62)","v":{"$error":"#VALUE!"}},{"$f":"Eingabemeldung(Sprache!$E$18,Sprache!$E$17,'Formular C'!G62)","v":{"$error":"#VALUE!"}},false,0,{"$f":"IF(W62<Parameter!$C$3,1,0)","v":0}]
[null,null,null,null,null,null,null,null,{"$f":"IF(OR(E63=Sprache!$C$19,E63=Sprache!$D$19),F63,0)+IF(OR(G63=Sprache!$C$19,G63=Sprache!$D$19),H63,0)+IF(OR(E63=Sprache!$C$20,E63=Sprache!$D$20),F63,0)+IF(OR(G63=Sprache!$C$20,G63=Sprache!$D$20),H63,0)","v":0},{"$f":"IF(OR(E63=Sprache!$C$21,E63=Sprache!$D$21),F63,0)+IF(OR(G63=Sprache!$C$21,G63=Sprache!$D$21),H63,0)","v":0},{"$f":"IF(OR(E63=Sprache!$C$22,E63=Sprache!$D$22),F63,0)+IF(OR(G63=Sprache!$C$22,G63=Sprache!$D$22),H63,0)","v":0},{"$f":"IF(OR(E63=Sprache!$C$23,E63=Sprache!$D$23),F63,0)+IF(OR(G63=Sprache!$C$23,G63=Sprache!$D$23),H63,0)","v":0},{"$f":"IF(OR(E63=Sprache!$C$24,E63=Sprache!$D$24),F63,0)+IF(OR(G63=Sprache!$C$24,G63=Sprache!$D$24),H63,0)","v":0},0,0,"",null,null,null,0,null,null,"","",{"$f":"IF(B63<>\"\",HYPERLINK($AB$9&AA63,Sprache!$E$25 &\" \"&B63),\"\")","v":""},null,55,{"$f":"Eingabemeldung(Sprache!$E$18,Sprache!$E$17,'Formular C'!E63)","v":{"$error":"#VALUE!"}},{"$f":"Eingabemeldung(Sprache!$E$18,Sprache!$E$17,'Formular C'!G63)","v":{"$error":"#VALUE!"}},false,0,{"$f":"IF(W63<Parameter!$C$3,1,0)","v":0}]
[null,null,null,null,null,null,null,null,{"$f":"IF(OR(E64=Sprache!$C$19,E64=Sprache!$D$19),F64,0)+IF(OR(G64=Sprache!$C$19,G64=Sprache!$D$19),H64,0)+IF(OR(E64=Sprache!$C$20,E64=Sprache!$D$20),F64,0)+IF(OR(G64=Sprache!$C$20,G64=Sprache!$D$20),H64,0)","v":0},{"$f":"IF(OR(E64=Sprache!$C$21,E64=Sprache!$D$21),F64,0)+IF(OR(G64=Sprache!$C$21,G64=Sprache!$D$21),H64,0)","v":0},{"$f":"IF(OR(E64=Sprache!$C$22,E64=Sprache!$D$22),F64,0)+IF(OR(G64=Sprache!$C$22,G64=Sprache!$D$22),H64,0)","v":0},{"$f":"IF(OR(E64=Sprache!$C$23,E64=Sprache!$D$23),F64,0)+IF(OR(G64=Sprache!$C$23,G64=Sprache!$D$23),H64,0)","v":0},{"$f":"IF(OR(E64=Sprache!$C$24,E64=Sprache!$D$24),F64,0)+IF(OR(G64=Sprache!$C$24,G64=Sprache!$D$24),H64,0)","v":0},0,0,"",null,null,null,0,null,null,"","",{"$f":"IF(B64<>\"\",HYPERLINK($AB$9&AA64,Sprache!$E$25 &\" \"&B64),\"\")","v":""},null,56,{"$f":"Eingabemeldung(Sprache!$E$18,Sprache!$E$17,'Formular C'!E64)","v":{"$error":"#VALUE!"}},{"$f":"Eingabemeldung(Sprache!$E$18,Sprache!$E$17,'Formular C'!G64)","v":{"$error":"#VALUE!"}},false,0,{"$f":"IF(W64<Parameter!$C$3,1,0)","v":0}]
[null,null,null,null,null,null,null,null,{"$f":"IF(OR(E65=Sprache!$C$19,E65=Sprache!$D$19),F65,0)+IF(OR(G65=Sprache!$C$19,G65=Sprache!$D$19),H65,0)+IF(OR(E65=Sprache!$C$20,E65=Sprache!$D$20),F65,0)+IF(OR(G65=Sprache!$C$20,G65=Sprache!$D$20),H65,0)","v":0},{"$f":"IF(OR(E65=Sprache!$C$21,E65=Sprache!$D$21),F65,0)+IF(OR(G65=Sprache!$C$21,G65=Sprache!$D$21),H65,0)","v":0},{"$f":"IF(OR(E65=Sprache!$C$22,E65=Sprache!$D$22),F65,0)+IF(OR(G65=Sprache!$C$22,G65=Sprache!$D$22),H65,0)","v":0},{"$f":"IF(OR(E65=Sprache!$C$23,E65=Sprache!$D$23),F65,0)+IF(OR(G65=Sprache!$C$23,G65=Sprache!$D$23),H65,0)","v":0},{"$f":"IF(OR(E65=Sprache!$C$24,E65=Sprache!$D$24),F65,0)+IF(OR(G65=Sprache!$C$24,G65=Sprache!$D$24),H65,0)","v":0},0,0,"",null,null,null,0,null,null,"","",{"$f":"IF(B65<>\"\",HYPERLINK($AB$9&AA65,Sprache!$E$25 &\" \"&B65),\"\")","v":""},null,57,{"$f":"Eingabemeldung(Sprache!$E$18,Sprache!$E$17,'Formular C'!E65)","v":{"$error":"#VALUE!"}},{"$f":"Eingabemeldung(Sprache!$E$18,Sprache!$E$17,'Formular C'!G65)","v":{"$error":"#VALUE!"}},false,0,{"$f":"IF(W65<Parameter!$C$3,1,0)","v":0}]
[null,null,null,null,null,null,null,null,{"$f":"IF(OR(E66=Sprache!$C$19,E66=Sprache!$D$19),F66,0)+IF(OR(G66=Sprache!$C$19,G66=Sprache!$D$19),H66,0)+IF(OR(E66=Sprache!$C$20,E66=Sprache!$D$20),F66,0)+IF(OR(G66=Sprache!$C$20,G66=Sprache!$D$20),H66,0)","v":0},{"$f":"IF(OR(E66=Sprache!$C$21,E66=Sprache!$D$21),F66,0)+IF(OR(G66=Sprache!$C$21,G66=Sprache!$D$21),H66,0)","v":0},{"$f":"IF(OR(E66=Sprache!$C$22,E66=Sprache!$D$22),F66,0)+IF(OR(G66=Sprache!$C$22,G66=Sprache!$D$22),H66,0)","v":0},{"$f":"IF(OR(E66=Sprache!$C$23,E66=Sprache!$D$23),F66,0)+IF(OR(G66=Sprache!$C$23,G66=Sprache!$D$23),H66,0)","v":0},{"$f":"IF(OR(E66=Sprache!$C$24,E66=Sprache!$D$24),F66,0)+IF(OR(G66=Sprache!$C$24,G66=Sprache!$D$24),H66,0)","v":0},0,0,"",null,null,null,0,null,null,"","",{"$f":"IF(B66<>\"\",HYPERLINK($AB$9&AA66,Sprache!$E$25 &\" \"&B66),\"\")","v":""},null,58,{"$f":"Eingabemeldung(Sprache!$E$18,Sprache!$E$17,'Formular C'!E66)","v":{"$error":"#VALUE!"}},{"$f":"Eingabemeldung(Sprache!$E$18,Sprache!$E$17,'Formular C'!G66)","v":{"$error":"#VALUE!"}},false,0,{"$f":"IF(W66<Parameter!$C$3,1,0)","v":0}]
[null,null,null,null,null,null,null,null,{"$f":"IF(OR(E67=Sprache!$C$19,E67=Sprache!$D$19),F67,0)+IF(OR(G67=Sprache!$C$19,G67=Sprache!$D$19),H67,0)+IF(OR(E67=Sprache!$C$20,E67=Sprache!$D$20),F67,0)+IF(OR(G67=Sprache!$C$20,G67=Sprache!$D$20),H67,0)","v":0},{"$f":"IF(OR(E67=Sprache!$C$21,E67=Sprache!$D$21),F67,0)+IF(OR(G67=Sprache!$C$21,G67=Sprache!$D$21),H67,0)","v":0},{"$f":"IF(OR(E67=Sprache!$C$22,E67=Sprache!$D$22),F67,0)+IF(OR(G67=Sprache!$C$22,G67=Sprache!$D$22),H67,0)","v":0},{"$f":"IF(OR(E67=Sprache!$C$23,E67=Sprache!$D$23),F67,0)+IF(OR(G67=Sprache!$C$23,G67=Sprache!$D$23),H67,0)","v":0},{"$f":"IF(OR(E67=Sprache!$C$24,E67=Sprache!$D$24),F67,0)+IF(OR(G67=Sprache!$C$24,G67=Sprache!$D$24),H67,0)","v":0},0,0,"",null,null,null,0,null,null,"","",{"$f":"IF(B67<>\"\",HYPERLINK($AB$9&AA67,Sprache!$E$25 &\" \"&B67),\"\")","v":""},null,59,{"$f":"Eingabemeldung(Sprache!$E$18,Sprache!$E$17,'Formular C'!E67)","v":{"$error":"#VALUE!"}},{"$f":"Eingabemeldung(Sprache!$E$18,Sprache!$E$17,'Formular C'!G67)","v":{"$error":"#VALUE!"}},false,0,{"$f":"IF(W67<Parameter!$C$3,1,0)","v":0}]
[null,null,null,null,null,null,null,null,{"$f":"IF(OR(E68=Sprache!$C$19,E68=Sprache!$D$19),F68,0)+IF(OR(G68=Sprache!$C$19,G68=Sprache!$D$19),H68,0)+IF(OR(E68=Sprache!$C$20,E68=Sprache!$D$20),F68,0)+IF(OR(G68=Sprache!$C$20,G68=Sprache!$D$20),H68,0)","v":0},{"$f":"IF(OR(E68=Sprache!$C$21,E68=Sprache!$D$21),F68,0)+IF(OR(G68=Sprache!$C$21,G68=Sprache!$D$21),H68,0)","v":0},{"$f":"IF(OR(E68=Sprache!$C$22,E68=Sprache!$D$22),F68,0)+IF(OR(G68=Sprache!$C$22,G68=Sprache!$D$22),H68,0)","v":0},{"$f":"IF(OR(E68=Sprache!$C$23,E68=Sprache!$D$23),F68,0)+IF(OR(G68=Sprache!$C$23,G68=Sprache!$D$23),H68,0)","v":0},{"$f":"IF(OR(E68=Sprache!$C$24,E68=Sprache!$D$24),F68,0)+IF(OR(G68=Sprache!$C$24,G68=Sprache!$D$24),H68,0)","v":0},0,0,"",null,null,null,0,null,null,"","",{"$f":"IF(B68<>\"\",HYPERLINK($AB$9&AA68,Sprache!$E$25 &\" \"&B68),\"\")","v":""},null,60,{"$f":"Eingabemeldung(Sprache!$E$18,Sprache!$E$17,'Formular C'!E68)","v":{"$error":"#VALUE!"}},{"$f":"Eingabemeldung(Sprache!$E$18,Sprache!$E$17,'Formular C'!G68)","v":{"$error":"#VALUE!"}},false,0,{"$f":"IF(W68<Parameter!$C$3,1,0)","v":0}]
[null,null,null,null,null,null,null,null,{"$f":"IF(OR(E69=Sprache!$C$19,E69=Sprache!$D$19),F69,0)+IF(OR(G69=Sprache!$C$19,G69=Sprache!$D$19),H69,0)+IF(OR(E69=Sprache!$C$20,E69=Sprache!$D$20),F69,0)+IF(OR(G69=Sprache!$C$20,G69=Sprache!$D$20),H69,0)","v":0},{"$f":"IF(OR(E69=Sprache!$C$21,E69=Sprache!$D$21),F69,0)+IF(OR(G69=Sprache!$C$21,G69=Sprache!$D$21),H69,0)","v":0},{"$f":"IF(OR(E69=Sprache!$C$22,E69=Sprache!$D$22),F69,0)+IF(OR(G69=Sprache!$C$22,G69=Sprache!$D$22),H69,0)","v":0},{"$f":"IF(OR(E69=Sprache!$C$23,E69=Sprache!$D$23),F69,0)+IF(OR(G69=Sprache!$C$23,G69=Sprache!$D$23),H69,0)","v":0},{"$f":"IF(OR(E69=Sprache!$C$24,E69=Sprache!$D$24),F69,0)+IF(OR(G69=Sprache!$C$24,G69=Sprache!$D$24),H69,0)","v":0},0,0,"",null,null,null,0,null,null,"","",{"$f":"IF(B69<>\"\",HYPERLINK($AB$9&AA69,Sprache!$E$25 &\" \"&B69),\"\")","v":""},null,61,{"$f":"Eingabemeldung(Sprache!$E$18,Sprache!$E$17,'Formular C'!E69)","v":{"$error":"#VALUE!"}},{"$f":"Eingabemeldung(Sprache!$E$18,Sprache!$E$17,'Formular C'!G69)","v":{"$error":"#VALUE!"}},false,0,{"$f":"IF(W69<Parameter!$C$3,1,0)","v":0}]
[null,null,null,null,null,null,null,null,{"$f":"IF(OR(E70=Sprache!$C$19,E70=Sprache!$D$19),F70,0)+IF(OR(G70=Sprache!$C$19,G70=Sprache!$D$19),H70,0)+IF(OR(E70=Sprache!$C$20,E70=Sprache!$D$20),F70,0)+IF(OR(G70=Sprache!$C$20,G70=Sprache!$D$20),H70,0)","v":0},{"$f":"IF(OR(E70=Sprache!$C$21,E70=Sprache!$D$21),F70,0)+IF(OR(G70=Sprache!$C$21,G70=Sprache!$D$21),H70,0)","v":0},{"$f":"IF(OR(E70=Sprache!$C$22,E70=Sprache!$D$22),F70,0)+IF(OR(G70=Sprache!$C$22,G70=Sprache!$D$22),H70,0)","v":0},{"$f":"IF(OR(E70=Sprache!$C$23,E70=Sprache!$D$23),F70,0)+IF(OR(G70=Sprache!$C$23,G70=Sprache!$D$23),H70,0)","v":0},{"$f":"IF(OR(E70=Sprache!$C$24,E70=Sprache!$D$24),F70,0)+IF(OR(G70=Sprache!$C$24,G70=Sprache!$D$24),H70,0)","v":0},0,0,"",null,null,null,0,null,null,"","",{"$f":"IF(B70<>\"\",HYPERLINK($AB$9&AA70,Sprache!$E$25 &\" \"&B70),\"\")","v":""},null,62,{"$f":"Eingabemeldung(Sprache!$E$18,Sprache!$E$17,'Formular C'!E70)","v":{"$error":"#VALUE!"}},{"$f":"Eingabemeldung(Sprache!$E$18,Sprache!$E$17,'Formular C'!G70)","v":{"$error":"#VALUE!"}},false,0,{"$f":"IF(W70<Parameter!$C$3,1,0)","v":0}]
[null,null,null,null,null,null,null,null,{"$f":"IF(OR(E71=Sprache!$C$19,E71=Sprache!$D$19),F71,0)+IF(OR(G71=Sprache!$C$19,G71=Sprache!$D$19),H71,0)+IF(OR(E71=Sprache!$C$20,E71=Sprache!$D$20),F71,0)+IF(OR(G71=Sprache!$C$20,G71=Sprache!$D$20),H71,0)","v":0},{"$f":"IF(OR(E71=Sprache!$C$21,E71=Sprache!$D$21),F71,0)+IF(OR(G71=Sprache!$C$21,G71=Sprache!$D$21),H71,0)","v":0},{"$f":"IF(OR(E71=Sprache!$C$22,E71=Sprache!$D$22),F71,0)+IF(OR(G71=Sprache!$C$22,G71=Sprache!$D$22),H71,0)","v":0},{"$f":"IF(OR(E71=Sprache!$C$23,E71=Sprache!$D$23),F71,0)+IF(OR(G71=Sprache!$C$23,G71=Sprache!$D$23),H71,0)","v":0},{"$f":"IF(OR(E71=Sprache!$C$24,E71=Sprache!$D$24),F71,0)+IF(OR(G71=Sprache!$C$24,G71=Sprache!$D$24),H71,0)","v":0},0,0,"",null,null,null,0,null,null,"","",{"$f":"IF(B71<>\"\",HYPERLINK($AB$9&AA71,Sprache!$E$25 &\" \"&B71),\"\")","v":""},null,63,{"$f":"Eingabemeldung(Sprache!$E$18,Sprache!$E$17,'Formular C'!E71)","v":{"$error":"#VALUE!"}},{"$f":"Eingabemeldung(Sprache!$E$18,Sprache!$E$17,'Formular C'!G71)","v":{"$error":"#VALUE!"}},false,0,{"$f":"IF(W71<Parameter!$C$3,1,0)","v":0}]
[null,null,null,null,null,null,null,null,{"$f":"IF(OR(E72=Sprache!$C$19,E72=Sprache!$D$19),F72,0)+IF(OR(G72=Sprache!$C$19,G72=Sprache!$D$19),H72,0)+IF(OR(E72=Sprache!$C$20,E72=Sprache!$D$20),F72,0)+IF(OR(G72=Sprache!$C$20,G72=Sprache!$D$20),H72,0)","v":0},{"$f":"IF(OR(E72=Sprache!$C$21,E72=Sprache!$D$21),F72,0)+IF(OR(G72=Sprache!$C$21,G72=Sprache!$D$21),H72,0)","v":0},{"$f":"IF(OR(E72=Sprache!$C$22,E72=Sprache!$D$22),F72,0)+IF(OR(G72=Sprache!$C$22,G72=Sprache!$D$22),H72,0)","v":0},{"$f":"IF(OR(E72=Sprache!$C$23,E72=Sprache!$D$23),F72,0)+IF(OR(G72=Sprache!$C$23,G72=Sprache!$D$23),H72,0)","v":0},{"$f":"IF(OR(E72=Sprache!$C$24,E72=Sprache!$D$24),F72,0)+IF(OR(G72=Sprache!$C$24,G72=Sprache!$D$24),H72,0)","v":0},0,0,"",null,null,null,0,null,null,"","",{"$f":"IF(B72<>\"\",HYPERLINK($AB$9&AA72,Sprache!$E$25 &\" \"&B72),\"\")","v":""},null,64,{"$f":"Eingabemeldung(Sprache!$E$18,Sprache!$E$17,'Formular C'!E72)","v":{"$error":"#VALUE!"}},{"$f":"Eingabemeldung(Sprache!$E$18,Sprache!$E$17,'Formular C'!G72)","v":{"$error":"#VALUE!"}},false,0,{"$f":"IF(W72<Parameter!$C$3,1,0)","v":0}]
[null,null,null,null,null,null,null,null,{"$f":"IF(OR(E73=Sprache!$C$19,E73=Sprache!$D$19),F73,0)+IF(OR(G73=Sprache!$C$19,G73=Sprache!$D$19),H73,0)+IF(OR(E73=Sprache!$C$20,E73=Sprache!$D$20),F73,0)+IF(OR(G73=Sprache!$C$20,G73=Sprache!$D$20),H73,0)","v":0},{"$f":"IF(OR(E73=Sprache!$C$21,E73=Sprache!$D$21),F73,0)+IF(OR(G73=Sprache!$C$21,G73=Sprache!$D$21),H73,0)","v":0},{"$f":"IF(OR(E73=Sprache!$C$22,E73=Sprache!$D$22),F73,0)+IF(OR(G73=Sprache!$C$22,G73=Sprache!$D$22),H73,0)","v":0},{"$f":"IF(OR(E73=Sprache!$C$23,E73=Sprache!$D$23),F73,0)+IF(OR(G73=Sprache!$C$23,G73=Sprache!$D$23),H73,0)","v":0},{"$f":"IF(OR(E73=Sprache!$C$24,E73=Sprache!$D$24),F73,0)+IF(OR(G73=Sprache!$C$24,G73=Sprache!$D$24),H73,0)","v":0},0,0,"",null,null,null,0,null,null,"","",{"$f":"IF(B73<>\"\",HYPERLINK($AB$9&AA73,Sprache!$E$25 &\" \"&B73),\"\")","v":""},null,65,{"$f":"Eingabemeldung(Sprache!$E$18,Sprache!$E$17,'Formular C'!E73)","v":{"$error":"#VALUE!"}},{"$f":"Eingabemeldung(Sprache!$E$18,Sprache!$E$17,'Formular C'!G73)","v":{"$error":"#VALUE!"}},false,0,{"$f":"IF(W73<Parameter!$C$3,1,0)","v":0}]
[null,null,null,null,null,null,null,null,{"$f":"IF(OR(E74=Sprache!$C$19,E74=Sprache!$D$19),F74,0)+IF(OR(G74=Sprache!$C$19,G74=Sprache!$D$19),H74,0)+IF(OR(E74=Sprache!$C$20,E74=Sprache!$D$20),F74,0)+IF(OR(G74=Sprache!$C$20,G74=Sprache!$D$20),H74,0)","v":0},{"$f":"IF(OR(E74=Sprache!$C$21,E74=Sprache!$D$21),F74,0)+IF(OR(G74=Sprache!$C$21,G74=Sprache!$D$21),H74,0)","v":0},{"$f":"IF(OR(E74=Sprache!$C$22,E74=Sprache!$D$22),F74,0)+IF(OR(G74=Sprache!$C$22,G74=Sprache!$D$22),H74,0)","v":0},{"$f":"IF(OR(E74=Sprache!$C$23,E74=Sprache!$D$23),F74,0)+IF(OR(G74=Sprache!$C$23,G74=Sprache!$D$23),H74,0)","v":0},{"$f":"IF(OR(E74=Sprache!$C$24,E74=Sprache!$D$24),F74,0)+IF(OR(G74=Sprache!$C$24,G74=Sprache!$D$24),H74,0)","v":0},0,0,"",null,null,null,0,null,null,"","",{"$f":"IF(B74<>\"\",HYPERLINK($AB$9&AA74,Sprache!$E$25 &\" \"&B74),\"\")","v":""},null,66,{"$f":"Eingabemeldung(Sprache!$E$18,Sprache!$E$17,'Formular C'!E74)","v":{"$error":"#VALUE!"}},{"$f":"Eingabemeldung(Sprache!$E$18,Sprache!$E$17,'Formular C'!G74)","v":{"$error":"#VALUE!"}},false,0,{"$f":"IF(W74<Parameter!$C$3,1,0)","v":0}]
[null,null,null,null,null,null,null,null,{"$f":"IF(OR(E75=Sprache!$C$19,E75=Sprache!$D$19),F75,0)+IF(OR(G75=Sprache!$C$19,G75=Sprache!$D$19),H75,0)+IF(OR(E75=Sprache!$C$20,E75=Sprache!$D$20),F75,0)+IF(OR(G75=Sprache!$C$20,G75=Sprache!$D$20),H75,0)","v":0},{"$f":"IF(OR(E75=Sprache!$C$21,E75=Sprache!$D$21),F75,0)+IF(OR(G75=Sprache!$C$21,G75=Sprache!$D$21),H75,0)","v":0},{"$f":"IF(OR(E75=Sprache!$C$22,E75=Sprache!$D$22),F75,0)+IF(OR(G75=Sprache!$C$22,G75=Sprache!$D$22),H75,0)","v":0},{"$f":"IF(OR(E75=Sprache!$C$23,E75=Sprache!$D$23),F75,0)+IF(OR(G75=Sprache!$C$23,G75=Sprache!$D$23),H75,0)","v":0},{"$f":"IF(OR(E75=Sprache!$C$24,E75=Sprache!$D$24),F75,0)+IF(OR(G75=Sprache!$C$24,G75=Sprache!$D$24),H75,0)","v":0},0,0,"",null,null,null,0,null,null,"","",{"$f":"IF(B75<>\"\",HYPERLINK($AB$9&AA75,Sprache!$E$25 &\" \"&B75),\"\")","v":""},null,67,{"$f":"Eingabemeldung(Sprache!$E$18,Sprache!$E$17,'Formular C'!E75)","v":{"$error":"#VALUE!"}},{"$f":"Eingabemeldung(Sprache!$E$18,Sprache!$E$17,'Formular C'!G75)","v":{"$error":"#VALUE!"}},false,0,{"$f":"IF(W75<Parameter!$C$3,1,0)","v":0}]
[null,null,null,null,null,null,null,null,{"$f":"IF(OR(E76=Sprache!$C$19,E76=Sprache!$D$19),F76,0)+IF(OR(G76=Sprache!$C$19,G76=Sprache!$D$19),H76,0)+IF(OR(E76=Sprache!$C$20,E76=Sprache!$D$20),F76,0)+IF(OR(G76=Sprache!$C$20,G76=Sprache!$D$20),H76,0)","v":0},{"$f":"IF(OR(E76=Sprache!$C$21,E76=Sprache!$D$21),F76,0)+IF(OR(G76=Sprache!$C$21,G76=Sprache!$D$21),H76,0)","v":0},{"$f":"IF(OR(E76=Sprache!$C$22,E76=Sprache!$D$22),F76,0)+IF(OR(G76=Sprache!$C$22,G76=Sprache!$D$22),H76,0)","v":0},{"$f":"IF(OR(E76=Sprache!$C$23,E76=Sprache!$D$23),F76,0)+IF(OR(G76=Sprache!$C$23,G76=Sprache!$D$23),H76,0)","v":0},{"$f":"IF(OR(E76=Sprache!$C$24,E76=Sprache!$D$24),F76,0)+IF(OR(G76=Sprache!$C$24,G76=Sprache!$D$24),H76,0)","v":0},0,0,"",null,null,null,0,null,null,"","",{"$f":"IF(B76<>\"\",HYPERLINK($AB$9&AA76,Sprache!$E$25 &\" \"&B76),\"\")","v":""},null,68,{"$f":"Eingabemeldung(Sprache!$E$18,Sprache!$E$17,'Formular C'!E76)","v":{"$error":"#VALUE!"}},{"$f":"Eingabemeldung(Sprache!$E$18,Sprache!$E$17,'Formular C'!G76)","v":{"$error":"#VALUE!"}},false,0,{"$f":"IF(W76<Parameter!$C$3,1,0)","v":0}]
[null,null,null,null,null,null,null,null,{"$f":"IF(OR(E77=Sprache!$C$19,E77=Sprache!$D$19),F77,0)+IF(OR(G77=Sprache!$C$19,G77=Sprache!$D$19),H77,0)+IF(OR(E77=Sprache!$C$20,E77=Sprache!$D$20),F77,0)+IF(OR(G77=Sprache!$C$20,G77=Sprache!$D$20),H77,0)","v":0},{"$f":"IF(OR(E77=Sprache!$C$21,E77=Sprache!$D$21),F77,0)+IF(OR(G77=Sprache!$C$21,G77=Sprache!$D$21),H77,0)","v":0},{"$f":"IF(OR(E77=Sprache!$C$22,E77=Sprache!$D$22),F77,0)+IF(OR(G77=Sprache!$C$22,G77=Sprache!$D$22),H77,0)","v":0},{"$f":"IF(OR(E77=Sprache!$C$23,E77=Sprache!$D$23),F77,0)+IF(OR(G77=Sprache!$C$23,G77=Sprache!$D$23),H77,0)","v":0},{"$f":"IF(OR(E77=Sprache!$C$24,E77=Sprache!$D$24),F77,0)+IF(OR(G77=Sprache!$C$24,G77=Sprache!$D$24),H77,0)","v":0},0,0,"",null,null,null,0,null,null,"","",{"$f":"IF(B77<>\"\",HYPERLINK($AB$9&AA77,Sprache!$E$25 &\" \"&B77),\"\")","v":""},null,69,{"$f":"Eingabemeldung(Sprache!$E$18,Sprache!$E$17,'Formular C'!E77)","v":{"$error":"#VALUE!"}},{"$f":"Eingabemeldung(Sprache!$E$18,Sprache!$E$17,'Formular C'!G77)","v":{"$error":"#VALUE!"}},false,0,{"$f":"IF(W77<Parameter!$C$3,1,0)","v":0}]
[null,null,null,null,null,null,null,null,{"$f":"IF(OR(E78=Sprache!$C$19,E78=Sprache!$D$19),F78,0)+IF(OR(G78=Sprache!$C$19,G78=Sprache!$D$19),H78,0)+IF(OR(E78=Sprache!$C$20,E78=Sprache!$D$20),F78,0)+IF(OR(G78=Sprache!$C$20,G78=Sprache!$D$20),H78,0)","v":0},{"$f":"IF(OR(E78=Sprache!$C$21,E78=Sprache!$D$21),F78,0)+IF(OR(G78=Sprache!$C$21,G78=Sprache!$D$21),H78,0)","v":0},{"$f":"IF(OR(E78=Sprache!$C$22,E78=Sprache!$D$22),F78,0)+IF(OR(G78=Sprache!$C$22,G78=Sprache!$D$22),H78,0)","v":0},{"$f":"IF(OR(E78=Sprache!$C$23,E78=Sprache!$D$23),F78,0)+IF(OR(G78=Sprache!$C$23,G78=Sprache!$D$23),H78,0)","v":0},{"$f":"IF(OR(E78=Sprache!$C$24,E78=Sprache!$D$24),F78,0)+IF(OR(G78=Sprache!$C$24,G78=Sprache!$D$24),H78,0)","v":0},0,0,"",null,null,null,0,null,null,"","",{"$f":"IF(B78<>\"\",HYPERLINK($AB$9&AA78,Sprache!$E$25 &\" \"&B78),\"\")","v":""},null,70,{"$f":"Eingabemeldung(Sprache!$E$18,Sprache!$E$17,'Formular C'!E78)","v":{"$error":"#VALUE!"}},{"$f":"Eingabemeldung(Sprache!$E$18,Sprache!$E$17,'Formular C'!G78)","v":{"$error":"#VALUE!"}},false,0,{"$f":"IF(W78<Parameter!$C$3,1,0)","v":0}]
[null,null,null,null,null,null,null,null,{"$f":"IF(OR(E79=Sprache!$C$19,E79=Sprache!$D$19),F79,0)+IF(OR(G79=Sprache!$C$19,G79=Sprache!$D$19),H79,0)+IF(OR(E79=Sprache!$C$20,E79=Sprache!$D$20),F79,0)+IF(OR(G79=Sprache!$C$20,G79=Sprache!$D$20),H79,0)","v":0},{"$f":"IF(OR(E79=Sprache!$C$21,E79=Sprache!$D$21),F79,0)+IF(OR(G79=Sprache!$C$21,G79=Sprache!$D$21),H79,0)","v":0},{"$f":"IF(OR(E79=Sprache!$C$22,E79=Sprache!$D$22),F79,0)+IF(OR(G79=Sprache!$C$22,G79=Sprache!$D$22),H79,0)","v":0},{"$f":"IF(OR(E79=Sprache!$C$23,E79=Sprache!$D$23),F79,0)+IF(OR(G79=Sprache!$C$23,G79=Sprache!$D$23),H79,0)","v":0},{"$f":"IF(OR(E79=Sprache!$C$24,E79=Sprache!$D$24),F79,0)+IF(OR(G79=Sprache!$C$24,G79=Sprache!$D$24),H79,0)","v":0},0,0,"",null,null,null,0,null,null,"","",{"$f":"IF(B79<>\"\",HYPERLINK($AB$9&AA79,Sprache!$E$25 &\" \"&B79),\"\")","v":""},null,71,{"$f":"Eingabemeldung(Sprache!$E$18,Sprache!$E$17,'Formular C'!E79)","v":{"$error":"#VALUE!"}},{"$f":"Eingabemeldung(Sprache!$E$18,Sprache!$E$17,'Formular C'!G79)","v":{"$error":"#VALUE!"}},false,0,{"$f":"IF(W79<Parameter!$C$3,1,0)","v":0}]
[null,null,null,null,null,null,null,null,{"$f":"IF(OR(E80=Sprache!$C$19,E80=Sprache!$D$19),F80,0)+IF(OR(G80=Sprache!$C$19,G80=Sprache!$D$19),H80,0)+IF(OR(E80=Sprache!$C$20,E80=Sprache!$D$20),F80,0)+IF(OR(G80=Sprache!$C$20,G80=Sprache!$D$20),H80,0)","v":0},{"$f":"IF(OR(E80=Sprache!$C$21,E80=Sprache!$D$21),F80,0)+IF(OR(G80=Sprache!$C$21,G80=Sprache!$D$21),H80,0)","v":0},{"$f":"IF(OR(E80=Sprache!$C$22,E80=Sprache!$D$22),F80,0)+IF(OR(G80=Sprache!$C$22,G80=Sprache!$D$22),H80,0)","v":0},{"$f":"IF(OR(E80=Sprache!$C$23,E80=Sprache!$D$23),F80,0)+IF(OR(G80=Sprache!$C$23,G80=Sprache!$D$23),H80,0)","v":0},{"$f":"IF(OR(E80=Sprache!$C$24,E80=Sprache!$D$24),F80,0)+IF(OR(G80=Sprache!$C$24,G80=Sprache!$D$24),H80,0)","v":0},0,0,"",null,null,null,0,null,null,"","",{"$f":"IF(B80<>\"\",HYPERLINK($AB$9&AA80,Sprache!$E$25 &\" \"&B80),\"\")","v":""},null,72,{"$f":"Eingabemeldung(Sprache!$E$18,Sprache!$E$17,'Formular C'!E80)","v":{"$error":"#VALUE!"}},{"$f":"Eingabemeldung(Sprache!$E$18,Sprache!$E$17,'Formular C'!G80)","v":{"$error":"#VALUE!"}},false,0,{"$f":"IF(W80<Parameter!$C$3,1,0)","v":0}]
[null,null,null,null,null,null,null,null,{"$f":"IF(OR(E81=Sprache!$C$19,E81=Sprache!$D$19),F81,0)+IF(OR(G81=Sprache!$C$19,G81=Sprache!$D$19),H81,0)+IF(OR(E81=Sprache!$C$20,E81=Sprache!$D$20),F81,0)+IF(OR(G81=Sprache!$C$20,G81=Sprache!$D$20),H81,0)","v":0},{"$f":"IF(OR(E81=Sprache!$C$21,E81=Sprache!$D$21),F81,0)+IF(OR(G81=Sprache!$C$21,G81=Sprache!$D$21),H81,0)","v":0},{"$f":"IF(OR(E81=Sprache!$C$22,E81=Sprache!$D$22),F81,0)+IF(OR(G81=Sprache!$C$22,G81=Sprache!$D$22),H81,0)","v":0},{"$f":"IF(OR(E81=Sprache!$C$23,E81=Sprache!$D$23),F81,0)+IF(OR(G81=Sprache!$C$23,G81=Sprache!$D$23),H81,0)","v":0},{"$f":"IF(OR(E81=Sprache!$C$24,E81=Sprache!$D$24),F81,0)+IF(OR(G81=Sprache!$C$24,G81=Sprache!$D$24),H81,0)","v":0},0,0,"",null,null,null,0,null,null,"","",{"$f":"IF(B81<>\"\",HYPERLINK($AB$9&AA81,Sprache!$E$25 &\" \"&B81),\"\")","v":""},null,73,{"$f":"Eingabemeldung(Sprache!$E$18,Sprache!$E$17,'Formular C'!E81)","v":{"$error":"#VALUE!"}},{"$f":"Eingabemeldung(Sprache!$E$18,Sprache!$E$17,'Formular C'!G81)","v":{"$error":"#VALUE!"}},false,0,{"$f":"IF(W81<Parameter!$C$3,1,0)","v":0}]
[null,null,null,null,null,null,null,null,{"$f":"IF(OR(E82=Sprache!$C$19,E82=Sprache!$D$19),F82,0)+IF(OR(G82=Sprache!$C$19,G82=Sprache!$D$19),H82,0)+IF(OR(E82=Sprache!$C$20,E82=Sprache!$D$20),F82,0)+IF(OR(G82=Sprache!$C$20,G82=Sprache!$D$20),H82,0)","v":0},{"$f":"IF(OR(E82=Sprache!$C$21,E82=Sprache!$D$21),F82,0)+IF(OR(G82=Sprache!$C$21,G82=Sprache!$D$21),H82,0)","v":0},{"$f":"IF(OR(E82=Sprache!$C$22,E82=Sprache!$D$22),F82,0)+IF(OR(G82=Sprache!$C$22,G82=Sprache!$D$22),H82,0)","v":0},{"$f":"IF(OR(E82=Sprache!$C$23,E82=Sprache!$D$23),F82,0)+IF(OR(G82=Sprache!$C$23,G82=Sprache!$D$23),H82,0)","v":0},{"$f":"IF(OR(E82=Sprache!$C$24,E82=Sprache!$D$24),F82,0)+IF(OR(G82=Sprache!$C$24,G82=Sprache!$D$24),H82,0)","v":0},0,0,"",null,null,null,0,null,null,"","",{"$f":"IF(B82<>\"\",HYPERLINK($AB$9&AA82,Sprache!$E$25 &\" \"&B82),\"\")","v":""},null,74,{"$f":"Eingabemeldung(Sprache!$E$18,Sprache!$E$17,'Formular C'!E82)","v":{"$error":"#VALUE!"}},{"$f":"Eingabemeldung(Sprache!$E$18,Sprache!$E$17,'Formular C'!G82)","v":{"$error":"#VALUE!"}},false,0,{"$f":"IF(W82<Parameter!$C$3,1,0)","v":0}]
[null,null,null,null,null,null,null,null,{"$f":"IF(OR(E83=Sprache!$C$19,E83=Sprache!$D$19),F83,0)+IF(OR(G83=Sprache!$C$19,G83=Sprache!$D$19),H83,0)+IF(OR(E83=Sprache!$C$20,E83=Sprache!$D$20),F83,0)+IF(OR(G83=Sprache!$C$20,G83=Sprache!$D$20),H83,0)","v":0},{"$f":"IF(OR(E83=Sprache!$C$21,E83=Sprache!$D$21),F83,0)+IF(OR(G83=Sprache!$C$21,G83=Sprache!$D$21),H83,0)","v":0},{"$f":"IF(OR(E83=Sprache!$C$22,E83=Sprache!$D$22),F83,0)+IF(OR(G83=Sprache!$C$22,G83=Sprache!$D$22),H83,0)","v":0},{"$f":"IF(OR(E83=Sprache!$C$23,E83=Sprache!$D$23),F83,0)+IF(OR(G83=Sprache!$C$23,G83=Sprache!$D$23),H83,0)","v":0},{"$f":"IF(OR(E83=Sprache!$C$24,E83=Sprache!$D$24),F83,0)+IF(OR(G83=Sprache!$C$24,G83=Sprache!$D$24),H83,0)","v":0},0,0,"",null,null,null,0,null,null,"","",{"$f":"IF(B83<>\"\",HYPERLINK($AB$9&AA83,Sprache!$E$25 &\" \"&B83),\"\")","v":""},null,75,{"$f":"Eingabemeldung(Sprache!$E$18,Sprache!$E$17,'Formular C'!E83)","v":{"$error":"#VALUE!"}},{"$f":"Eingabemeldung(Sprache!$E$18,Sprache!$E$17,'Formular C'!G83)","v":{"$error":"#VALUE!"}},false,0,{"$f":"IF(W83<Parameter!$C$3,1,0)","v":0}]
[null,null,null,null,null,null,null,null,{"$f":"IF(OR(E84=Sprache!$C$19,E84=Sprache!$D$19),F84,0)+IF(OR(G84=Sprache!$C$19,G84=Sprache!$D$19),H84,0)+IF(OR(E84=Sprache!$C$20,E84=Sprache!$D$20),F84,0)+IF(OR(G84=Sprache!$C$20,G84=Sprache!$D$20),H84,0)","v":0},{"$f":"IF(OR(E84=Sprache!$C$21,E84=Sprache!$D$21),F84,0)+IF(OR(G84=Sprache!$C$21,G84=Sprache!$D$21),H84,0)","v":0},{"$f":"IF(OR(E84=Sprache!$C$22,E84=Sprache!$D$22),F84,0)+IF(OR(G84=Sprache!$C$22,G84=Sprache!$D$22),H84,0)","v":0},{"$f":"IF(OR(E84=Sprache!$C$23,E84=Sprache!$D$23),F84,0)+IF(OR(G84=Sprache!$C$23,G84=Sprache!$D$23),H84,0)","v":0},{"$f":"IF(OR(E84=Sprache!$C$24,E84=Sprache!$D$24),F84,0)+IF(OR(G84=Sprache!$C$24,G84=Sprache!$D$24),H84,0)","v":0},0,0,"",null,null,null,0,null,null,"","",{"$f":"IF(B84<>\"\",HYPERLINK($AB$9&AA84,Sprache!$E$25 &\" \"&B84),\"\")","v":""},null,76,{"$f":"Eingabemeldung(Sprache!$E$18,Sprache!$E$17,'Formular C'!E84)","v":{"$error":"#VALUE!"}},{"$f":"Eingabemeldung(Sprache!$E$18,Sprache!$E$17,'Formular C'!G84)","v":{"$error":"#VALUE!"}},false,0,{"$f":"IF(W84<Parameter!$C$3,1,0)","v":0}]
[null,null,null,null,null,null,null,null,{"$f":"IF(OR(E85=Sprache!$C$19,E85=Sprache!$D$19),F85,0)+IF(OR(G85=Sprache!$C$19,G85=Sprache!$D$19),H85,0)+IF(OR(E85=Sprache!$C$20,E85=Sprache!$D$20),F85,0)+IF(OR(G85=Sprache!$C$20,G85=Sprache!$D$20),H85,0)","v":0},{"$f":"IF(OR(E85=Sprache!$C$21,E85=Sprache!$D$21),F85,0)+IF(OR(G85=Sprache!$C$21,G85=Sprache!$D$21),H85,0)","v":0},{"$f":"IF(OR(E85=Sprache!$C$22,E85=Sprache!$D$22),F85,0)+IF(OR(G85=Sprache!$C$22,G85=Sprache!$D$22),H85,0)","v":0},{"$f":"IF(OR(E85=Sprache!$C$23,E85=Sprache!$D$23),F85,0)+IF(OR(G85=Sprache!$C$23,G85=Sprache!$D$23),H85,0)","v":0},{"$f":"IF(OR(E85=Sprache!$C$24,E85=Sprache!$D$24),F85,0)+IF(OR(G85=Sprache!$C$24,G85=Sprache!$D$24),H85,0)","v":0},0,0,"",null,null,null,0,null,null,"","",{"$f":"IF(B85<>\"\",HYPERLINK($AB$9&AA85,Sprache!$E$25 &\" \"&B85),\"\")","v":""},null,77,{"$f":"Eingabemeldung(Sprache!$E$18,Sprache!$E$17,'Formular C'!E85)","v":{"$error":"#VALUE!"}},{"$f":"Eingabemeldung(Sprache!$E$18,Sprache!$E$17,'Formular C'!G85)","v":{"$error":"#VALUE!"}},false,0,{"$f":"IF(W85<Parameter!$C$3,1,0)","v":0}]
[null,null,null,null,null,null,null,null,{"$f":"IF(OR(E86=Sprache!$C$19,E86=Sprache!$D$19),F86,0)+IF(OR(G86=Sprache!$C$19,G86=Sprache!$D$19),H86,0)+IF(OR(E86=Sprache!$C$20,E86=Sprache!$D$20),F86,0)+IF(OR(G86=Sprache!$C$20,G86=Sprache!$D$20),H86,0)","v":0},{"$f":"IF(OR(E86=Sprache!$C$21,E86=Sprache!$D$21),F86,0)+IF(OR(G86=Sprache!$C$21,G86=Sprache!$D$21),H86,0)","v":0},{"$f":"IF(OR(E86=Sprache!$C$22,E86=Sprache!$D$22),F86,0)+IF(OR(G86=Sprache!$C$22,G86=Sprache!$D$22),H86,0)","v":0},{"$f":"IF(OR(E86=Sprache!$C$23,E86=Sprache!$D$23),F86,0)+IF(OR(G86=Sprache!$C$23,G86=Sprache!$D$23),H86,0)","v":0},{"$f":"IF(OR(E86=Sprache!$C$24,E86=Sprache!$D$24),F86,0)+IF(OR(G86=Sprache!$C$24,G86=Sprache!$D$24),H86,0)","v":0},0,0,"",null,null,null,0,null,null,"","",{"$f":"IF(B86<>\"\",HYPERLINK($AB$9&AA86,Sprache!$E$25 &\" \"&B86),\"\")","v":""},null,78,{"$f":"Eingabemeldung(Sprache!$E$18,Sprache!$E$17,'Formular C'!E86)","v":{"$error":"#VALUE!"}},{"$f":"Eingabemeldung(Sprache!$E$18,Sprache!$E$17,'Formular C'!G86)","v":{"$error":"#VALUE!"}},false,0,{"$f":"IF(W86<Parameter!$C$3,1,0)","v":0}]
[null,null,null,null,null,null,null,null,{"$f":"IF(OR(E87=Sprache!$C$19,E87=Sprache!$D$19),F87,0)+IF(OR(G87=Sprache!$C$19,G87=Sprache!$D$19),H87,0)+IF(OR(E87=Sprache!$C$20,E87=Sprache!$D$20),F87,0)+IF(OR(G87=Sprache!$C$20,G87=Sprache!$D$20),H87,0)","v":0},{"$f":"IF(OR(E87=Sprache!$C$21,E87=Sprache!$D$21),F87,0)+IF(OR(G87=Sprache!$C$21,G87=Sprache!$D$21),H87,0)","v":0},{"$f":"IF(OR(E87=Sprache!$C$22,E87=Sprache!$D$22),F87,0)+IF(OR(G87=Sprache!$C$22,G87=Sprache!$D$22),H87,0)","v":0},{"$f":"IF(OR(E87=Sprache!$C$23,E87=Sprache!$D$23),F87,0)+IF(OR(G87=Sprache!$C$23,G87=Sprache!$D$23),H87,0)","v":0},{"$f":"IF(OR(E87=Sprache!$C$24,E87=Sprache!$D$24),F87,0)+IF(OR(G87=Sprache!$C$24,G87=Sprache!$D$24),H87,0)","v":0},{"$f":"F87+H87","v":0},{"$f":"GFÖG*I87+GFF*J87+GFH*K87+GFW*L87+GFE*M87","v":0},{"$f":"IFERROR(O87/($H$7-$O$228),\"\")","v":""},null,null,null,{"$f":"(F87*R87)+(H87*S87)","v":0},null,null,"","",{"$f":"IF(B87<>\"\",HYPERLINK($AB$9&AA87,Sprache!$E$25 &\" \"&B87),\"\")","v":""},null,79,{"$f":"Eingabemeldung(Sprache!$E$18,Sprache!$E$17,'Formular C'!E87)","v":{"$error":"#VALUE!"}},{"$f":"Eingabemeldung(Sprache!$E$18,Sprache!$E$17,'Formular C'!G87)","v":{"$error":"#VALUE!"}},false,0,{"$f":"IF(W87<Parameter!$C$3,1,0)","v":0}]
[null,null,null,null,null,null,null,null,{"$f":"IF(OR(E88=Sprache!$C$19,E88=Sprache!$D$19),F88,0)+IF(OR(G88=Sprache!$C$19,G88=Sprache!$D$19),H88,0)+IF(OR(E88=Sprache!$C$20,E88=Sprache!$D$20),F88,0)+IF(OR(G88=Sprache!$C$20,G88=Sprache!$D$20),H88,0)","v":0},{"$f":"IF(OR(E88=Sprache!$C$21,E88=Sprache!$D$21),F88,0)+IF(OR(G88=Sprache!$C$21,G88=Sprache!$D$21),H88,0)","v":0},{"$f":"IF(OR(E88=Sprache!$C$22,E88=Sprache!$D$22),F88,0)+IF(OR(G88=Sprache!$C$22,G88=Sprache!$D$22),H88,0)","v":0},{"$f":"IF(OR(E88=Sprache!$C$23,E88=Sprache!$D$23),F88,0)+IF(OR(G88=Sprache!$C$23,G88=Sprache!$D$23),H88,0)","v":0},{"$f":"IF(OR(E88=Sprache!$C$24,E88=Sprache!$D$24),F88,0)+IF(OR(G88=Sprache!$C$24,G88=Sprache!$D$24),H88,0)","v":0},0,0,"",null,null,null,0,null,null,{"$f":"IF(T88=0, \"\",U88*V88/T88)","v":""},{"$f":"IF(AF88,\"X\",\"\")","v":""},{"$f":"IF(B88<>\"\",HYPERLINK($AB$9&AA88,Sprache!$E$25 &\" \"&B88),\"\")","v":""},null,80,{"$f":"Eingabemeldung(Sprache!$E$18,Sprache!$E$17,'Formular C'!E88)","v":{"$error":"#VALUE!"}},{"$f":"Eingabemeldung(Sprache!$E$18,Sprache!$E$17,'Formular C'!G88)","v":{"$error":"#VALUE!"}},{"$f":"ISNUMBER(Q88)","v":false},{"$f":"IF(X88=\"X\",1,0)","v":0},{"$f":"IF(W88<Parameter!$C$3,1,0)","v":0}]
[null,null,null,null,null,null,null,null,{"$f":"IF(OR(E89=Sprache!$C$19,E89=Sprache!$D$19),F89,0)+IF(OR(G89=Sprache!$C$19,G89=Sprache!$D$19),H89,0)+IF(OR(E89=Sprache!$C$20,E89=Sprache!$D$20),F89,0)+IF(OR(G89=Sprache!$C$20,G89=Sprache!$D$20),H89,0)","v":0},{"$f":"IF(OR(E89=Sprache!$C$21,E89=Sprache!$D$21),F89,0)+IF(OR(G89=Sprache!$C$21,G89=Sprache!$D$21),H89,0)","v":0},{"$f":"IF(OR(E89=Sprache!$C$22,E89=Sprache!$D$22),F89,0)+IF(OR(G89=Sprache!$C$22,G89=Sprache!$D$22),H89,0)","v":0},{"$f":"IF(OR(E89=Sprache!$C$23,E89=Sprache!$D$23),F89,0)+IF(OR(G89=Sprache!$C$23,G89=Sprache!$D$23),H89,0)","v":0},{"$f":"IF(OR(E89=Sprache!$C$24,E89=Sprache!$D$24),F89,0)+IF(OR(G89=Sprache!$C$24,G89=Sprache!$D$24),H89,0)","v":0},0,0,"",null,null,null,0,null,null,"","",{"$f":"IF(B89<>\"\",HYPERLINK($AB$9&AA89,Sprache!$E$25 &\" \"&B89),\"\")","v":""},null,{"$f":"AA88+1","v":81},{"$f":"Eingabemeldung(Sprache!$E$18,Sprache!$E$17,'Formular C'!E89)","v":{"$error":"#VALUE!"}},{"$f":"Eingabemeldung(Sprache!$E$18,Sprache!$E$17,'Formular C'!G89)","v":{"$error":"#VALUE!"}},false,0,{"$f":"IF(W89<Parameter!$C$3,1,0)","v":0}]
[null,null,null,null,null,null,null,null,{"$f":"IF(OR(E90=Sprache!$C$19,E90=Sprache!$D$19),F90,0)+IF(OR(G90=Sprache!$C$19,G90=Sprache!$D$19),H90,0)+IF(OR(E90=Sprache!$C$20,E90=Sprache!$D$20),F90,0)+IF(OR(G90=Sprache!$C$20,G90=Sprache!$D$20),H90,0)","v":0},{"$f":"IF(OR(E90=Sprache!$C$21,E90=Sprache!$D$21),F90,0)+IF(OR(G90=Sprache!$C$21,G90=Sprache!$D$21),H90,0)","v":0},{"$f":"IF(OR(E90=Sprache!$C$22,E90=Sprache!$D$22),F90,0)+IF(OR(G90=Sprache!$C$22,G90=Sprache!$D$22),H90,0)","v":0},{"$f":"IF(OR(E90=Sprache!$C$23,E90=Sprache!$D$23),F90,0)+IF(OR(G90=Sprache!$C$23,G90=Sprache!$D$23),H90,0)","v":0},{"$f":"IF(OR(E90=Sprache!$C$24,E90=Sprache!$D$24),F90,0)+IF(OR(G90=Sprache!$C$24,G90=Sprache!$D$24),H90,0)","v":0},0,0,"",null,null,null,0,null,null,"","",{"$f":"IF(B90<>\"\",HYPERLINK($AB$9&AA90,Sprache!$E$25 &\" \"&B90),\"\")","v":""},null,82,{"$f":"Eingabemeldung(Sprache!$E$18,Sprache!$E$17,'Formular C'!E90)","v":{"$error":"#VALUE!"}},{"$f":"Eingabemeldung(Sprache!$E$18,Sprache!$E$17,'Formular C'!G90)","v":{"$error":"#VALUE!"}},false,0,{"$f":"IF(W90<Parameter!$C$3,1,0)","v":0}]
[null,null,null,null,null,null,null,null,{"$f":"IF(OR(E91=Sprache!$C$19,E91=Sprache!$D$19),F91,0)+IF(OR(G91=Sprache!$C$19,G91=Sprache!$D$19),H91,0)+IF(OR(E91=Sprache!$C$20,E91=Sprache!$D$20),F91,0)+IF(OR(G91=Sprache!$C$20,G91=Sprache!$D$20),H91,0)","v":0},{"$f":"IF(OR(E91=Sprache!$C$21,E91=Sprache!$D$21),F91,0)+IF(OR(G91=Sprache!$C$21,G91=Sprache!$D$21),H91,0)","v":0},{"$f":"IF(OR(E91=Sprache!$C$22,E91=Sprache!$D$22),F91,0)+IF(OR(G91=Sprache!$C$22,G91=Sprache!$D$22),H91,0)","v":0},{"$f":"IF(OR(E91=Sprache!$C$23,E91=Sprache!$D$23),F91,0)+IF(OR(G91=Sprache!$C$23,G91=Sprache!$D$23),H91,0)","v":0},{"$f":"IF(OR(E91=Sprache!$C$24,E91=Sprache!$D$24),F91,0)+IF(OR(G91=Sprache!$C$24,G91=Sprache!$D$24),H91,0)","v":0},0,0,"",null,null,null,0,null,null,"","",{"$f":"IF(B91<>\"\",HYPERLINK($AB$9&AA91,Sprache!$E$25 &\" \"&B91),\"\")","v":""},null,83,{"$f":"Eingabemeldung(Sprache!$E$18,Sprache!$E$17,'Formular C'!E91)","v":{"$error":"#VALUE!"}},{"$f":"Eingabemeldung(Sprache!$E$18,Sprache!$E$17,'Formular C'!G91)","v":{"$error":"#VALUE!"}},false,0,{"$f":"IF(W91<Parameter!$C$3,1,0)","v":0}]
[null,null,null,null,null,null,null,null,{"$f":"IF(OR(E92=Sprache!$C$19,E92=Sprache!$D$19),F92,0)+IF(OR(G92=Sprache!$C$19,G92=Sprache!$D$19),H92,0)+IF(OR(E92=Sprache!$C$20,E92=Sprache!$D$20),F92,0)+IF(OR(G92=Sprache!$C$20,G92=Sprache!$D$20),H92,0)","v":0},{"$f":"IF(OR(E92=Sprache!$C$21,E92=Sprache!$D$21),F92,0)+IF(OR(G92=Sprache!$C$21,G92=Sprache!$D$21),H92,0)","v":0},{"$f":"IF(OR(E92=Sprache!$C$22,E92=Sprache!$D$22),F92,0)+IF(OR(G92=Sprache!$C$22,G92=Sprache!$D$22),H92,0)","v":0},{"$f":"IF(OR(E92=Sprache!$C$23,E92=Sprache!$D$23),F92,0)+IF(OR(G92=Sprache!$C$23,G92=Sprache!$D$23),H92,0)","v":0},{"$f":"IF(OR(E92=Sprache!$C$24,E92=Sprache!$D$24),F92,0)+IF(OR(G92=Sprache!$C$24,G92=Sprache!$D$24),H92,0)","v":0},0,0,"",null,null,null,0,null,null,"","",{"$f":"IF(B92<>\"\",HYPERLINK($AB$9&AA92,Sprache!$E$25 &\" \"&B92),\"\")","v":""},null,84,{"$f":"Eingabemeldung(Sprache!$E$18,Sprache!$E$17,'Formular C'!E92)","v":{"$error":"#VALUE!"}},{"$f":"Eingabemeldung(Sprache!$E$18,Sprache!$E$17,'Formular C'!G92)","v":{"$error":"#VALUE!"}},false,0,{"$f":"IF(W92<Parameter!$C$3,1,0)","v":0}]
[null,null,null,null,null,null,null,null,{"$f":"IF(OR(E93=Sprache!$C$19,E93=Sprache!$D$19),F93,0)+IF(OR(G93=Sprache!$C$19,G93=Sprache!$D$19),H93,0)+IF(OR(E93=Sprache!$C$20,E93=Sprache!$D$20),F93,0)+IF(OR(G93=Sprache!$C$20,G93=Sprache!$D$20),H93,0)","v":0},{"$f":"IF(OR(E93=Sprache!$C$21,E93=Sprache!$D$21),F93,0)+IF(OR(G93=Sprache!$C$21,G93=Sprache!$D$21),H93,0)","v":0},{"$f":"IF(OR(E93=Sprache!$C$22,E93=Sprache!$D$22),F93,0)+IF(OR(G93=Sprache!$C$22,G93=Sprache!$D$22),H93,0)","v":0},{"$f":"IF(OR(E93=Sprache!$C$23,E93=Sprache!$D$23),F93,0)+IF(OR(G93=Sprache!$C$23,G93=Sprache!$D$23),H93,0)","v":0},{"$f":"IF(OR(E93=Sprache!$C$24,E93=Sprache!$D$24),F93,0)+IF(OR(G93=Sprache!$C$24,G93=Sprache!$D$24),H93,0)","v":0},0,0,"",null,null,null,0,null,null,"","",{"$f":"IF(B93<>\"\",HYPERLINK($AB$9&AA93,Sprache!$E$25 &\" \"&B93),\"\")","v":""},null,85,{"$f":"Eingabemeldung(Sprache!$E$18,Sprache!$E$17,'Formular C'!E93)","v":{"$error":"#VALUE!"}},{"$f":"Eingabemeldung(Sprache!$E$18,Sprache!$E$17,'Formular C'!G93)","v":{"$error":"#VALUE!"}},false,0,{"$f":"IF(W93<Parameter!$C$3,1,0)","v":0}]
[null,null,null,null,null,null,null,null,{"$f":"IF(OR(E94=Sprache!$C$19,E94=Sprache!$D$19),F94,0)+IF(OR(G94=Sprache!$C$19,G94=Sprache!$D$19),H94,0)+IF(OR(E94=Sprache!$C$20,E94=Sprache!$D$20),F94,0)+IF(OR(G94=Sprache!$C$20,G94=Sprache!$D$20),H94,0)","v":0},{"$f":"IF(OR(E94=Sprache!$C$21,E94=Sprache!$D$21),F94,0)+IF(OR(G94=Sprache!$C$21,G94=Sprache!$D$21),H94,0)","v":0},{"$f":"IF(OR(E94=Sprache!$C$22,E94=Sprache!$D$22),F94,0)+IF(OR(G94=Sprache!$C$22,G94=Sprache!$D$22),H94,0)","v":0},{"$f":"IF(OR(E94=Sprache!$C$23,E94=Sprache!$D$23),F94,0)+IF(OR(G94=Sprache!$C$23,G94=Sprache!$D$23),H94,0)","v":0},{"$f":"IF(OR(E94=Sprache!$C$24,E94=Sprache!$D$24),F94,0)+IF(OR(G94=Sprache!$C$24,G94=Sprache!$D$24),H94,0)","v":0},0,0,"",null,null,null,0,null,null,"","",{"$f":"IF(B94<>\"\",HYPERLINK($AB$9&AA94,Sprache!$E$25 &\" \"&B94),\"\")","v":""},null,86,{"$f":"Eingabemeldung(Sprache!$E$18,Sprache!$E$17,'Formular C'!E94)","v":{"$error":"#VALUE!"}},{"$f":"Eingabemeldung(Sprache!$E$18,Sprache!$E$17,'Formular C'!G94)","v":{"$error":"#VALUE!"}},false,0,{"$f":"IF(W94<Parameter!$C$3,1,0)","v":0}]
[null,null,null,null,null,null,null,null,{"$f":"IF(OR(E95=Sprache!$C$19,E95=Sprache!$D$19),F95,0)+IF(OR(G95=Sprache!$C$19,G95=Sprache!$D$19),H95,0)+IF(OR(E95=Sprache!$C$20,E95=Sprache!$D$20),F95,0)+IF(OR(G95=Sprache!$C$20,G95=Sprache!$D$20),H95,0)","v":0},{"$f":"IF(OR(E95=Sprache!$C$21,E95=Sprache!$D$21),F95,0)+IF(OR(G95=Sprache!$C$21,G95=Sprache!$D$21),H95,0)","v":0},{"$f":"IF(OR(E95=Sprache!$C$22,E95=Sprache!$D$22),F95,0)+IF(OR(G95=Sprache!$C$22,G95=Sprache!$D$22),H95,0)","v":0},{"$f":"IF(OR(E95=Sprache!$C$23,E95=Sprache!$D$23),F95,0)+IF(OR(G95=Sprache!$C$23,G95=Sprache!$D$23),H95,0)","v":0},{"$f":"IF(OR(E95=Sprache!$C$24,E95=Sprache!$D$24),F95,0)+IF(OR(G95=Sprache!$C$24,G95=Sprache!$D$24),H95,0)","v":0},0,0,"",null,null,null,0,null,null,"","",{"$f":"IF(B95<>\"\",HYPERLINK($AB$9&AA95,Sprache!$E$25 &\" \"&B95),\"\")","v":""},null,87,{"$f":"Eingabemeldung(Sprache!$E$18,Sprache!$E$17,'Formular C'!E95)","v":{"$error":"#VALUE!"}},{"$f":"Eingabemeldung(Sprache!$E$18,Sprache!$E$17,'Formular C'!G95)","v":{"$error":"#VALUE!"}},false,0,{"$f":"IF(W95<Parameter!$C$3,1,0)","v":0}]
[null,null,null,null,null,null,null,null,{"$f":"IF(OR(E96=Sprache!$C$19,E96=Sprache!$D$19),F96,0)+IF(OR(G96=Sprache!$C$19,G96=Sprache!$D$19),H96,0)+IF(OR(E96=Sprache!$C$20,E96=Sprache!$D$20),F96,0)+IF(OR(G96=Sprache!$C$20,G96=Sprache!$D$20),H96,0)","v":0},{"$f":"IF(OR(E96=Sprache!$C$21,E96=Sprache!$D$21),F96,0)+IF(OR(G96=Sprache!$C$21,G96=Sprache!$D$21),H96,0)","v":0},{"$f":"IF(OR(E96=Sprache!$C$22,E96=Sprache!$D$22),F96,0)+IF(OR(G96=Sprache!$C$22,G96=Sprache!$D$22),H96,0)","v":0},{"$f":"IF(OR(E96=Sprache!$C$23,E96=Sprache!$D$23),F96,0)+IF(OR(G96=Sprache!$C$23,G96=Sprache!$D$23),H96,0)","v":0},{"$f":"IF(OR(E96=Sprache!$C$24,E96=Sprache!$D$24),F96,0)+IF(OR(G96=Sprache!$C$24,G96=Sprache!$D$24),H96,0)","v":0},0,0,"",null,null,null,0,null,null,"","",{"$f":"IF(B96<>\"\",HYPERLINK($AB$9&AA96,Sprache!$E$25 &\" \"&B96),\"\")","v":""},null,88,{"$f":"Eingabemeldung(Sprache!$E$18,Sprache!$E$17,'Formular C'!E96)","v":{"$error":"#VALUE!"}},{"$f":"Eingabemeldung(Sprache!$E$18,Sprache!$E$17,'Formular C'!G96)","v":{"$error":"#VALUE!"}},false,0,{"$f":"IF(W96<Parameter!$C$3,1,0)","v":0}]
[null,null,null,null,null,null,null,null,{"$f":"IF(OR(E97=Sprache!$C$19,E97=Sprache!$D$19),F97,0)+IF(OR(G97=Sprache!$C$19,G97=Sprache!$D$19),H97,0)+IF(OR(E97=Sprache!$C$20,E97=Sprache!$D$20),F97,0)+IF(OR(G97=Sprache!$C$20,G97=Sprache!$D$20),H97,0)","v":0},{"$f":"IF(OR(E97=Sprache!$C$21,E97=Sprache!$D$21),F97,0)+IF(OR(G97=Sprache!$C$21,G97=Sprache!$D$21),H97,0)","v":0},{"$f":"IF(OR(E97=Sprache!$C$22,E97=Sprache!$D$22),F97,0)+IF(OR(G97=Sprache!$C$22,G97=Sprache!$D$22),H97,0)","v":0},{"$f":"IF(OR(E97=Sprache!$C$23,E97=Sprache!$D$23),F97,0)+IF(OR(G97=Sprache!$C$23,G97=Sprache!$D$23),H97,0)","v":0},{"$f":"IF(OR(E97=Sprache!$C$24,E97=Sprache!$D$24),F97,0)+IF(OR(G97=Sprache!$C$24,G97=Sprache!$D$24),H97,0)","v":0},0,0,"",null,null,null,0,null,null,"","",{"$f":"IF(B97<>\"\",HYPERLINK($AB$9&AA97,Sprache!$E$25 &\" \"&B97),\"\")","v":""},null,89,{"$f":"Eingabemeldung(Sprache!$E$18,Sprache!$E$17,'Formular C'!E97)","v":{"$error":"#VALUE!"}},{"$f":"Eingabemeldung(Sprache!$E$18,Sprache!$E$17,'Formular C'!G97)","v":{"$error":"#VALUE!"}},false,0,{"$f":"IF(W97<Parameter!$C$3,1,0)","v":0}]
[null,null,null,null,null,null,null,null,{"$f":"IF(OR(E98=Sprache!$C$19,E98=Sprache!$D$19),F98,0)+IF(OR(G98=Sprache!$C$19,G98=Sprache!$D$19),H98,0)+IF(OR(E98=Sprache!$C$20,E98=Sprache!$D$20),F98,0)+IF(OR(G98=Sprache!$C$20,G98=Sprache!$D$20),H98,0)","v":0},{"$f":"IF(OR(E98=Sprache!$C$21,E98=Sprache!$D$21),F98,0)+IF(OR(G98=Sprache!$C$21,G98=Sprache!$D$21),H98,0)","v":0},{"$f":"IF(OR(E98=Sprache!$C$22,E98=Sprache!$D$22),F98,0)+IF(OR(G98=Sprache!$C$22,G98=Sprache!$D$22),H98,0)","v":0},{"$f":"IF(OR(E98=Sprache!$C$23,E98=Sprache!$D$23),F98,0)+IF(OR(G98=Sprache!$C$23,G98=Sprache!$D$23),H98,0)","v":0},{"$f":"IF(OR(E98=Sprache!$C$24,E98=Sprache!$D$24),F98,0)+IF(OR(G98=Sprache!$C$24,G98=Sprache!$D$24),H98,0)","v":0},0,0,"",null,null,null,0,null,null,"","",{"$f":"IF(B98<>\"\",HYPERLINK($AB$9&AA98,Sprache!$E$25 &\" \"&B98),\"\")","v":""},null,90,{"$f":"Eingabemeldung(Sprache!$E$18,Sprache!$E$17,'Formular C'!E98)","v":{"$error":"#VALUE!"}},{"$f":"Eingabemeldung(Sprache!$E$18,Sprache!$E$17,'Formular C'!G98)","v":{"$error":"#VALUE!"}},false,0,{"$f":"IF(W98<Parameter!$C$3,1,0)","v":0}]
[null,null,null,null,null,null,null,null,{"$f":"IF(OR(E99=Sprache!$C$19,E99=Sprache!$D$19),F99,0)+IF(OR(G99=Sprache!$C$19,G99=Sprache!$D$19),H99,0)+IF(OR(E99=Sprache!$C$20,E99=Sprache!$D$20),F99,0)+IF(OR(G99=Sprache!$C$20,G99=Sprache!$D$20),H99,0)","v":0},{"$f":"IF(OR(E99=Sprache!$C$21,E99=Sprache!$D$21),F99,0)+IF(OR(G99=Sprache!$C$21,G99=Sprache!$D$21),H99,0)","v":0},{"$f":"IF(OR(E99=Sprache!$C$22,E99=Sprache!$D$22),F99,0)+IF(OR(G99=Sprache!$C$22,G99=Sprache!$D$22),H99,0)","v":0},{"$f":"IF(OR(E99=Sprache!$C$23,E99=Sprache!$D$23),F99,0)+IF(OR(G99=Sprache!$C$23,G99=Sprache!$D$23),H99,0)","v":0},{"$f":"IF(OR(E99=Sprache!$C$24,E99=Sprache!$D$24),F99,0)+IF(OR(G99=Sprache!$C$24,G99=Sprache!$D$24),H99,0)","v":0},0,0,"",null,null,null,0,null,null,"","",{"$f":"IF(B99<>\"\",HYPERLINK($AB$9&AA99,Sprache!$E$25 &\" \"&B99),\"\")","v":""},null,91,{"$f":"Eingabemeldung(Sprache!$E$18,Sprache!$E$17,'Formular C'!E99)","v":{"$error":"#VALUE!"}},{"$f":"Eingabemeldung(Sprache!$E$18,Sprache!$E$17,'Formular C'!G99)","v":{"$error":"#VALUE!"}},false,0,{"$f":"IF(W99<Parameter!$C$3,1,0)","v":0}]
[null,null,null,null,null,null,null,null,{"$f":"IF(OR(E100=Sprache!$C$19,E100=Sprache!$D$19),F100,0)+IF(OR(G100=Sprache!$C$19,G100=Sprache!$D$19),H100,0)+IF(OR(E100=Sprache!$C$20,E100=Sprache!$D$20),F100,0)+IF(OR(G100=Sprache!$C$20,G100=Sprache!$D$20),H100,0)","v":0},{"$f":"IF(OR(E100=Sprache!$C$21,E100=Sprache!$D$21),F100,0)+IF(OR(G100=Sprache!$C$21,G100=Sprache!$D$21),H100,0)","v":0},{"$f":"IF(OR(E100=Sprache!$C$22,E100=Sprache!$D$22),F100,0)+IF(OR(G100=Sprache!$C$22,G100=Sprache!$D$22),H100,0)","v":0},{"$f":"IF(OR(E100=Sprache!$C$23,E100=Sprache!$D$23),F100,0)+IF(OR(G100=Sprache!$C$23,G100=Sprache!$D$23),H100,0)","v":0},{"$f":"IF(OR(E100=Sprache!$C$24,E100=Sprache!$D$24),F100,0)+IF(OR(G100=Sprache!$C$24,G100=Sprache!$D$24),H100,0)","v":0},0,0,"",null,null,null,0,null,null,"","",{"$f":"IF(B100<>\"\",HYPERLINK($AB$9&AA100,Sprache!$E$25 &\" \"&B100),\"\")","v":""},null,92,{"$f":"Eingabemeldung(Sprache!$E$18,Sprache!$E$17,'Formular C'!E100)","v":{"$error":"#VALUE!"}},{"$f":"Eingabemeldung(Sprache!$E$18,Sprache!$E$17,'Formular C'!G100)","v":{"$error":"#VALUE!"}},false,0,{"$f":"IF(W100<Parameter!$C$3,1,0)","v":0}]
[null,null,null,null,null,null,null,null,{"$f":"IF(OR(E101=Sprache!$C$19,E101=Sprache!$D$19),F101,0)+IF(OR(G101=Sprache!$C$19,G101=Sprache!$D$19),H101,0)+IF(OR(E101=Sprache!$C$20,E101=Sprache!$D$20),F101,0)+IF(OR(G101=Sprache!$C$20,G101=Sprache!$D$20),H101,0)","v":0},{"$f":"IF(OR(E101=Sprache!$C$21,E101=Sprache!$D$21),F101,0)+IF(OR(G101=Sprache!$C$21,G101=Sprache!$D$21),H101,0)","v":0},{"$f":"IF(OR(E101=Sprache!$C$22,E101=Sprache!$D$22),F101,0)+IF(OR(G101=Sprache!$C$22,G101=Sprache!$D$22),H101,0)","v":0},{"$f":"IF(OR(E101=Sprache!$C$23,E101=Sprache!$D$23),F101,0)+IF(OR(G101=Sprache!$C$23,G101=Sprache!$D$23),H101,0)","v":0},{"$f":"IF(OR(E101=Sprache!$C$24,E101=Sprache!$D$24),F101,0)+IF(OR(G101=Sprache!$C$24,G101=Sprache!$D$24),H101,0)","v":0},0,0,"",null,null,null,0,null,null,"","",{"$f":"IF(B101<>\"\",HYPERLINK($AB$9&AA101,Sprache!$E$25 &\" \"&B101),\"\")","v":""},null,93,{"$f":"Eingabemeldung(Sprache!$E$18,Sprache!$E$17,'Formular C'!E101)","v":{"$error":"#VALUE!"}},{"$f":"Eingabemeldung(Sprache!$E$18,Sprache!$E$17,'Formular C'!G101)","v":{"$error":"#VALUE!"}},false,0,{"$f":"IF(W101<Parameter!$C$3,1,0)","v":0}]
[null,null,null,null,null,null,null,null,{"$f":"IF(OR(E102=Sprache!$C$19,E102=Sprache!$D$19),F102,0)+IF(OR(G102=Sprache!$C$19,G102=Sprache!$D$19),H102,0)+IF(OR(E102=Sprache!$C$20,E102=Sprache!$D$20),F102,0)+IF(OR(G102=Sprache!$C$20,G102=Sprache!$D$20),H102,0)","v":0},{"$f":"IF(OR(E102=Sprache!$C$21,E102=Sprache!$D$21),F102,0)+IF(OR(G102=Sprache!$C$21,G102=Sprache!$D$21),H102,0)","v":0},{"$f":"IF(OR(E102=Sprache!$C$22,E102=Sprache!$D$22),F102,0)+IF(OR(G102=Sprache!$C$22,G102=Sprache!$D$22),H102,0)","v":0},{"$f":"IF(OR(E102=Sprache!$C$23,E102=Sprache!$D$23),F102,0)+IF(OR(G102=Sprache!$C$23,G102=Sprache!$D$23),H102,0)","v":0},{"$f":"IF(OR(E102=Sprache!$C$24,E102=Sprache!$D$24),F102,0)+IF(OR(G102=Sprache!$C$24,G102=Sprache!$D$24),H102,0)","v":0},0,0,"",null,null,null,0,null,null,"","",{"$f":"IF(B102<>\"\",HYPERLINK($AB$9&AA102,Sprache!$E$25 &\" \"&B102),\"\")","v":""},null,94,{"$f":"Eingabemeldung(Sprache!$E$18,Sprache!$E$17,'Formular C'!E102)","v":{"$error":"#VALUE!"}},{"$f":"Eingabemeldung(Sprache!$E$18,Sprache!$E$17,'Formular C'!G102)","v":{"$error":"#VALUE!"}},false,0,{"$f":"IF(W102<Parameter!$C$3,1,0)","v":0}]
[null,null,null,null,null,null,null,null,{"$f":"IF(OR(E103=Sprache!$C$19,E103=Sprache!$D$19),F103,0)+IF(OR(G103=Sprache!$C$19,G103=Sprache!$D$19),H103,0)+IF(OR(E103=Sprache!$C$20,E103=Sprache!$D$20),F103,0)+IF(OR(G103=Sprache!$C$20,G103=Sprache!$D$20),H103,0)","v":0},{"$f":"IF(OR(E103=Sprache!$C$21,E103=Sprache!$D$21),F103,0)+IF(OR(G103=Sprache!$C$21,G103=Sprache!$D$21),H103,0)","v":0},{"$f":"IF(OR(E103=Sprache!$C$22,E103=Sprache!$D$22),F103,0)+IF(OR(G103=Sprache!$C$22,G103=Sprache!$D$22),H103,0)","v":0},{"$f":"IF(OR(E103=Sprache!$C$23,E103=Sprache!$D$23),F103,0)+IF(OR(G103=Sprache!$C$23,G103=Sprache!$D$23),H103,0)","v":0},{"$f":"IF(OR(E103=Sprache!$C$24,E103=Sprache!$D$24),F103,0)+IF(OR(G103=Sprache!$C$24,G103=Sprache!$D$24),H103,0)","v":0},0,0,"",null,null,null,0,null,null,"","",{"$f":"IF(B103<>\"\",HYPERLINK($AB$9&AA103,Sprache!$E$25 &\" \"&B103),\"\")","v":""},null,95,{"$f":"Eingabemeldung(Sprache!$E$18,Sprache!$E$17,'Formular C'!E103)","v":{"$error":"#VALUE!"}},{"$f":"Eingabemeldung(Sprache!$E$18,Sprache!$E$17,'Formular C'!G103)","v":{"$error":"#VALUE!"}},false,0,{"$f":"IF(W103<Parameter!$C$3,1,0)","v":0}]
[null,null,null,null,null,null,null,null,{"$f":"IF(OR(E104=Sprache!$C$19,E104=Sprache!$D$19),F104,0)+IF(OR(G104=Sprache!$C$19,G104=Sprache!$D$19),H104,0)+IF(OR(E104=Sprache!$C$20,E104=Sprache!$D$20),F104,0)+IF(OR(G104=Sprache!$C$20,G104=Sprache!$D$20),H104,0)","v":0},{"$f":"IF(OR(E104=Sprache!$C$21,E104=Sprache!$D$21),F104,0)+IF(OR(G104=Sprache!$C$21,G104=Sprache!$D$21),H104,0)","v":0},{"$f":"IF(OR(E104=Sprache!$C$22,E104=Sprache!$D$22),F104,0)+IF(OR(G104=Sprache!$C$22,G104=Sprache!$D$22),H104,0)","v":0},{"$f":"IF(OR(E104=Sprache!$C$23,E104=Sprache!$D$23),F104,0)+IF(OR(G104=Sprache!$C$23,G104=Sprache!$D$23),H104,0)","v":0},{"$f":"IF(OR(E104=Sprache!$C$24,E104=Sprache!$D$24),F104,0)+IF(OR(G104=Sprache!$C$24,G104=Sprache!$D$24),H104,0)","v":0},0,0,"",null,null,null,0,null,null,"","",{"$f":"IF(B104<>\"\",HYPERLINK($AB$9&AA104,Sprache!$E$25 &\" \"&B104),\"\")","v":""},null,96,{"$f":"Eingabemeldung(Sprache!$E$18,Sprache!$E$17,'Formular C'!E104)","v":{"$error":"#VALUE!"}},{"$f":"Eingabemeldung(Sprache!$E$18,Sprache!$E$17,'Formular C'!G104)","v":{"$error":"#VALUE!"}},false,0,{"$f":"IF(W104<Parameter!$C$3,1,0)","v":0}]
[null,null,null,null,null,null,null,null,{"$f":"IF(OR(E105=Sprache!$C$19,E105=Sprache!$D$19),F105,0)+IF(OR(G105=Sprache!$C$19,G105=Sprache!$D$19),H105,0)+IF(OR(E105=Sprache!$C$20,E105=Sprache!$D$20),F105,0)+IF(OR(G105=Sprache!$C$20,G105=Sprache!$D$20),H105,0)","v":0},{"$f":"IF(OR(E105=Sprache!$C$21,E105=Sprache!$D$21),F105,0)+IF(OR(G105=Sprache!$C$21,G105=Sprache!$D$21),H105,0)","v":0},{"$f":"IF(OR(E105=Sprache!$C$22,E105=Sprache!$D$22),F105,0)+IF(OR(G105=Sprache!$C$22,G105=Sprache!$D$22),H105,0)","v":0},{"$f":"IF(OR(E105=Sprache!$C$23,E105=Sprache!$D$23),F105,0)+IF(OR(G105=Sprache!$C$23,G105=Sprache!$D$23),H105,0)","v":0},{"$f":"IF(OR(E105=Sprache!$C$24,E105=Sprache!$D$24),F105,0)+IF(OR(G105=Sprache!$C$24,G105=Sprache!$D$24),H105,0)","v":0},0,0,"",null,null,null,0,null,null,"","",{"$f":"IF(B105<>\"\",HYPERLINK($AB$9&AA105,Sprache!$E$25 &\" \"&B105),\"\")","v":""},null,97,{"$f":"Eingabemeldung(Sprache!$E$18,Sprache!$E$17,'Formular C'!E105)","v":{"$error":"#VALUE!"}},{"$f":"Eingabemeldung(Sprache!$E$18,Sprache!$E$17,'Formular C'!G105)","v":{"$error":"#VALUE!"}},false,0,{"$f":"IF(W105<Parameter!$C$3,1,0)","v":0}]
[null,null,null,null,null,null,null,null,{"$f":"IF(OR(E106=Sprache!$C$19,E106=Sprache!$D$19),F106,0)+IF(OR(G106=Sprache!$C$19,G106=Sprache!$D$19),H106,0)+IF(OR(E106=Sprache!$C$20,E106=Sprache!$D$20),F106,0)+IF(OR(G106=Sprache!$C$20,G106=Sprache!$D$20),H106,0)","v":0},{"$f":"IF(OR(E106=Sprache!$C$21,E106=Sprache!$D$21),F106,0)+IF(OR(G106=Sprache!$C$21,G106=Sprache!$D$21),H106,0)","v":0},{"$f":"IF(OR(E106=Sprache!$C$22,E106=Sprache!$D$22),F106,0)+IF(OR(G106=Sprache!$C$22,G106=Sprache!$D$22),H106,0)","v":0},{"$f":"IF(OR(E106=Sprache!$C$23,E106=Sprache!$D$23),F106,0)+IF(OR(G106=Sprache!$C$23,G106=Sprache!$D$23),H106,0)","v":0},{"$f":"IF(OR(E106=Sprache!$C$24,E106=Sprache!$D$24),F106,0)+IF(OR(G106=Sprache!$C$24,G106=Sprache!$D$24),H106,0)","v":0},0,0,"",null,null,null,0,null,null,"","",{"$f":"IF(B106<>\"\",HYPERLINK($AB$9&AA106,Sprache!$E$25 &\" \"&B106),\"\")","v":""},null,98,{"$f":"Eingabemeldung(Sprache!$E$18,Sprache!$E$17,'Formular C'!E106)","v":{"$error":"#VALUE!"}},{"$f":"Eingabemeldung(Sprache!$E$18,Sprache!$E$17,'Formular C'!G106)","v":{"$error":"#VALUE!"}},false,0,{"$f":"IF(W106<Parameter!$C$3,1,0)","v":0}]
[null,null,null,null,null,null,null,null,{"$f":"IF(OR(E107=Sprache!$C$19,E107=Sprache!$D$19),F107,0)+IF(OR(G107=Sprache!$C$19,G107=Sprache!$D$19),H107,0)+IF(OR(E107=Sprache!$C$20,E107=Sprache!$D$20),F107,0)+IF(OR(G107=Sprache!$C$20,G107=Sprache!$D$20),H107,0)","v":0},{"$f":"IF(OR(E107=Sprache!$C$21,E107=Sprache!$D$21),F107,0)+IF(OR(G107=Sprache!$C$21,G107=Sprache!$D$21),H107,0)","v":0},{"$f":"IF(OR(E107=Sprache!$C$22,E107=Sprache!$D$22),F107,0)+IF(OR(G107=Sprache!$C$22,G107=Sprache!$D$22),H107,0)","v":0},{"$f":"IF(OR(E107=Sprache!$C$23,E107=Sprache!$D$23),F107,0)+IF(OR(G107=Sprache!$C$23,G107=Sprache!$D$23),H107,0)","v":0},{"$f":"IF(OR(E107=Sprache!$C$24,E107=Sprache!$D$24),F107,0)+IF(OR(G107=Sprache!$C$24,G107=Sprache!$D$24),H107,0)","v":0},0,0,"",null,null,null,0,null,null,"","",{"$f":"IF(B107<>\"\",HYPERLINK($AB$9&AA107,Sprache!$E$25 &\" \"&B107),\"\")","v":""},null,99,{"$f":"Eingabemeldung(Sprache!$E$18,Sprache!$E$17,'Formular C'!E107)","v":{"$error":"#VALUE!"}},{"$f":"Eingabemeldung(Sprache!$E$18,Sprache!$E$17,'Formular C'!G107)","v":{"$error":"#VALUE!"}},false,0,{"$f":"IF(W107<Parameter!$C$3,1,0)","v":0}]
[null,null,null,null,null,null,null,null,{"$f":"IF(OR(E108=Sprache!$C$19,E108=Sprache!$D$19),F108,0)+IF(OR(G108=Sprache!$C$19,G108=Sprache!$D$19),H108,0)+IF(OR(E108=Sprache!$C$20,E108=Sprache!$D$20),F108,0)+IF(OR(G108=Sprache!$C$20,G108=Sprache!$D$20),H108,0)","v":0},{"$f":"IF(OR(E108=Sprache!$C$21,E108=Sprache!$D$21),F108,0)+IF(OR(G108=Sprache!$C$21,G108=Sprache!$D$21),H108,0)","v":0},{"$f":"IF(OR(E108=Sprache!$C$22,E108=Sprache!$D$22),F108,0)+IF(OR(G108=Sprache!$C$22,G108=Sprache!$D$22),H108,0)","v":0},{"$f":"IF(OR(E108=Sprache!$C$23,E108=Sprache!$D$23),F108,0)+IF(OR(G108=Sprache!$C$23,G108=Sprache!$D$23),H108,0)","v":0},{"$f":"IF(OR(E108=Sprache!$C$24,E108=Sprache!$D$24),F108,0)+IF(OR(G108=Sprache!$C$24,G108=Sprache!$D$24),H108,0)","v":0},0,0,"",null,null,null,0,null,null,"","",{"$f":"IF(B108<>\"\",HYPERLINK($AB$9&AA108,Sprache!$E$25 &\" \"&B108),\"\")","v":""},null,100,{"$f":"Eingabemeldung(Sprache!$E$18,Sprache!$E$17,'Formular C'!E108)","v":{"$error":"#VALUE!"}},{"$f":"Eingabemeldung(Sprache!$E$18,Sprache!$E$17,'Formular C'!G108)","v":{"$error":"#VALUE!"}},false,0,{"$f":"IF(W108<Parameter!$C$3,1,0)","v":0}]
[null,null,null,null,null,null,null,null,{"$f":"IF(OR(E109=Sprache!$C$19,E109=Sprache!$D$19),F109,0)+IF(OR(G109=Sprache!$C$19,G109=Sprache!$D$19),H109,0)+IF(OR(E109=Sprache!$C$20,E109=Sprache!$D$20),F109,0)+IF(OR(G109=Sprache!$C$20,G109=Sprache!$D$20),H109,0)","v":0},{"$f":"IF(OR(E109=Sprache!$C$21,E109=Sprache!$D$21),F109,0)+IF(OR(G109=Sprache!$C$21,G109=Sprache!$D$21),H109,0)","v":0},{"$f":"IF(OR(E109=Sprache!$C$22,E109=Sprache!$D$22),F109,0)+IF(OR(G109=Sprache!$C$22,G109=Sprache!$D$22),H109,0)","v":0},{"$f":"IF(OR(E109=Sprache!$C$23,E109=Sprache!$D$23),F109,0)+IF(OR(G109=Sprache!$C$23,G109=Sprache!$D$23),H109,0)","v":0},{"$f":"IF(OR(E109=Sprache!$C$24,E109=Sprache!$D$24),F109,0)+IF(OR(G109=Sprache!$C$24,G109=Sprache!$D$24),H109,0)","v":0},0,0,"",null,null,null,0,null,null,"","",{"$f":"IF(B109<>\"\",HYPERLINK($AB$9&AA109,Sprache!$E$25 &\" \"&B109),\"\")","v":""},null,101,{"$f":"Eingabemeldung(Sprache!$E$18,Sprache!$E$17,'Formular C'!E109)","v":{"$error":"#VALUE!"}},{"$f":"Eingabemeldung(Sprache!$E$18,Sprache!$E$17,'Formular C'!G109)","v":{"$error":"#VALUE!"}},false,0,{"$f":"IF(W109<Parameter!$C$3,1,0)","v":0}]
[null,null,null,null,null,null,null,null,{"$f":"IF(OR(E110=Sprache!$C$19,E110=Sprache!$D$19),F110,0)+IF(OR(G110=Sprache!$C$19,G110=Sprache!$D$19),H110,0)+IF(OR(E110=Sprache!$C$20,E110=Sprache!$D$20),F110,0)+IF(OR(G110=Sprache!$C$20,G110=Sprache!$D$20),H110,0)","v":0},{"$f":"IF(OR(E110=Sprache!$C$21,E110=Sprache!$D$21),F110,0)+IF(OR(G110=Sprache!$C$21,G110=Sprache!$D$21),H110,0)","v":0},{"$f":"IF(OR(E110=Sprache!$C$22,E110=Sprache!$D$22),F110,0)+IF(OR(G110=Sprache!$C$22,G110=Sprache!$D$22),H110,0)","v":0},{"$f":"IF(OR(E110=Sprache!$C$23,E110=Sprache!$D$23),F110,0)+IF(OR(G110=Sprache!$C$23,G110=Sprache!$D$23),H110,0)","v":0},{"$f":"IF(OR(E110=Sprache!$C$24,E110=Sprache!$D$24),F110,0)+IF(OR(G110=Sprache!$C$24,G110=Sprache!$D$24),H110,0)","v":0},0,0,"",null,null,null,0,null,null,"","",{"$f":"IF(B110<>\"\",HYPERLINK($AB$9&AA110,Sprache!$E$25 &\" \"&B110),\"\")","v":""},null,102,{"$f":"Eingabemeldung(Sprache!$E$18,Sprache!$E$17,'Formular C'!E110)","v":{"$error":"#VALUE!"}},{"$f":"Eingabemeldung(Sprache!$E$18,Sprache!$E$17,'Formular C'!G110)","v":{"$error":"#VALUE!"}},false,0,{"$f":"IF(W110<Parameter!$C$3,1,0)","v":0}]
[null,null,null,null,null,null,null,null,{"$f":"IF(OR(E111=Sprache!$C$19,E111=Sprache!$D$19),F111,0)+IF(OR(G111=Sprache!$C$19,G111=Sprache!$D$19),H111,0)+IF(OR(E111=Sprache!$C$20,E111=Sprache!$D$20),F111,0)+IF(OR(G111=Sprache!$C$20,G111=Sprache!$D$20),H111,0)","v":0},{"$f":"IF(OR(E111=Sprache!$C$21,E111=Sprache!$D$21),F111,0)+IF(OR(G111=Sprache!$C$21,G111=Sprache!$D$21),H111,0)","v":0},{"$f":"IF(OR(E111=Sprache!$C$22,E111=Sprache!$D$22),F111,0)+IF(OR(G111=Sprache!$C$22,G111=Sprache!$D$22),H111,0)","v":0},{"$f":"IF(OR(E111=Sprache!$C$23,E111=Sprache!$D$23),F111,0)+IF(OR(G111=Sprache!$C$23,G111=Sprache!$D$23),H111,0)","v":0},{"$f":"IF(OR(E111=Sprache!$C$24,E111=Sprache!$D$24),F111,0)+IF(OR(G111=Sprache!$C$24,G111=Sprache!$D$24),H111,0)","v":0},0,0,"",null,null,null,0,null,null,"","",{"$f":"IF(B111<>\"\",HYPERLINK($AB$9&AA111,Sprache!$E$25 &\" \"&B111),\"\")","v":""},null,103,{"$f":"Eingabemeldung(Sprache!$E$18,Sprache!$E$17,'Formular C'!E111)","v":{"$error":"#VALUE!"}},{"$f":"Eingabemeldung(Sprache!$E$18,Sprache!$E$17,'Formular C'!G111)","v":{"$error":"#VALUE!"}},false,0,{"$f":"IF(W111<Parameter!$C$3,1,0)","v":0}]
[null,null,null,null,null,null,null,null,{"$f":"IF(OR(E112=Sprache!$C$19,E112=Sprache!$D$19),F112,0)+IF(OR(G112=Sprache!$C$19,G112=Sprache!$D$19),H112,0)+IF(OR(E112=Sprache!$C$20,E112=Sprache!$D$20),F112,0)+IF(OR(G112=Sprache!$C$20,G112=Sprache!$D$20),H112,0)","v":0},{"$f":"IF(OR(E112=Sprache!$C$21,E112=Sprache!$D$21),F112,0)+IF(OR(G112=Sprache!$C$21,G112=Sprache!$D$21),H112,0)","v":0},{"$f":"IF(OR(E112=Sprache!$C$22,E112=Sprache!$D$22),F112,0)+IF(OR(G112=Sprache!$C$22,G112=Sprache!$D$22),H112,0)","v":0},{"$f":"IF(OR(E112=Sprache!$C$23,E112=Sprache!$D$23),F112,0)+IF(OR(G112=Sprache!$C$23,G112=Sprache!$D$23),H112,0)","v":0},{"$f":"IF(OR(E112=Sprache!$C$24,E112=Sprache!$D$24),F112,0)+IF(OR(G112=Sprache!$C$24,G112=Sprache!$D$24),H112,0)","v":0},0,0,"",null,null,null,0,null,null,"","",{"$f":"IF(B112<>\"\",HYPERLINK($AB$9&AA112,Sprache!$E$25 &\" \"&B112),\"\")","v":""},null,104,{"$f":"Eingabemeldung(Sprache!$E$18,Sprache!$E$17,'Formular C'!E112)","v":{"$error":"#VALUE!"}},{"$f":"Eingabemeldung(Sprache!$E$18,Sprache!$E$17,'Formular C'!G112)","v":{"$error":"#VALUE!"}},false,0,{"$f":"IF(W112<Parameter!$C$3,1,0)","v":0}]
[null,null,null,null,null,null,null,null,{"$f":"IF(OR(E113=Sprache!$C$19,E113=Sprache!$D$19),F113,0)+IF(OR(G113=Sprache!$C$19,G113=Sprache!$D$19),H113,0)+IF(OR(E113=Sprache!$C$20,E113=Sprache!$D$20),F113,0)+IF(OR(G113=Sprache!$C$20,G113=Sprache!$D$20),H113,0)","v":0},{"$f":"IF(OR(E113=Sprache!$C$21,E113=Sprache!$D$21),F113,0)+IF(OR(G113=Sprache!$C$21,G113=Sprache!$D$21),H113,0)","v":0},{"$f":"IF(OR(E113=Sprache!$C$22,E113=Sprache!$D$22),F113,0)+IF(OR(G113=Sprache!$C$22,G113=Sprache!$D$22),H113,0)","v":0},{"$f":"IF(OR(E113=Sprache!$C$23,E113=Sprache!$D$23),F113,0)+IF(OR(G113=Sprache!$C$23,G113=Sprache!$D$23),H113,0)","v":0},{"$f":"IF(OR(E113=Sprache!$C$24,E113=Sprache!$D$24),F113,0)+IF(OR(G113=Sprache!$C$24,G113=Sprache!$D$24),H113,0)","v":0},0,0,"",null,null,null,0,null,null,"","",{"$f":"IF(B113<>\"\",HYPERLINK($AB$9&AA113,Sprache!$E$25 &\" \"&B113),\"\")","v":""},null,105,{"$f":"Eingabemeldung(Sprache!$E$18,Sprache!$E$17,'Formular C'!E113)","v":{"$error":"#VALUE!"}},{"$f":"Eingabemeldung(Sprache!$E$18,Sprache!$E$17,'Formular C'!G113)","v":{"$error":"#VALUE!"}},false,0,{"$f":"IF(W113<Parameter!$C$3,1,0)","v":0}]
[null,null,null,null,null,null,null,null,{"$f":"IF(OR(E114=Sprache!$C$19,E114=Sprache!$D$19),F114,0)+IF(OR(G114=Sprache!$C$19,G114=Sprache!$D$19),H114,0)+IF(OR(E114=Sprache!$C$20,E114=Sprache!$D$20),F114,0)+IF(OR(G114=Sprache!$C$20,G114=Sprache!$D$20),H114,0)","v":0},{"$f":"IF(OR(E114=Sprache!$C$21,E114=Sprache!$D$21),F114,0)+IF(OR(G114=Sprache!$C$21,G114=Sprache!$D$21),H114,0)","v":0},{"$f":"IF(OR(E114=Sprache!$C$22,E114=Sprache!$D$22),F114,0)+IF(OR(G114=Sprache!$C$22,G114=Sprache!$D$22),H114,0)","v":0},{"$f":"IF(OR(E114=Sprache!$C$23,E114=Sprache!$D$23),F114,0)+IF(OR(G114=Sprache!$C$23,G114=Sprache!$D$23),H114,0)","v":0},{"$f":"IF(OR(E114=Sprache!$C$24,E114=Sprache!$D$24),F114,0)+IF(OR(G114=Sprache!$C$24,G114=Sprache!$D$24),H114,0)","v":0},0,0,"",null,null,null,0,null,null,"","",{"$f":"IF(B114<>\"\",HYPERLINK($AB$9&AA114,Sprache!$E$25 &\" \"&B114),\"\")","v":""},null,106,{"$f":"Eingabemeldung(Sprache!$E$18,Sprache!$E$17,'Formular C'!E114)","v":{"$error":"#VALUE!"}},{"$f":"Eingabemeldung(Sprache!$E$18,Sprache!$E$17,'Formular C'!G114)","v":{"$error":"#VALUE!"}},false,0,{"$f":"IF(W114<Parameter!$C$3,1,0)","v":0}]
[null,null,null,null,null,null,null,null,{"$f":"IF(OR(E115=Sprache!$C$19,E115=Sprache!$D$19),F115,0)+IF(OR(G115=Sprache!$C$19,G115=Sprache!$D$19),H115,0)+IF(OR(E115=Sprache!$C$20,E115=Sprache!$D$20),F115,0)+IF(OR(G115=Sprache!$C$20,G115=Sprache!$D$20),H115,0)","v":0},{"$f":"IF(OR(E115=Sprache!$C$21,E115=Sprache!$D$21),F115,0)+IF(OR(G115=Sprache!$C$21,G115=Sprache!$D$21),H115,0)","v":0},{"$f":"IF(OR(E115=Sprache!$C$22,E115=Sprache!$D$22),F115,0)+IF(OR(G115=Sprache!$C$22,G115=Sprache!$D$22),H115,0)","v":0},{"$f":"IF(OR(E115=Sprache!$C$23,E115=Sprache!$D$23),F115,0)+IF(OR(G115=Sprache!$C$23,G115=Sprache!$D$23),H115,0)","v":0},{"$f":"IF(OR(E115=Sprache!$C$24,E115=Sprache!$D$24),F115,0)+IF(OR(G115=Sprache!$C$24,G115=Sprache!$D$24),H115,0)","v":0},0,0,"",null,null,null,0,null,null,"","",{"$f":"IF(B115<>\"\",HYPERLINK($AB$9&AA115,Sprache!$E$25 &\" \"&B115),\"\")","v":""},null,107,{"$f":"Eingabemeldung(Sprache!$E$18,Sprache!$E$17,'Formular C'!E115)","v":{"$error":"#VALUE!"}},{"$f":"Eingabemeldung(Sprache!$E$18,Sprache!$E$17,'Formular C'!G115)","v":{"$error":"#VALUE!"}},false,0,{"$f":"IF(W115<Parameter!$C$3,1,0)","v":0}]
[null,null,null,null,null,null,null,null,{"$f":"IF(OR(E116=Sprache!$C$19,E116=Sprache!$D$19),F116,0)+IF(OR(G116=Sprache!$C$19,G116=Sprache!$D$19),H116,0)+IF(OR(E116=Sprache!$C$20,E116=Sprache!$D$20),F116,0)+IF(OR(G116=Sprache!$C$20,G116=Sprache!$D$20),H116,0)","v":0},{"$f":"IF(OR(E116=Sprache!$C$21,E116=Sprache!$D$21),F116,0)+IF(OR(G116=Sprache!$C$21,G116=Sprache!$D$21),H116,0)","v":0},{"$f":"IF(OR(E116=Sprache!$C$22,E116=Sprache!$D$22),F116,0)+IF(OR(G116=Sprache!$C$22,G116=Sprache!$D$22),H116,0)","v":0},{"$f":"IF(OR(E116=Sprache!$C$23,E116=Sprache!$D$23),F116,0)+IF(OR(G116=Sprache!$C$23,G116=Sprache!$D$23),H116,0)","v":0},{"$f":"IF(OR(E116=Sprache!$C$24,E116=Sprache!$D$24),F116,0)+IF(OR(G116=Sprache!$C$24,G116=Sprache!$D$24),H116,0)","v":0},0,0,"",null,null,null,0,null,null,"","",{"$f":"IF(B116<>\"\",HYPERLINK($AB$9&AA116,Sprache!$E$25 &\" \"&B116),\"\")","v":""},null,108,{"$f":"Eingabemeldung(Sprache!$E$18,Sprache!$E$17,'Formular C'!E116)","v":{"$error":"#VALUE!"}},{"$f":"Eingabemeldung(Sprache!$E$18,Sprache!$E$17,'Formular C'!G116)","v":{"$error":"#VALUE!"}},false,0,{"$f":"IF(W116<Parameter!$C$3,1,0)","v":0}]
[null,null,null,null,null,null,null,null,{"$f":"IF(OR(E117=Sprache!$C$19,E117=Sprache!$D$19),F117,0)+IF(OR(G117=Sprache!$C$19,G117=Sprache!$D$19),H117,0)+IF(OR(E117=Sprache!$C$20,E117=Sprache!$D$20),F117,0)+IF(OR(G117=Sprache!$C$20,G117=Sprache!$D$20),H117,0)","v":0},{"$f":"IF(OR(E117=Sprache!$C$21,E117=Sprache!$D$21),F117,0)+IF(OR(G117=Sprache!$C$21,G117=Sprache!$D$21),H117,0)","v":0},{"$f":"IF(OR(E117=Sprache!$C$22,E117=Sprache!$D$22),F117,0)+IF(OR(G117=Sprache!$C$22,G117=Sprache!$D$22),H117,0)","v":0},{"$f":"IF(OR(E117=Sprache!$C$23,E117=Sprache!$D$23),F117,0)+IF(OR(G117=Sprache!$C$23,G117=Sprache!$D$23),H117,0)","v":0},{"$f":"IF(OR(E117=Sprache!$C$24,E117=Sprache!$D$24),F117,0)+IF(OR(G117=Sprache!$C$24,G117=Sprache!$D$24),H117,0)","v":0},0,0,"",null,null,null,0,null,null,"","",{"$f":"IF(B117<>\"\",HYPERLINK($AB$9&AA117,Sprache!$E$25 &\" \"&B117),\"\")","v":""},null,109,{"$f":"Eingabemeldung(Sprache!$E$18,Sprache!$E$17,'Formular C'!E117)","v":{"$error":"#VALUE!"}},{"$f":"Eingabemeldung(Sprache!$E$18,Sprache!$E$17,'Formular C'!G117)","v":{"$error":"#VALUE!"}},false,0,{"$f":"IF(W117<Parameter!$C$3,1,0)","v":0}]
[null,null,null,null,null,null,null,null,{"$f":"IF(OR(E118=Sprache!$C$19,E118=Sprache!$D$19),F118,0)+IF(OR(G118=Sprache!$C$19,G118=Sprache!$D$19),H118,0)+IF(OR(E118=Sprache!$C$20,E118=Sprache!$D$20),F118,0)+IF(OR(G118=Sprache!$C$20,G118=Sprache!$D$20),H118,0)","v":0},{"$f":"IF(OR(E118=Sprache!$C$21,E118=Sprache!$D$21),F118,0)+IF(OR(G118=Sprache!$C$21,G118=Sprache!$D$21),H118,0)","v":0},{"$f":"IF(OR(E118=Sprache!$C$22,E118=Sprache!$D$22),F118,0)+IF(OR(G118=Sprache!$C$22,G118=Sprache!$D$22),H118,0)","v":0},{"$f":"IF(OR(E118=Sprache!$C$23,E118=Sprache!$D$23),F118,0)+IF(OR(G118=Sprache!$C$23,G118=Sprache!$D$23),H118,0)","v":0},{"$f":"IF(OR(E118=Sprache!$C$24,E118=Sprache!$D$24),F118,0)+IF(OR(G118=Sprache!$C$24,G118=Sprache!$D$24),H118,0)","v":0},0,0,"",null,null,null,0,null,null,"","",{"$f":"IF(B118<>\"\",HYPERLINK($AB$9&AA118,Sprache!$E$25 &\" \"&B118),\"\")","v":""},null,110,{"$f":"Eingabemeldung(Sprache!$E$18,Sprache!$E$17,'Formular C'!E118)","v":{"$error":"#VALUE!"}},{"$f":"Eingabemeldung(Sprache!$E$18,Sprache!$E$17,'Formular C'!G118)","v":{"$error":"#VALUE!"}},false,0,{"$f":"IF(W118<Parameter!$C$3,1,0)","v":0}]
[null,null,null,null,null,null,null,null,{"$f":"IF(OR(E119=Sprache!$C$19,E119=Sprache!$D$19),F119,0)+IF(OR(G119=Sprache!$C$19,G119=Sprache!$D$19),H119,0)+IF(OR(E119=Sprache!$C$20,E119=Sprache!$D$20),F119,0)+IF(OR(G119=Sprache!$C$20,G119=Sprache!$D$20),H119,0)","v":0},{"$f":"IF(OR(E119=Sprache!$C$21,E119=Sprache!$D$21),F119,0)+IF(OR(G119=Sprache!$C$21,G119=Sprache!$D$21),H119,0)","v":0},{"$f":"IF(OR(E119=Sprache!$C$22,E119=Sprache!$D$22),F119,0)+IF(OR(G119=Sprache!$C$22,G119=Sprache!$D$22),H119,0)","v":0},{"$f":"IF(OR(E119=Sprache!$C$23,E119=Sprache!$D$23),F119,0)+IF(OR(G119=Sprache!$C$23,G119=Sprache!$D$23),H119,0)","v":0},{"$f":"IF(OR(E119=Sprache!$C$24,E119=Sprache!$D$24),F119,0)+IF(OR(G119=Sprache!$C$24,G119=Sprache!$D$24),H119,0)","v":0},0,0,{"$f":"IFERROR(O119/($H$7-$O$228),\"\")","v":""},null,null,null,{"$f":"(F119*R119)+(H119*S119)","v":0},null,null,"","",{"$f":"IF(B119<>\"\",HYPERLINK($AB$9&AA119,Sprache!$E$25 &\" \"&B119),\"\")","v":""},null,111,{"$f":"Eingabemeldung(Sprache!$E$18,Sprache!$E$17,'Formular C'!E119)","v":{"$error":"#VALUE!"}},{"$f":"Eingabemeldung(Sprache!$E$18,Sprache!$E$17,'Formular C'!G119)","v":{"$error":"#VALUE!"}},false,0,{"$f":"IF(W119<Parameter!$C$3,1,0)","v":0}]
[null,null,null,null,null,null,null,null,{"$f":"IF(OR(E120=Sprache!$C$19,E120=Sprache!$D$19),F120,0)+IF(OR(G120=Sprache!$C$19,G120=Sprache!$D$19),H120,0)+IF(OR(E120=Sprache!$C$20,E120=Sprache!$D$20),F120,0)+IF(OR(G120=Sprache!$C$20,G120=Sprache!$D$20),H120,0)","v":0},{"$f":"IF(OR(E120=Sprache!$C$21,E120=Sprache!$D$21),F120,0)+IF(OR(G120=Sprache!$C$21,G120=Sprache!$D$21),H120,0)","v":0},{"$f":"IF(OR(E120=Sprache!$C$22,E120=Sprache!$D$22),F120,0)+IF(OR(G120=Sprache!$C$22,G120=Sprache!$D$22),H120,0)","v":0},{"$f":"IF(OR(E120=Sprache!$C$23,E120=Sprache!$D$23),F120,0)+IF(OR(G120=Sprache!$C$23,G120=Sprache!$D$23),H120,0)","v":0},{"$f":"IF(OR(E120=Sprache!$C$24,E120=Sprache!$D$24),F120,0)+IF(OR(G120=Sprache!$C$24,G120=Sprache!$D$24),H120,0)","v":0},0,0,"",null,null,null,0,null,null,"","",{"$f":"IF(B120<>\"\",HYPERLINK($AB$9&AA120,Sprache!$E$25 &\" \"&B120),\"\")","v":""},null,112,{"$f":"Eingabemeldung(Sprache!$E$18,Sprache!$E$17,'Formular C'!E120)","v":{"$error":"#VALUE!"}},{"$f":"Eingabemeldung(Sprache!$E$18,Sprache!$E$17,'Formular C'!G120)","v":{"$error":"#VALUE!"}},false,0,{"$f":"IF(W120<Parameter!$C$3,1,0)","v":0}]
[null,null,null,null,null,null,null,null,{"$f":"IF(OR(E121=Sprache!$C$19,E121=Sprache!$D$19),F121,0)+IF(OR(G121=Sprache!$C$19,G121=Sprache!$D$19),H121,0)+IF(OR(E121=Sprache!$C$20,E121=Sprache!$D$20),F121,0)+IF(OR(G121=Sprache!$C$20,G121=Sprache!$D$20),H121,0)","v":0},{"$f":"IF(OR(E121=Sprache!$C$21,E121=Sprache!$D$21),F121,0)+IF(OR(G121=Sprache!$C$21,G121=Sprache!$D$21),H121,0)","v":0},{"$f":"IF(OR(E121=Sprache!$C$22,E121=Sprache!$D$22),F121,0)+IF(OR(G121=Sprache!$C$22,G121=Sprache!$D$22),H121,0)","v":0},{"$f":"IF(OR(E121=Sprache!$C$23,E121=Sprache!$D$23),F121,0)+IF(OR(G121=Sprache!$C$23,G121=Sprache!$D$23),H121,0)","v":0},{"$f":"IF(OR(E121=Sprache!$C$24,E121=Sprache!$D$24),F121,0)+IF(OR(G121=Sprache!$C$24,G121=Sprache!$D$24),H121,0)","v":0},0,0,"",null,null,null,0,null,null,"","",{"$f":"IF(B121<>\"\",HYPERLINK($AB$9&AA121,Sprache!$E$25 &\" \"&B121),\"\")","v":""},null,113,{"$f":"Eingabemeldung(Sprache!$E$18,Sprache!$E$17,'Formular C'!E121)","v":{"$error":"#VALUE!"}},{"$f":"Eingabemeldung(Sprache!$E$18,Sprache!$E$17,'Formular C'!G121)","v":{"$error":"#VALUE!"}},false,0,{"$f":"IF(W121<Parameter!$C$3,1,0)","v":0}]
[null,null,null,null,null,null,null,null,{"$f":"IF(OR(E122=Sprache!$C$19,E122=Sprache!$D$19),F122,0)+IF(OR(G122=Sprache!$C$19,G122=Sprache!$D$19),H122,0)+IF(OR(E122=Sprache!$C$20,E122=Sprache!$D$20),F122,0)+IF(OR(G122=Sprache!$C$20,G122=Sprache!$D$20),H122,0)","v":0},{"$f":"IF(OR(E122=Sprache!$C$21,E122=Sprache!$D$21),F122,0)+IF(OR(G122=Sprache!$C$21,G122=Sprache!$D$21),H122,0)","v":0},{"$f":"IF(OR(E122=Sprache!$C$22,E122=Sprache!$D$22),F122,0)+IF(OR(G122=Sprache!$C$22,G122=Sprache!$D$22),H122,0)","v":0},{"$f":"IF(OR(E122=Sprache!$C$23,E122=Sprache!$D$23),F122,0)+IF(OR(G122=Sprache!$C$23,G122=Sprache!$D$23),H122,0)","v":0},{"$f":"IF(OR(E122=Sprache!$C$24,E122=Sprache!$D$24),F122,0)+IF(OR(G122=Sprache!$C$24,G122=Sprache!$D$24),H122,0)","v":0},0,0,"",null,null,null,0,null,null,"","",{"$f":"IF(B122<>\"\",HYPERLINK($AB$9&AA122,Sprache!$E$25 &\" \"&B122),\"\")","v":""},null,114,{"$f":"Eingabemeldung(Sprache!$E$18,Sprache!$E$17,'Formular C'!E122)","v":{"$error":"#VALUE!"}},{"$f":"Eingabemeldung(Sprache!$E$18,Sprache!$E$17,'Formular C'!G122)","v":{"$error":"#VALUE!"}},false,0,{"$f":"IF(W122<Parameter!$C$3,1,0)","v":0}]
[null,null,null,null,null,null,null,null,{"$f":"IF(OR(E123=Sprache!$C$19,E123=Sprache!$D$19),F123,0)+IF(OR(G123=Sprache!$C$19,G123=Sprache!$D$19),H123,0)+IF(OR(E123=Sprache!$C$20,E123=Sprache!$D$20),F123,0)+IF(OR(G123=Sprache!$C$20,G123=Sprache!$D$20),H123,0)","v":0},{"$f":"IF(OR(E123=Sprache!$C$21,E123=Sprache!$D$21),F123,0)+IF(OR(G123=Sprache!$C$21,G123=Sprache!$D$21),H123,0)","v":0},{"$f":"IF(OR(E123=Sprache!$C$22,E123=Sprache!$D$22),F123,0)+IF(OR(G123=Sprache!$C$22,G123=Sprache!$D$22),H123,0)","v":0},{"$f":"IF(OR(E123=Sprache!$C$23,E123=Sprache!$D$23),F123,0)+IF(OR(G123=Sprache!$C$23,G123=Sprache!$D$23),H123,0)","v":0},{"$f":"IF(OR(E123=Sprache!$C$24,E123=Sprache!$D$24),F123,0)+IF(OR(G123=Sprache!$C$24,G123=Sprache!$D$24),H123,0)","v":0},0,0,"",null,null,null,0,null,null,"","",{"$f":"IF(B123<>\"\",HYPERLINK($AB$9&AA123,Sprache!$E$25 &\" \"&B123),\"\")","v":""},null,115,{"$f":"Eingabemeldung(Sprache!$E$18,Sprache!$E$17,'Formular C'!E123)","v":{"$error":"#VALUE!"}},{"$f":"Eingabemeldung(Sprache!$E$18,Sprache!$E$17,'Formular C'!G123)","v":{"$error":"#VALUE!"}},false,0,{"$f":"IF(W123<Parameter!$C$3,1,0)","v":0}]
[null,{"$f":"Sprache!E173","v":"Produktionsanlagen / Dienstleistungen"},null,null,null,null,null,null,null,null,null,null,null,null,null,null,null,null,null,null,null,null,null,null,null,null,116]
[null,null,null,null,null,null,null,null,{"$f":"IF(OR(E125=Sprache!$C$19,E125=Sprache!$D$19),F125,0)+IF(OR(G125=Sprache!$C$19,G125=Sprache!$D$19),H125,0)+IF(OR(E125=Sprache!$C$20,E125=Sprache!$D$20),F125,0)+IF(OR(G125=Sprache!$C$20,G125=Sprache!$D$20),H125,0)","v":0},{"$f":"IF(OR(E125=Sprache!$C$21,E125=Sprache!$D$21),F125,0)+IF(OR(G125=Sprache!$C$21,G125=Sprache!$D$21),H125,0)","v":0},{"$f":"IF(OR(E125=Sprache!$C$22,E125=Sprache!$D$22),F125,0)+IF(OR(G125=Sprache!$C$22,G125=Sprache!$D$22),H125,0)","v":0},{"$f":"IF(OR(E125=Sprache!$C$23,E125=Sprache!$D$23),F125,0)+IF(OR(G125=Sprache!$C$23,G125=Sprache!$D$23),H125,0)","v":0},{"$f":"IF(OR(E125=Sprache!$C$24,E125=Sprache!$D$24),F125,0)+IF(OR(G125=Sprache!$C$24,G125=Sprache!$D$24),H125,0)","v":0},{"$f":"F125+H125","v":0},{"$f":"GFÖG*I125+GFF*J125+GFH*K125+GFW*L125+GFE*M125","v":0},{"$f":"IFERROR(O125/($H$7-$O$228),\"\")","v":""},null,null,null,{"$f":"(F125*R125)+(H125*S125)","v":0},null,null,"","",{"$f":"IF(B125<>\"\",HYPERLINK($AB$9&AA125,Sprache!$E$25 &\" \"&B125),\"\")","v":""},null,117,{"$f":"Eingabemeldung(Sprache!$E$18,Sprache!$E$17,'Formular C'!E125)","v":{"$error":"#VALUE!"}},{"$f":"Eingabemeldung(Sprache!$E$18,Sprache!$E$17,'Formular C'!G125)","v":{"$error":"#VALUE!"}},false,0,{"$f":"IF(W125<Parameter!$C$4,1,0)","v":0}]
[null,null,null,null,null,null,null,null,{"$f":"IF(OR(E126=Sprache!$C$19,E126=Sprache!$D$19),F126,0)+IF(OR(G126=Sprache!$C$19,G126=Sprache!$D$19),H126,0)+IF(OR(E126=Sprache!$C$20,E126=Sprache!$D$20),F126,0)+IF(OR(G126=Sprache!$C$20,G126=Sprache!$D$20),H126,0)","v":0},{"$f":"IF(OR(E126=Sprache!$C$21,E126=Sprache!$D$21),F126,0)+IF(OR(G126=Sprache!$C$21,G126=Sprache!$D$21),H126,0)","v":0},{"$f":"IF(OR(E126=Sprache!$C$22,E126=Sprache!$D$22),F126,0)+IF(OR(G126=Sprache!$C$22,G126=Sprache!$D$22),H126,0)","v":0},{"$f":"IF(OR(E126=Sprache!$C$23,E126=Sprache!$D$23),F126,0)+IF(OR(G126=Sprache!$C$23,G126=Sprache!$D$23),H126,0)","v":0},{"$f":"IF(OR(E126=Sprache!$C$24,E126=Sprache!$D$24),F126,0)+IF(OR(G126=Sprache!$C$24,G126=Sprache!$D$24),H126,0)","v":0},0,0,"",null,null,null,0,null,null,"","",{"$f":"IF(B126<>\"\",HYPERLINK($AB$9&AA126,Sprache!$E$25 &\" \"&B126),\"\")","v":""},null,118,{"$f":"Eingabemeldung(Sprache!$E$18,Sprache!$E$17,'Formular C'!E126)","v":{"$error":"#VALUE!"}},{"$f":"Eingabemeldung(Sprache!$E$18,Sprache!$E$17,'Formular C'!G126)","v":{"$error":"#VALUE!"}},false,0,{"$f":"IF(W126<Parameter!$C$4,1,0)","v":0}]
[null,null,null,null,null,null,null,null,{"$f":"IF(OR(E127=Sprache!$C$19,E127=Sprache!$D$19),F127,0)+IF(OR(G127=Sprache!$C$19,G127=Sprache!$D$19),H127,0)+IF(OR(E127=Sprache!$C$20,E127=Sprache!$D$20),F127,0)+IF(OR(G127=Sprache!$C$20,G127=Sprache!$D$20),H127,0)","v":0},{"$f":"IF(OR(E127=Sprache!$C$21,E127=Sprache!$D$21),F127,0)+IF(OR(G127=Sprache!$C$21,G127=Sprache!$D$21),H127,0)","v":0},{"$f":"IF(OR(E127=Sprache!$C$22,E127=Sprache!$D$22),F127,0)+IF(OR(G127=Sprache!$C$22,G127=Sprache!$D$22),H127,0)","v":0},{"$f":"IF(OR(E127=Sprache!$C$23,E127=Sprache!$D$23),F127,0)+IF(OR(G127=Sprache!$C$23,G127=Sprache!$D$23),H127,0)","v":0},{"$f":"IF(OR(E127=Sprache!$C$24,E127=Sprache!$D$24),F127,0)+IF(OR(G127=Sprache!$C$24,G127=Sprache!$D$24),H127,0)","v":0},0,0,"",null,null,null,0,null,null,"","",{"$f":"IF(B127<>\"\",HYPERLINK($AB$9&AA127,Sprache!$E$25 &\" \"&B127),\"\")","v":""},null,119,{"$f":"Eingabemeldung(Sprache!$E$18,Sprache!$E$17,'Formular C'!E127)","v":{"$error":"#VALUE!"}},{"$f":"Eingabemeldung(Sprache!$E$18,Sprache!$E$17,'Formular C'!G127)","v":{"$error":"#VALUE!"}},false,0,{"$f":"IF(W127<Parameter!$C$4,1,0)","v":0}]
[null,null,null,null,null,null,null,null,{"$f":"IF(OR(E128=Sprache!$C$19,E128=Sprache!$D$19),F128,0)+IF(OR(G128=Sprache!$C$19,G128=Sprache!$D$19),H128,0)+IF(OR(E128=Sprache!$C$20,E128=Sprache!$D$20),F128,0)+IF(OR(G128=Sprache!$C$20,G128=Sprache!$D$20),H128,0)","v":0},{"$f":"IF(OR(E128=Sprache!$C$21,E128=Sprache!$D$21),F128,0)+IF(OR(G128=Sprache!$C$21,G128=Sprache!$D$21),H128,0)","v":0},{"$f":"IF(OR(E128=Sprache!$C$22,E128=Sprache!$D$22),F128,0)+IF(OR(G128=Sprache!$C$22,G128=Sprache!$D$22),H128,0)","v":0},{"$f":"IF(OR(E128=Sprache!$C$23,E128=Sprache!$D$23),F128,0)+IF(OR(G128=Sprache!$C$23,G128=Sprache!$D$23),H128,0)","v":0},{"$f":"IF(OR(E128=Sprache!$C$24,E128=Sprache!$D$24),F128,0)+IF(OR(G128=Sprache!$C$24,G128=Sprache!$D$24),H128,0)","v":0},0,0,"",null,null,null,0,null,null,"","",{"$f":"IF(B128<>\"\",HYPERLINK($AB$9&AA128,Sprache!$E$25 &\" \"&B128),\"\")","v":""},null,120,{"$f":"Eingabemeldung(Sprache!$E$18,Sprache!$E$17,'Formular C'!E128)","v":{"$error":"#VALUE!"}},{"$f":"Eingabemeldung(Sprache!$E$18,Sprache!$E$17,'Formular C'!G128)","v":{"$error":"#VALUE!"}},false,0,{"$f":"IF(W128<Parameter!$C$4,1,0)","v":0}]
[null,null,null,null,null,null,null,null,{"$f":"IF(OR(E129=Sprache!$C$19,E129=Sprache!$D$19),F129,0)+IF(OR(G129=Sprache!$C$19,G129=Sprache!$D$19),H129,0)+IF(OR(E129=Sprache!$C$20,E129=Sprache!$D$20),F129,0)+IF(OR(G129=Sprache!$C$20,G129=Sprache!$D$20),H129,0)","v":0},{"$f":"IF(OR(E129=Sprache!$C$21,E129=Sprache!$D$21),F129,0)+IF(OR(G129=Sprache!$C$21,G129=Sprache!$D$21),H129,0)","v":0},{"$f":"IF(OR(E129=Sprache!$C$22,E129=Sprache!$D$22),F129,0)+IF(OR(G129=Sprache!$C$22,G129=Sprache!$D$22),H129,0)","v":0},{"$f":"IF(OR(E129=Sprache!$C$23,E129=Sprache!$D$23),F129,0)+IF(OR(G129=Sprache!$C$23,G129=Sprache!$D$23),H129,0)","v":0},{"$f":"IF(OR(E129=Sprache!$C$24,E129=Sprache!$D$24),F129,0)+IF(OR(G129=Sprache!$C$24,G129=Sprache!$D$24),H129,0)","v":0},0,0,"",null,null,null,0,null,null,"","",{"$f":"IF(B129<>\"\",HYPERLINK($AB$9&AA129,Sprache!$E$25 &\" \"&B129),\"\")","v":""},null,121,{"$f":"Eingabemeldung(Sprache!$E$18,Sprache!$E$17,'Formular C'!E129)","v":{"$error":"#VALUE!"}},{"$f":"Eingabemeldung(Sprache!$E$18,Sprache!$E$17,'Formular C'!G129)","v":{"$error":"#VALUE!"}},false,0,{"$f":"IF(W129<Parameter!$C$4,1,0)","v":0}]
[null,null,null,null,null,null,null,null,{"$f":"IF(OR(E130=Sprache!$C$19,E130=Sprache!$D$19),F130,0)+IF(OR(G130=Sprache!$C$19,G130=Sprache!$D$19),H130,0)+IF(OR(E130=Sprache!$C$20,E130=Sprache!$D$20),F130,0)+IF(OR(G130=Sprache!$C$20,G130=Sprache!$D$20),H130,0)","v":0},{"$f":"IF(OR(E130=Sprache!$C$21,E130=Sprache!$D$21),F130,0)+IF(OR(G130=Sprache!$C$21,G130=Sprache!$D$21),H130,0)","v":0},{"$f":"IF(OR(E130=Sprache!$C$22,E130=Sprache!$D$22),F130,0)+IF(OR(G130=Sprache!$C$22,G130=Sprache!$D$22),H130,0)","v":0},{"$f":"IF(OR(E130=Sprache!$C$23,E130=Sprache!$D$23),F130,0)+IF(OR(G130=Sprache!$C$23,G130=Sprache!$D$23),H130,0)","v":0},{"$f":"IF(OR(E130=Sprache!$C$24,E130=Sprache!$D$24),F130,0)+IF(OR(G130=Sprache!$C$24,G130=Sprache!$D$24),H130,0)","v":0},0,0,"",null,null,null,0,null,null,"","",{"$f":"IF(B130<>\"\",HYPERLINK($AB$9&AA130,Sprache!$E$25 &\" \"&B130),\"\")","v":""},null,122,{"$f":"Eingabemeldung(Sprache!$E$18,Sprache!$E$17,'Formular C'!E130)","v":{"$error":"#VALUE!"}},{"$f":"Eingabemeldung(Sprache!$E$18,Sprache!$E$17,'Formular C'!G130)","v":{"$error":"#VALUE!"}},false,0,{"$f":"IF(W130<Parameter!$C$4,1,0)","v":0}]
[null,null,null,null,null,null,null,null,{"$f":"IF(OR(E131=Sprache!$C$19,E131=Sprache!$D$19),F131,0)+IF(OR(G131=Sprache!$C$19,G131=Sprache!$D$19),H131,0)+IF(OR(E131=Sprache!$C$20,E131=Sprache!$D$20),F131,0)+IF(OR(G131=Sprache!$C$20,G131=Sprache!$D$20),H131,0)","v":0},{"$f":"IF(OR(E131=Sprache!$C$21,E131=Sprache!$D$21),F131,0)+IF(OR(G131=Sprache!$C$21,G131=Sprache!$D$21),H131,0)","v":0},{"$f":"IF(OR(E131=Sprache!$C$22,E131=Sprache!$D$22),F131,0)+IF(OR(G131=Sprache!$C$22,G131=Sprache!$D$22),H131,0)","v":0},{"$f":"IF(OR(E131=Sprache!$C$23,E131=Sprache!$D$23),F131,0)+IF(OR(G131=Sprache!$C$23,G131=Sprache!$D$23),H131,0)","v":0},{"$f":"IF(OR(E131=Sprache!$C$24,E131=Sprache!$D$24),F131,0)+IF(OR(G131=Sprache!$C$24,G131=Sprache!$D$24),H131,0)","v":0},0,0,"",null,null,null,0,null,null,"","",{"$f":"IF(B131<>\"\",HYPERLINK($AB$9&AA131,Sprache!$E$25 &\" \"&B131),\"\")","v":""},null,123,{"$f":"Eingabemeldung(Sprache!$E$18,Sprache!$E$17,'Formular C'!E131)","v":{"$error":"#VALUE!"}},{"$f":"Eingabemeldung(Sprache!$E$18,Sprache!$E$17,'Formular C'!G131)","v":{"$error":"#VALUE!"}},false,0,{"$f":"IF(W131<Parameter!$C$4,1,0)","v":0}]
[null,null,null,null,null,null,null,null,{"$f":"IF(OR(E132=Sprache!$C$19,E132=Sprache!$D$19),F132,0)+IF(OR(G132=Sprache!$C$19,G132=Sprache!$D$19),H132,0)+IF(OR(E132=Sprache!$C$20,E132=Sprache!$D$20),F132,0)+IF(OR(G132=Sprache!$C$20,G132=Sprache!$D$20),H132,0)","v":0},{"$f":"IF(OR(E132=Sprache!$C$21,E132=Sprache!$D$21),F132,0)+IF(OR(G132=Sprache!$C$21,G132=Sprache!$D$21),H132,0)","v":0},{"$f":"IF(OR(E132=Sprache!$C$22,E132=Sprache!$D$22),F132,0)+IF(OR(G132=Sprache!$C$22,G132=Sprache!$D$22),H132,0)","v":0},{"$f":"IF(OR(E132=Sprache!$C$23,E132=Sprache!$D$23),F132,0)+IF(OR(G132=Sprache!$C$23,G132=Sprache!$D$23),H132,0)","v":0},{"$f":"IF(OR(E132=Sprache!$C$24,E132=Sprache!$D$24),F132,0)+IF(OR(G132=Sprache!$C$24,G132=Sprache!$D$24),H132,0)","v":0},0,0,"",null,null,null,0,null,null,"","",{"$f":"IF(B132<>\"\",HYPERLINK($AB$9&AA132,Sprache!$E$25 &\" \"&B132),\"\")","v":""},null,124,{"$f":"Eingabemeldung(Sprache!$E$18,Sprache!$E$17,'Formular C'!E132)","v":{"$error":"#VALUE!"}},{"$f":"Eingabemeldung(Sprache!$E$18,Sprache!$E$17,'Formular C'!G132)","v":{"$error":"#VALUE!"}},false,0,{"$f":"IF(W132<Parameter!$C$4,1,0)","v":0}]
[null,null,null,null,null,null,null,null,{"$f":"IF(OR(E133=Sprache!$C$19,E133=Sprache!$D$19),F133,0)+IF(OR(G133=Sprache!$C$19,G133=Sprache!$D$19),H133,0)+IF(OR(E133=Sprache!$C$20,E133=Sprache!$D$20),F133,0)+IF(OR(G133=Sprache!$C$20,G133=Sprache!$D$20),H133,0)","v":0},{"$f":"IF(OR(E133=Sprache!$C$21,E133=Sprache!$D$21),F133,0)+IF(OR(G133=Sprache!$C$21,G133=Sprache!$D$21),H133,0)","v":0},{"$f":"IF(OR(E133=Sprache!$C$22,E133=Sprache!$D$22),F133,0)+IF(OR(G133=Sprache!$C$22,G133=Sprache!$D$22),H133,0)","v":0},{"$f":"IF(OR(E133=Sprache!$C$23,E133=Sprache!$D$23),F133,0)+IF(OR(G133=Sprache!$C$23,G133=Sprache!$D$23),H133,0)","v":0},{"$f":"IF(OR(E133=Sprache!$C$24,E133=Sprache!$D$24),F133,0)+IF(OR(G133=Sprache!$C$24,G133=Sprache!$D$24),H133,0)","v":0},0,0,"",null,null,null,0,null,null,"","",{"$f":"IF(B133<>\"\",HYPERLINK($AB$9&AA133,Sprache!$E$25 &\" \"&B133),\"\")","v":""},null,125,{"$f":"Eingabemeldung(Sprache!$E$18,Sprache!$E$17,'Formular C'!E133)","v":{"$error":"#VALUE!"}},{"$f":"Eingabemeldung(Sprache!$E$18,Sprache!$E$17,'Formular C'!G133)","v":{"$error":"#VALUE!"}},false,0,{"$f":"IF(W133<Parameter!$C$4,1,0)","v":0}]
[null,null,null,null,null,null,null,null,{"$f":"IF(OR(E134=Sprache!$C$19,E134=Sprache!$D$19),F134,0)+IF(OR(G134=Sprache!$C$19,G134=Sprache!$D$19),H134,0)+IF(OR(E134=Sprache!$C$20,E134=Sprache!$D$20),F134,0)+IF(OR(G134=Sprache!$C$20,G134=Sprache!$D$20),H134,0)","v":0},{"$f":"IF(OR(E134=Sprache!$C$21,E134=Sprache!$D$21),F134,0)+IF(OR(G134=Sprache!$C$21,G134=Sprache!$D$21),H134,0)","v":0},{"$f":"IF(OR(E134=Sprache!$C$22,E134=Sprache!$D$22),F134,0)+IF(OR(G134=Sprache!$C$22,G134=Sprache!$D$22),H134,0)","v":0},{"$f":"IF(OR(E134=Sprache!$C$23,E134=Sprache!$D$23),F134,0)+IF(OR(G134=Sprache!$C$23,G134=Sprache!$D$23),H134,0)","v":0},{"$f":"IF(OR(E134=Sprache!$C$24,E134=Sprache!$D$24),F134,0)+IF(OR(G134=Sprache!$C$24,G134=Sprache!$D$24),H134,0)","v":0},0,0,"",null,null,null,0,null,null,"","",{"$f":"IF(B134<>\"\",HYPERLINK($AB$9&AA134,Sprache!$E$25 &\" \"&B134),\"\")","v":""},null,126,{"$f":"Eingabemeldung(Sprache!$E$18,Sprache!$E$17,'Formular C'!E134)","v":{"$error":"#VALUE!"}},{"$f":"Eingabemeldung(Sprache!$E$18,Sprache!$E$17,'Formular C'!G134)","v":{"$error":"#VALUE!"}},false,0,{"$f":"IF(W134<Parameter!$C$4,1,0)","v":0}]
[null,null,null,null,null,null,null,null,{"$f":"IF(OR(E135=Sprache!$C$19,E135=Sprache!$D$19),F135,0)+IF(OR(G135=Sprache!$C$19,G135=Sprache!$D$19),H135,0)+IF(OR(E135=Sprache!$C$20,E135=Sprache!$D$20),F135,0)+IF(OR(G135=Sprache!$C$20,G135=Sprache!$D$20),H135,0)","v":0},{"$f":"IF(OR(E135=Sprache!$C$21,E135=Sprache!$D$21),F135,0)+IF(OR(G135=Sprache!$C$21,G135=Sprache!$D$21),H135,0)","v":0},{"$f":"IF(OR(E135=Sprache!$C$22,E135=Sprache!$D$22),F135,0)+IF(OR(G135=Sprache!$C$22,G135=Sprache!$D$22),H135,0)","v":0},{"$f":"IF(OR(E135=Sprache!$C$23,E135=Sprache!$D$23),F135,0)+IF(OR(G135=Sprache!$C$23,G135=Sprache!$D$23),H135,0)","v":0},{"$f":"IF(OR(E135=Sprache!$C$24,E135=Sprache!$D$24),F135,0)+IF(OR(G135=Sprache!$C$24,G135=Sprache!$D$24),H135,0)","v":0},0,0,"",null,null,null,0,null,null,"","",{"$f":"IF(B135<>\"\",HYPERLINK($AB$9&AA135,Sprache!$E$25 &\" \"&B135),\"\")","v":""},null,127,{"$f":"Eingabemeldung(Sprache!$E$18,Sprache!$E$17,'Formular C'!E135)","v":{"$error":"#VALUE!"}},{"$f":"Eingabemeldung(Sprache!$E$18,Sprache!$E$17,'Formular C'!G135)","v":{"$error":"#VALUE!"}},false,0,{"$f":"IF(W135<Parameter!$C$4,1,0)","v":0}]
[null,null,null,null,null,null,null,null,{"$f":"IF(OR(E136=Sprache!$C$19,E136=Sprache!$D$19),F136,0)+IF(OR(G136=Sprache!$C$19,G136=Sprache!$D$19),H136,0)+IF(OR(E136=Sprache!$C$20,E136=Sprache!$D$20),F136,0)+IF(OR(G136=Sprache!$C$20,G136=Sprache!$D$20),H136,0)","v":0},{"$f":"IF(OR(E136=Sprache!$C$21,E136=Sprache!$D$21),F136,0)+IF(OR(G136=Sprache!$C$21,G136=Sprache!$D$21),H136,0)","v":0},{"$f":"IF(OR(E136=Sprache!$C$22,E136=Sprache!$D$22),F136,0)+IF(OR(G136=Sprache!$C$22,G136=Sprache!$D$22),H136,0)","v":0},{"$f":"IF(OR(E136=Sprache!$C$23,E136=Sprache!$D$23),F136,0)+IF(OR(G136=Sprache!$C$23,G136=Sprache!$D$23),H136,0)","v":0},{"$f":"IF(OR(E136=Sprache!$C$24,E136=Sprache!$D$24),F136,0)+IF(OR(G136=Sprache!$C$24,G136=Sprache!$D$24),H136,0)","v":0},0,0,"",null,null,null,0,null,null,"","",{"$f":"IF(B136<>\"\",HYPERLINK($AB$9&AA136,Sprache!$E$25 &\" \"&B136),\"\")","v":""},null,128,{"$f":"Eingabemeldung(Sprache!$E$18,Sprache!$E$17,'Formular C'!E136)","v":{"$error":"#VALUE!"}},{"$f":"Eingabemeldung(Sprache!$E$18,Sprache!$E$17,'Formular C'!G136)","v":{"$error":"#VALUE!"}},false,0,{"$f":"IF(W136<Parameter!$C$4,1,0)","v":0}]
[null,null,null,null,null,null,null,null,{"$f":"IF(OR(E137=Sprache!$C$19,E137=Sprache!$D$19),F137,0)+IF(OR(G137=Sprache!$C$19,G137=Sprache!$D$19),H137,0)+IF(OR(E137=Sprache!$C$20,E137=Sprache!$D$20),F137,0)+IF(OR(G137=Sprache!$C$20,G137=Sprache!$D$20),H137,0)","v":0},{"$f":"IF(OR(E137=Sprache!$C$21,E137=Sprache!$D$21),F137,0)+IF(OR(G137=Sprache!$C$21,G137=Sprache!$D$21),H137,0)","v":0},{"$f":"IF(OR(E137=Sprache!$C$22,E137=Sprache!$D$22),F137,0)+IF(OR(G137=Sprache!$C$22,G137=Sprache!$D$22),H137,0)","v":0},{"$f":"IF(OR(E137=Sprache!$C$23,E137=Sprache!$D$23),F137,0)+IF(OR(G137=Sprache!$C$23,G137=Sprache!$D$23),H137,0)","v":0},{"$f":"IF(OR(E137=Sprache!$C$24,E137=Sprache!$D$24),F137,0)+IF(OR(G137=Sprache!$C$24,G137=Sprache!$D$24),H137,0)","v":0},0,0,"",null,null,null,0,null,null,"","",{"$f":"IF(B137<>\"\",HYPERLINK($AB$9&AA137,Sprache!$E$25 &\" \"&B137),\"\")","v":""},null,129,{"$f":"Eingabemeldung(Sprache!$E$18,Sprache!$E$17,'Formular C'!E137)","v":{"$error":"#VALUE!"}},{"$f":"Eingabemeldung(Sprache!$E$18,Sprache!$E$17,'Formular C'!G137)","v":{"$error":"#VALUE!"}},false,0,{"$f":"IF(W137<Parameter!$C$4,1,0)","v":0}]
[null,null,null,null,null,null,null,null,{"$f":"IF(OR(E138=Sprache!$C$19,E138=Sprache!$D$19),F138,0)+IF(OR(G138=Sprache!$C$19,G138=Sprache!$D$19),H138,0)+IF(OR(E138=Sprache!$C$20,E138=Sprache!$D$20),F138,0)+IF(OR(G138=Sprache!$C$20,G138=Sprache!$D$20),H138,0)","v":0},{"$f":"IF(OR(E138=Sprache!$C$21,E138=Sprache!$D$21),F138,0)+IF(OR(G138=Sprache!$C$21,G138=Sprache!$D$21),H138,0)","v":0},{"$f":"IF(OR(E138=Sprache!$C$22,E138=Sprache!$D$22),F138,0)+IF(OR(G138=Sprache!$C$22,G138=Sprache!$D$22),H138,0)","v":0},{"$f":"IF(OR(E138=Sprache!$C$23,E138=Sprache!$D$23),F138,0)+IF(OR(G138=Sprache!$C$23,G138=Sprache!$D$23),H138,0)","v":0},{"$f":"IF(OR(E138=Sprache!$C$24,E138=Sprache!$D$24),F138,0)+IF(OR(G138=Sprache!$C$24,G138=Sprache!$D$24),H138,0)","v":0},0,0,"",null,null,null,0,null,null,"","",{"$f":"IF(B138<>\"\",HYPERLINK($AB$9&AA138,Sprache!$E$25 &\" \"&B138),\"\")","v":""},null,130,{"$f":"Eingabemeldung(Sprache!$E$18,Sprache!$E$17,'Formular C'!E138)","v":{"$error":"#VALUE!"}},{"$f":"Eingabemeldung(Sprache!$E$18,Sprache!$E$17,'Formular C'!G138)","v":{"$error":"#VALUE!"}},false,0,{"$f":"IF(W138<Parameter!$C$4,1,0)","v":0}]
[null,null,null,null,null,null,null,null,{"$f":"IF(OR(E139=Sprache!$C$19,E139=Sprache!$D$19),F139,0)+IF(OR(G139=Sprache!$C$19,G139=Sprache!$D$19),H139,0)+IF(OR(E139=Sprache!$C$20,E139=Sprache!$D$20),F139,0)+IF(OR(G139=Sprache!$C$20,G139=Sprache!$D$20),H139,0)","v":0},{"$f":"IF(OR(E139=Sprache!$C$21,E139=Sprache!$D$21),F139,0)+IF(OR(G139=Sprache!$C$21,G139=Sprache!$D$21),H139,0)","v":0},{"$f":"IF(OR(E139=Sprache!$C$22,E139=Sprache!$D$22),F139,0)+IF(OR(G139=Sprache!$C$22,G139=Sprache!$D$22),H139,0)","v":0},{"$f":"IF(OR(E139=Sprache!$C$23,E139=Sprache!$D$23),F139,0)+IF(OR(G139=Sprache!$C$23,G139=Sprache!$D$23),H139,0)","v":0},{"$f":"IF(OR(E139=Sprache!$C$24,E139=Sprache!$D$24),F139,0)+IF(OR(G139=Sprache!$C$24,G139=Sprache!$D$24),H139,0)","v":0},0,0,"",null,null,null,0,null,null,"","",{"$f":"IF(B139<>\"\",HYPERLINK($AB$9&AA139,Sprache!$E$25 &\" \"&B139),\"\")","v":""},null,131,{"$f":"Eingabemeldung(Sprache!$E$18,Sprache!$E$17,'Formular C'!E139)","v":{"$error":"#VALUE!"}},{"$f":"Eingabemeldung(Sprache!$E$18,Sprache!$E$17,'Formular C'!G139)","v":{"$error":"#VALUE!"}},false,0,{"$f":"IF(W139<Parameter!$C$4,1,0)","v":0}]
[null,null,null,null,null,null,null,null,{"$f":"IF(OR(E140=Sprache!$C$19,E140=Sprache!$D$19),F140,0)+IF(OR(G140=Sprache!$C$19,G140=Sprache!$D$19),H140,0)+IF(OR(E140=Sprache!$C$20,E140=Sprache!$D$20),F140,0)+IF(OR(G140=Sprache!$C$20,G140=Sprache!$D$20),H140,0)","v":0},{"$f":"IF(OR(E140=Sprache!$C$21,E140=Sprache!$D$21),F140,0)+IF(OR(G140=Sprache!$C$21,G140=Sprache!$D$21),H140,0)","v":0},{"$f":"IF(OR(E140=Sprache!$C$22,E140=Sprache!$D$22),F140,0)+IF(OR(G140=Sprache!$C$22,G140=Sprache!$D$22),H140,0)","v":0},{"$f":"IF(OR(E140=Sprache!$C$23,E140=Sprache!$D$23),F140,0)+IF(OR(G140=Sprache!$C$23,G140=Sprache!$D$23),H140,0)","v":0},{"$f":"IF(OR(E140=Sprache!$C$24,E140=Sprache!$D$24),F140,0)+IF(OR(G140=Sprache!$C$24,G140=Sprache!$D$24),H140,0)","v":0},0,0,"",null,null,null,0,null,null,"","",{"$f":"IF(B140<>\"\",HYPERLINK($AB$9&AA140,Sprache!$E$25 &\" \"&B140),\"\")","v":""},null,132,{"$f":"Eingabemeldung(Sprache!$E$18,Sprache!$E$17,'Formular C'!E140)","v":{"$error":"#VALUE!"}},{"$f":"Eingabemeldung(Sprache!$E$18,Sprache!$E$17,'Formular C'!G140)","v":{"$error":"#VALUE!"}},false,0,{"$f":"IF(W140<Parameter!$C$4,1,0)","v":0}]
[null,null,null,null,null,null,null,null,{"$f":"IF(OR(E141=Sprache!$C$19,E141=Sprache!$D$19),F141,0)+IF(OR(G141=Sprache!$C$19,G141=Sprache!$D$19),H141,0)+IF(OR(E141=Sprache!$C$20,E141=Sprache!$D$20),F141,0)+IF(OR(G141=Sprache!$C$20,G141=Sprache!$D$20),H141,0)","v":0},{"$f":"IF(OR(E141=Sprache!$C$21,E141=Sprache!$D$21),F141,0)+IF(OR(G141=Sprache!$C$21,G141=Sprache!$D$21),H141,0)","v":0},{"$f":"IF(OR(E141=Sprache!$C$22,E141=Sprache!$D$22),F141,0)+IF(OR(G141=Sprache!$C$22,G141=Sprache!$D$22),H141,0)","v":0},{"$f":"IF(OR(E141=Sprache!$C$23,E141=Sprache!$D$23),F141,0)+IF(OR(G141=Sprache!$C$23,G141=Sprache!$D$23),H141,0)","v":0},{"$f":"IF(OR(E141=Sprache!$C$24,E141=Sprache!$D$24),F141,0)+IF(OR(G141=Sprache!$C$24,G141=Sprache!$D$24),H141,0)","v":0},0,0,"",null,null,null,0,null,null,"","",{"$f":"IF(B141<>\"\",HYPERLINK($AB$9&AA141,Sprache!$E$25 &\" \"&B141),\"\")","v":""},null,133,{"$f":"Eingabemeldung(Sprache!$E$18,Sprache!$E$17,'Formular C'!E141)","v":{"$error":"#VALUE!"}},{"$f":"Eingabemeldung(Sprache!$E$18,Sprache!$E$17,'Formular C'!G141)","v":{"$error":"#VALUE!"}},false,0,{"$f":"IF(W141<Parameter!$C$4,1,0)","v":0}]
[null,null,null,null,null,null,null,null,{"$f":"IF(OR(E142=Sprache!$C$19,E142=Sprache!$D$19),F142,0)+IF(OR(G142=Sprache!$C$19,G142=Sprache!$D$19),H142,0)+IF(OR(E142=Sprache!$C$20,E142=Sprache!$D$20),F142,0)+IF(OR(G142=Sprache!$C$20,G142=Sprache!$D$20),H142,0)","v":0},{"$f":"IF(OR(E142=Sprache!$C$21,E142=Sprache!$D$21),F142,0)+IF(OR(G142=Sprache!$C$21,G142=Sprache!$D$21),H142,0)","v":0},{"$f":"IF(OR(E142=Sprache!$C$22,E142=Sprache!$D$22),F142,0)+IF(OR(G142=Sprache!$C$22,G142=Sprache!$D$22),H142,0)","v":0},{"$f":"IF(OR(E142=Sprache!$C$23,E142=Sprache!$D$23),F142,0)+IF(OR(G142=Sprache!$C$23,G142=Sprache!$D$23),H142,0)","v":0},{"$f":"IF(OR(E142=Sprache!$C$24,E142=Sprache!$D$24),F142,0)+IF(OR(G142=Sprache!$C$24,G142=Sprache!$D$24),H142,0)","v":0},0,0,"",null,null,null,0,null,null,"","",{"$f":"IF(B142<>\"\",HYPERLINK($AB$9&AA142,Sprache!$E$25 &\" \"&B142),\"\")","v":""},null,134,{"$f":"Eingabemeldung(Sprache!$E$18,Sprache!$E$17,'Formular C'!E142)","v":{"$error":"#VALUE!"}},{"$f":"Eingabemeldung(Sprache!$E$18,Sprache!$E$17,'Formular C'!G142)","v":{"$error":"#VALUE!"}},false,0,{"$f":"IF(W142<Parameter!$C$4,1,0)","v":0}]
[null,null,null,null,null,null,null,null,{"$f":"IF(OR(E143=Sprache!$C$19,E143=Sprache!$D$19),F143,0)+IF(OR(G143=Sprache!$C$19,G143=Sprache!$D$19),H143,0)+IF(OR(E143=Sprache!$C$20,E143=Sprache!$D$20),F143,0)+IF(OR(G143=Sprache!$C$20,G143=Sprache!$D$20),H143,0)","v":0},{"$f":"IF(OR(E143=Sprache!$C$21,E143=Sprache!$D$21),F143,0)+IF(OR(G143=Sprache!$C$21,G143=Sprache!$D$21),H143,0)","v":0},{"$f":"IF(OR(E143=Sprache!$C$22,E143=Sprache!$D$22),F143,0)+IF(OR(G143=Sprache!$C$22,G143=Sprache!$D$22),H143,0)","v":0},{"$f":"IF(OR(E143=Sprache!$C$23,E143=Sprache!$D$23),F143,0)+IF(OR(G143=Sprache!$C$23,G143=Sprache!$D$23),H143,0)","v":0},{"$f":"IF(OR(E143=Sprache!$C$24,E143=Sprache!$D$24),F143,0)+IF(OR(G143=Sprache!$C$24,G143=Sprache!$D$24),H143,0)","v":0},0,0,"",null,null,null,0,null,null,"","",{"$f":"IF(B143<>\"\",HYPERLINK($AB$9&AA143,Sprache!$E$25 &\" \"&B143),\"\")","v":""},null,135,{"$f":"Eingabemeldung(Sprache!$E$18,Sprache!$E$17,'Formular C'!E143)","v":{"$error":"#VALUE!"}},{"$f":"Eingabemeldung(Sprache!$E$18,Sprache!$E$17,'Formular C'!G143)","v":{"$error":"#VALUE!"}},false,0,{"$f":"IF(W143<Parameter!$C$4,1,0)","v":0}]
[null,null,null,null,null,null,null,null,{"$f":"IF(OR(E144=Sprache!$C$19,E144=Sprache!$D$19),F144,0)+IF(OR(G144=Sprache!$C$19,G144=Sprache!$D$19),H144,0)+IF(OR(E144=Sprache!$C$20,E144=Sprache!$D$20),F144,0)+IF(OR(G144=Sprache!$C$20,G144=Sprache!$D$20),H144,0)","v":0},{"$f":"IF(OR(E144=Sprache!$C$21,E144=Sprache!$D$21),F144,0)+IF(OR(G144=Sprache!$C$21,G144=Sprache!$D$21),H144,0)","v":0},{"$f":"IF(OR(E144=Sprache!$C$22,E144=Sprache!$D$22),F144,0)+IF(OR(G144=Sprache!$C$22,G144=Sprache!$D$22),H144,0)","v":0},{"$f":"IF(OR(E144=Sprache!$C$23,E144=Sprache!$D$23),F144,0)+IF(OR(G144=Sprache!$C$23,G144=Sprache!$D$23),H144,0)","v":0},{"$f":"IF(OR(E144=Sprache!$C$24,E144=Sprache!$D$24),F144,0)+IF(OR(G144=Sprache!$C$24,G144=Sprache!$D$24),H144,0)","v":0},0,0,"",null,null,null,0,null,null,"","",{"$f":"IF(B144<>\"\",HYPERLINK($AB$9&AA144,Sprache!$E$25 &\" \"&B144),\"\")","v":""},null,136,{"$f":"Eingabemeldung(Sprache!$E$18,Sprache!$E$17,'Formular C'!E144)","v":{"$error":"#VALUE!"}},{"$f":"Eingabemeldung(Sprache!$E$18,Sprache!$E$17,'Formular C'!G144)","v":{"$error":"#VALUE!"}},false,0,{"$f":"IF(W144<Parameter!$C$4,1,0)","v":0}]
[null,null,null,null,null,null,null,null,{"$f":"IF(OR(E145=Sprache!$C$19,E145=Sprache!$D$19),F145,0)+IF(OR(G145=Sprache!$C$19,G145=Sprache!$D$19),H145,0)+IF(OR(E145=Sprache!$C$20,E145=Sprache!$D$20),F145,0)+IF(OR(G145=Sprache!$C$20,G145=Sprache!$D$20),H145,0)","v":0},{"$f":"IF(OR(E145=Sprache!$C$21,E145=Sprache!$D$21),F145,0)+IF(OR(G145=Sprache!$C$21,G145=Sprache!$D$21),H145,0)","v":0},{"$f":"IF(OR(E145=Sprache!$C$22,E145=Sprache!$D$22),F145,0)+IF(OR(G145=Sprache!$C$22,G145=Sprache!$D$22),H145,0)","v":0},{"$f":"IF(OR(E145=Sprache!$C$23,E145=Sprache!$D$23),F145,0)+IF(OR(G145=Sprache!$C$23,G145=Sprache!$D$23),H145,0)","v":0},{"$f":"IF(OR(E145=Sprache!$C$24,E145=Sprache!$D$24),F145,0)+IF(OR(G145=Sprache!$C$24,G145=Sprache!$D$24),H145,0)","v":0},0,0,"",null,null,null,0,null,null,"","",{"$f":"IF(B145<>\"\",HYPERLINK($AB$9&AA145,Sprache!$E$25 &\" \"&B145),\"\")","v":""},null,137,{"$f":"Eingabemeldung(Sprache!$E$18,Sprache!$E$17,'Formular C'!E145)","v":{"$error":"#VALUE!"}},{"$f":"Eingabemeldung(Sprache!$E$18,Sprache!$E$17,'Formular C'!G145)","v":{"$error":"#VALUE!"}},false,0,{"$f":"IF(W145<Parameter!$C$4,1,0)","v":0}]
[null,null,null,null,null,null,null,null,{"$f":"IF(OR(E146=Sprache!$C$19,E146=Sprache!$D$19),F146,0)+IF(OR(G146=Sprache!$C$19,G146=Sprache!$D$19),H146,0)+IF(OR(E146=Sprache!$C$20,E146=Sprache!$D$20),F146,0)+IF(OR(G146=Sprache!$C$20,G146=Sprache!$D$20),H146,0)","v":0},{"$f":"IF(OR(E146=Sprache!$C$21,E146=Sprache!$D$21),F146,0)+IF(OR(G146=Sprache!$C$21,G146=Sprache!$D$21),H146,0)","v":0},{"$f":"IF(OR(E146=Sprache!$C$22,E146=Sprache!$D$22),F146,0)+IF(OR(G146=Sprache!$C$22,G146=Sprache!$D$22),H146,0)","v":0},{"$f":"IF(OR(E146=Sprache!$C$23,E146=Sprache!$D$23),F146,0)+IF(OR(G146=Sprache!$C$23,G146=Sprache!$D$23),H146,0)","v":0},{"$f":"IF(OR(E146=Sprache!$C$24,E146=Sprache!$D$24),F146,0)+IF(OR(G146=Sprache!$C$24,G146=Sprache!$D$24),H146,0)","v":0},0,0,"",null,null,null,0,null,null,"","",{"$f":"IF(B146<>\"\",HYPERLINK($AB$9&AA146,Sprache!$E$25 &\" \"&B146),\"\")","v":""},null,138,{"$f":"Eingabemeldung(Sprache!$E$18,Sprache!$E$17,'Formular C'!E146)","v":{"$error":"#VALUE!"}},{"$f":"Eingabemeldung(Sprache!$E$18,Sprache!$E$17,'Formular C'!G146)","v":{"$error":"#VALUE!"}},false,0,{"$f":"IF(W146<Parameter!$C$4,1,0)","v":0}]
[null,null,null,null,null,null,null,null,{"$f":"IF(OR(E147=Sprache!$C$19,E147=Sprache!$D$19),F147,0)+IF(OR(G147=Sprache!$C$19,G147=Sprache!$D$19),H147,0)+IF(OR(E147=Sprache!$C$20,E147=Sprache!$D$20),F147,0)+IF(OR(G147=Sprache!$C$20,G147=Sprache!$D$20),H147,0)","v":0},{"$f":"IF(OR(E147=Sprache!$C$21,E147=Sprache!$D$21),F147,0)+IF(OR(G147=Sprache!$C$21,G147=Sprache!$D$21),H147,0)","v":0},{"$f":"IF(OR(E147=Sprache!$C$22,E147=Sprache!$D$22),F147,0)+IF(OR(G147=Sprache!$C$22,G147=Sprache!$D$22),H147,0)","v":0},{"$f":"IF(OR(E147=Sprache!$C$23,E147=Sprache!$D$23),F147,0)+IF(OR(G147=Sprache!$C$23,G147=Sprache!$D$23),H147,0)","v":0},{"$f":"IF(OR(E147=Sprache!$C$24,E147=Sprache!$D$24),F147,0)+IF(OR(G147=Sprache!$C$24,G147=Sprache!$D$24),H147,0)","v":0},0,0,"",null,null,null,0,null,null,"","",{"$f":"IF(B147<>\"\",HYPERLINK($AB$9&AA147,Sprache!$E$25 &\" \"&B147),\"\")","v":""},null,139,{"$f":"Eingabemeldung(Sprache!$E$18,Sprache!$E$17,'Formular C'!E147)","v":{"$error":"#VALUE!"}},{"$f":"Eingabemeldung(Sprache!$E$18,Sprache!$E$17,'Formular C'!G147)","v":{"$error":"#VALUE!"}},false,0,{"$f":"IF(W147<Parameter!$C$4,1,0)","v":0}]
[null,null,null,null,null,null,null,null,{"$f":"IF(OR(E148=Sprache!$C$19,E148=Sprache!$D$19),F148,0)+IF(OR(G148=Sprache!$C$19,G148=Sprache!$D$19),H148,0)+IF(OR(E148=Sprache!$C$20,E148=Sprache!$D$20),F148,0)+IF(OR(G148=Sprache!$C$20,G148=Sprache!$D$20),H148,0)","v":0},{"$f":"IF(OR(E148=Sprache!$C$21,E148=Sprache!$D$21),F148,0)+IF(OR(G148=Sprache!$C$21,G148=Sprache!$D$21),H148,0)","v":0},{"$f":"IF(OR(E148=Sprache!$C$22,E148=Sprache!$D$22),F148,0)+IF(OR(G148=Sprache!$C$22,G148=Sprache!$D$22),H148,0)","v":0},{"$f":"IF(OR(E148=Sprache!$C$23,E148=Sprache!$D$23),F148,0)+IF(OR(G148=Sprache!$C$23,G148=Sprache!$D$23),H148,0)","v":0},{"$f":"IF(OR(E148=Sprache!$C$24,E148=Sprache!$D$24),F148,0)+IF(OR(G148=Sprache!$C$24,G148=Sprache!$D$24),H148,0)","v":0},0,0,"",null,null,null,0,null,null,"","",{"$f":"IF(B148<>\"\",HYPERLINK($AB$9&AA148,Sprache!$E$25 &\" \"&B148),\"\")","v":""},null,140,{"$f":"Eingabemeldung(Sprache!$E$18,Sprache!$E$17,'Formular C'!E148)","v":{"$error":"#VALUE!"}},{"$f":"Eingabemeldung(Sprache!$E$18,Sprache!$E$17,'Formular C'!G148)","v":{"$error":"#VALUE!"}},false,0,{"$f":"IF(W148<Parameter!$C$4,1,0)","v":0}]
[null,null,null,null,null,null,null,null,{"$f":"IF(OR(E149=Sprache!$C$19,E149=Sprache!$D$19),F149,0)+IF(OR(G149=Sprache!$C$19,G149=Sprache!$D$19),H149,0)+IF(OR(E149=Sprache!$C$20,E149=Sprache!$D$20),F149,0)+IF(OR(G149=Sprache!$C$20,G149=Sprache!$D$20),H149,0)","v":0},{"$f":"IF(OR(E149=Sprache!$C$21,E149=Sprache!$D$21),F149,0)+IF(OR(G149=Sprache!$C$21,G149=Sprache!$D$21),H149,0)","v":0},{"$f":"IF(OR(E149=Sprache!$C$22,E149=Sprache!$D$22),F149,0)+IF(OR(G149=Sprache!$C$22,G149=Sprache!$D$22),H149,0)","v":0},{"$f":"IF(OR(E149=Sprache!$C$23,E149=Sprache!$D$23),F149,0)+IF(OR(G149=Sprache!$C$23,G149=Sprache!$D$23),H149,0)","v":0},{"$f":"IF(OR(E149=Sprache!$C$24,E149=Sprache!$D$24),F149,0)+IF(OR(G149=Sprache!$C$24,G149=Sprache!$D$24),H149,0)","v":0},0,0,"",null,null,null,0,null,null,"","",{"$f":"IF(B149<>\"\",HYPERLINK($AB$9&AA149,Sprache!$E$25 &\" \"&B149),\"\")","v":""},null,141,{"$f":"Eingabemeldung(Sprache!$E$18,Sprache!$E$17,'Formular C'!E149)","v":{"$error":"#VALUE!"}},{"$f":"Eingabemeldung(Sprache!$E$18,Sprache!$E$17,'Formular C'!G149)","v":{"$error":"#VALUE!"}},false,0,{"$f":"IF(W149<Parameter!$C$4,1,0)","v":0}]
[null,null,null,null,null,null,null,null,{"$f":"IF(OR(E150=Sprache!$C$19,E150=Sprache!$D$19),F150,0)+IF(OR(G150=Sprache!$C$19,G150=Sprache!$D$19),H150,0)+IF(OR(E150=Sprache!$C$20,E150=Sprache!$D$20),F150,0)+IF(OR(G150=Sprache!$C$20,G150=Sprache!$D$20),H150,0)","v":0},{"$f":"IF(OR(E150=Sprache!$C$21,E150=Sprache!$D$21),F150,0)+IF(OR(G150=Sprache!$C$21,G150=Sprache!$D$21),H150,0)","v":0},{"$f":"IF(OR(E150=Sprache!$C$22,E150=Sprache!$D$22),F150,0)+IF(OR(G150=Sprache!$C$22,G150=Sprache!$D$22),H150,0)","v":0},{"$f":"IF(OR(E150=Sprache!$C$23,E150=Sprache!$D$23),F150,0)+IF(OR(G150=Sprache!$C$23,G150=Sprache!$D$23),H150,0)","v":0},{"$f":"IF(OR(E150=Sprache!$C$24,E150=Sprache!$D$24),F150,0)+IF(OR(G150=Sprache!$C$24,G150=Sprache!$D$24),H150,0)","v":0},0,0,"",null,null,null,0,null,null,"","",{"$f":"IF(B150<>\"\",HYPERLINK($AB$9&AA150,Sprache!$E$25 &\" \"&B150),\"\")","v":""},null,142,{"$f":"Eingabemeldung(Sprache!$E$18,Sprache!$E$17,'Formular C'!E150)","v":{"$error":"#VALUE!"}},{"$f":"Eingabemeldung(Sprache!$E$18,Sprache!$E$17,'Formular C'!G150)","v":{"$error":"#VALUE!"}},false,0,{"$f":"IF(W150<Parameter!$C$4,1,0)","v":0}]
[null,null,null,null,null,null,null,null,{"$f":"IF(OR(E151=Sprache!$C$19,E151=Sprache!$D$19),F151,0)+IF(OR(G151=Sprache!$C$19,G151=Sprache!$D$19),H151,0)+IF(OR(E151=Sprache!$C$20,E151=Sprache!$D$20),F151,0)+IF(OR(G151=Sprache!$C$20,G151=Sprache!$D$20),H151,0)","v":0},{"$f":"IF(OR(E151=Sprache!$C$21,E151=Sprache!$D$21),F151,0)+IF(OR(G151=Sprache!$C$21,G151=Sprache!$D$21),H151,0)","v":0},{"$f":"IF(OR(E151=Sprache!$C$22,E151=Sprache!$D$22),F151,0)+IF(OR(G151=Sprache!$C$22,G151=Sprache!$D$22),H151,0)","v":0},{"$f":"IF(OR(E151=Sprache!$C$23,E151=Sprache!$D$23),F151,0)+IF(OR(G151=Sprache!$C$23,G151=Sprache!$D$23),H151,0)","v":0},{"$f":"IF(OR(E151=Sprache!$C$24,E151=Sprache!$D$24),F151,0)+IF(OR(G151=Sprache!$C$24,G151=Sprache!$D$24),H151,0)","v":0},0,0,"",null,null,null,0,null,null,"","",{"$f":"IF(B151<>\"\",HYPERLINK($AB$9&AA151,Sprache!$E$25 &\" \"&B151),\"\")","v":""},null,143,{"$f":"Eingabemeldung(Sprache!$E$18,Sprache!$E$17,'Formular C'!E151)","v":{"$error":"#VALUE!"}},{"$f":"Eingabemeldung(Sprache!$E$18,Sprache!$E$17,'Formular C'!G151)","v":{"$error":"#VALUE!"}},false,0,{"$f":"IF(W151<Parameter!$C$4,1,0)","v":0}]
[null,null,null,null,null,null,null,null,{"$f":"IF(OR(E152=Sprache!$C$19,E152=Sprache!$D$19),F152,0)+IF(OR(G152=Sprache!$C$19,G152=Sprache!$D$19),H152,0)+IF(OR(E152=Sprache!$C$20,E152=Sprache!$D$20),F152,0)+IF(OR(G152=Sprache!$C$20,G152=Sprache!$D$20),H152,0)","v":0},{"$f":"IF(OR(E152=Sprache!$C$21,E152=Sprache!$D$21),F152,0)+IF(OR(G152=Sprache!$C$21,G152=Sprache!$D$21),H152,0)","v":0},{"$f":"IF(OR(E152=Sprache!$C$22,E152=Sprache!$D$22),F152,0)+IF(OR(G152=Sprache!$C$22,G152=Sprache!$D$22),H152,0)","v":0},{"$f":"IF(OR(E152=Sprache!$C$23,E152=Sprache!$D$23),F152,0)+IF(OR(G152=Sprache!$C$23,G152=Sprache!$D$23),H152,0)","v":0},{"$f":"IF(OR(E152=Sprache!$C$24,E152=Sprache!$D$24),F152,0)+IF(OR(G152=Sprache!$C$24,G152=Sprache!$D$24),H152,0)","v":0},0,0,"",null,null,null,0,null,null,{"$f":"IF(T152=0, \"\",U152*V152/T152)","v":""},{"$f":"IF(AF152,\"X\",\"\")","v":""},{"$f":"IF(B152<>\"\",HYPERLINK($AB$9&AA152,Sprache!$E$25 &\" \"&B152),\"\")","v":""},null,144,{"$f":"Eingabemeldung(Sprache!$E$18,Sprache!$E$17,'Formular C'!E152)","v":{"$error":"#VALUE!"}},{"$f":"Eingabemeldung(Sprache!$E$18,Sprache!$E$17,'Formular C'!G152)","v":{"$error":"#VALUE!"}},{"$f":"ISNUMBER(Q152)","v":false},{"$f":"IF(X152=\"X\",1,0)","v":0},{"$f":"IF(W152<Parameter!$C$4,1,0)","v":0}]
[null,null,null,null,null,null,null,null,{"$f":"IF(OR(E153=Sprache!$C$19,E153=Sprache!$D$19),F153,0)+IF(OR(G153=Sprache!$C$19,G153=Sprache!$D$19),H153,0)+IF(OR(E153=Sprache!$C$20,E153=Sprache!$D$20),F153,0)+IF(OR(G153=Sprache!$C$20,G153=Sprache!$D$20),H153,0)","v":0},{"$f":"IF(OR(E153=Sprache!$C$21,E153=Sprache!$D$21),F153,0)+IF(OR(G153=Sprache!$C$21,G153=Sprache!$D$21),H153,0)","v":0},{"$f":"IF(OR(E153=Sprache!$C$22,E153=Sprache!$D$22),F153,0)+IF(OR(G153=Sprache!$C$22,G153=Sprache!$D$22),H153,0)","v":0},{"$f":"IF(OR(E153=Sprache!$C$23,E153=Sprache!$D$23),F153,0)+IF(OR(G153=Sprache!$C$23,G153=Sprache!$D$23),H153,0)","v":0},{"$f":"IF(OR(E153=Sprache!$C$24,E153=Sprache!$D$24),F153,0)+IF(OR(G153=Sprache!$C$24,G153=Sprache!$D$24),H153,0)","v":0},0,0,"",null,null,null,0,null,null,"","",{"$f":"IF(B153<>\"\",HYPERLINK($AB$9&AA153,Sprache!$E$25 &\" \"&B153),\"\")","v":""},null,{"$f":"AA152+1","v":145},{"$f":"Eingabemeldung(Sprache!$E$18,Sprache!$E$17,'Formular C'!E153)","v":{"$error":"#VALUE!"}},{"$f":"Eingabemeldung(Sprache!$E$18,Sprache!$E$17,'Formular C'!G153)","v":{"$error":"#VALUE!"}},false,0,{"$f":"IF(W153<Parameter!$C$4,1,0)","v":0}]
[null,null,null,null,null,null,null,null,{"$f":"IF(OR(E154=Sprache!$C$19,E154=Sprache!$D$19),F154,0)+IF(OR(G154=Sprache!$C$19,G154=Sprache!$D$19),H154,0)+IF(OR(E154=Sprache!$C$20,E154=Sprache!$D$20),F154,0)+IF(OR(G154=Sprache!$C$20,G154=Sprache!$D$20),H154,0)","v":0},{"$f":"IF(OR(E154=Sprache!$C$21,E154=Sprache!$D$21),F154,0)+IF(OR(G154=Sprache!$C$21,G154=Sprache!$D$21),H154,0)","v":0},{"$f":"IF(OR(E154=Sprache!$C$22,E154=Sprache!$D$22),F154,0)+IF(OR(G154=Sprache!$C$22,G154=Sprache!$D$22),H154,0)","v":0},{"$f":"IF(OR(E154=Sprache!$C$23,E154=Sprache!$D$23),F154,0)+IF(OR(G154=Sprache!$C$23,G154=Sprache!$D$23),H154,0)","v":0},{"$f":"IF(OR(E154=Sprache!$C$24,E154=Sprache!$D$24),F154,0)+IF(OR(G154=Sprache!$C$24,G154=Sprache!$D$24),H154,0)","v":0},0,0,"",null,null,null,0,null,null,"","",{"$f":"IF(B154<>\"\",HYPERLINK($AB$9&AA154,Sprache!$E$25 &\" \"&B154),\"\")","v":""},null,146,{"$f":"Eingabemeldung(Sprache!$E$18,Sprache!$E$17,'Formular C'!E154)","v":{"$error":"#VALUE!"}},{"$f":"Eingabemeldung(Sprache!$E$18,Sprache!$E$17,'Formular C'!G154)","v":{"$error":"#VALUE!"}},false,0,{"$f":"IF(W154<Parameter!$C$4,1,0)","v":0}]
[null,null,null,null,null,null,null,null,{"$f":"IF(OR(E155=Sprache!$C$19,E155=Sprache!$D$19),F155,0)+IF(OR(G155=Sprache!$C$19,G155=Sprache!$D$19),H155,0)+IF(OR(E155=Sprache!$C$20,E155=Sprache!$D$20),F155,0)+IF(OR(G155=Sprache!$C$20,G155=Sprache!$D$20),H155,0)","v":0},{"$f":"IF(OR(E155=Sprache!$C$21,E155=Sprache!$D$21),F155,0)+IF(OR(G155=Sprache!$C$21,G155=Sprache!$D$21),H155,0)","v":0},{"$f":"IF(OR(E155=Sprache!$C$22,E155=Sprache!$D$22),F155,0)+IF(OR(G155=Sprache!$C$22,G155=Sprache!$D$22),H155,0)","v":0},{"$f":"IF(OR(E155=Sprache!$C$23,E155=Sprache!$D$23),F155,0)+IF(OR(G155=Sprache!$C$23,G155=Sprache!$D$23),H155,0)","v":0},{"$f":"IF(OR(E155=Sprache!$C$24,E155=Sprache!$D$24),F155,0)+IF(OR(G155=Sprache!$C$24,G155=Sprache!$D$24),H155,0)","v":0},0,0,"",null,null,null,0,null,null,"","",{"$f":"IF(B155<>\"\",HYPERLINK($AB$9&AA155,Sprache!$E$25 &\" \"&B155),\"\")","v":""},null,147,{"$f":"Eingabemeldung(Sprache!$E$18,Sprache!$E$17,'Formular C'!E155)","v":{"$error":"#VALUE!"}},{"$f":"Eingabemeldung(Sprache!$E$18,Sprache!$E$17,'Formular C'!G155)","v":{"$error":"#VALUE!"}},false,0,{"$f":"IF(W155<Parameter!$C$4,1,0)","v":0}]
[null,null,null,null,null,null,null,null,{"$f":"IF(OR(E156=Sprache!$C$19,E156=Sprache!$D$19),F156,0)+IF(OR(G156=Sprache!$C$19,G156=Sprache!$D$19),H156,0)+IF(OR(E156=Sprache!$C$20,E156=Sprache!$D$20),F156,0)+IF(OR(G156=Sprache!$C$20,G156=Sprache!$D$20),H156,0)","v":0},{"$f":"IF(OR(E156=Sprache!$C$21,E156=Sprache!$D$21),F156,0)+IF(OR(G156=Sprache!$C$21,G156=Sprache!$D$21),H156,0)","v":0},{"$f":"IF(OR(E156=Sprache!$C$22,E156=Sprache!$D$22),F156,0)+IF(OR(G156=Sprache!$C$22,G156=Sprache!$D$22),H156,0)","v":0},{"$f":"IF(OR(E156=Sprache!$C$23,E156=Sprache!$D$23),F156,0)+IF(OR(G156=Sprache!$C$23,G156=Sprache!$D$23),H156,0)","v":0},{"$f":"IF(OR(E156=Sprache!$C$24,E156=Sprache!$D$24),F156,0)+IF(OR(G156=Sprache!$C$24,G156=Sprache!$D$24),H156,0)","v":0},0,0,"",null,null,null,0,null,null,"","",{"$f":"IF(B156<>\"\",HYPERLINK($AB$9&AA156,Sprache!$E$25 &\" \"&B156),\"\")","v":""},null,148,{"$f":"Eingabemeldung(Sprache!$E$18,Sprache!$E$17,'Formular C'!E156)","v":{"$error":"#VALUE!"}},{"$f":"Eingabemeldung(Sprache!$E$18,Sprache!$E$17,'Formular C'!G156)","v":{"$error":"#VALUE!"}},false,0,{"$f":"IF(W156<Parameter!$C$4,1,0)","v":0}]
[null,null,null,null,null,null,null,null,{"$f":"IF(OR(E157=Sprache!$C$19,E157=Sprache!$D$19),F157,0)+IF(OR(G157=Sprache!$C$19,G157=Sprache!$D$19),H157,0)+IF(OR(E157=Sprache!$C$20,E157=Sprache!$D$20),F157,0)+IF(OR(G157=Sprache!$C$20,G157=Sprache!$D$20),H157,0)","v":0},{"$f":"IF(OR(E157=Sprache!$C$21,E157=Sprache!$D$21),F157,0)+IF(OR(G157=Sprache!$C$21,G157=Sprache!$D$21),H157,0)","v":0},{"$f":"IF(OR(E157=Sprache!$C$22,E157=Sprache!$D$22),F157,0)+IF(OR(G157=Sprache!$C$22,G157=Sprache!$D$22),H157,0)","v":0},{"$f":"IF(OR(E157=Sprache!$C$23,E157=Sprache!$D$23),F157,0)+IF(OR(G157=Sprache!$C$23,G157=Sprache!$D$23),H157,0)","v":0},{"$f":"IF(OR(E157=Sprache!$C$24,E157=Sprache!$D$24),F157,0)+IF(OR(G157=Sprache!$C$24,G157=Sprache!$D$24),H157,0)","v":0},{"$f":"F157+H157","v":0},{"$f":"GFÖG*I157+GFF*J157+GFH*K157+GFW*L157+GFE*M157","v":0},{"$f":"IFERROR(O157/($H$7-$O$228),\"\")","v":""},null,null,null,{"$f":"(F157*R157)+(H157*S157)","v":0},null,null,"","",{"$f":"IF(B157<>\"\",HYPERLINK($AB$9&AA157,Sprache!$E$25 &\" \"&B157),\"\")","v":""},null,149,{"$f":"Eingabemeldung(Sprache!$E$18,Sprache!$E$17,'Formular C'!E157)","v":{"$error":"#VALUE!"}},{"$f":"Eingabemeldung(Sprache!$E$18,Sprache!$E$17,'Formular C'!G157)","v":{"$error":"#VALUE!"}},false,0,{"$f":"IF(W157<Parameter!$C$4,1,0)","v":0}]
[null,null,null,null,null,null,null,null,{"$f":"IF(OR(E158=Sprache!$C$19,E158=Sprache!$D$19),F158,0)+IF(OR(G158=Sprache!$C$19,G158=Sprache!$D$19),H158,0)+IF(OR(E158=Sprache!$C$20,E158=Sprache!$D$20),F158,0)+IF(OR(G158=Sprache!$C$20,G158=Sprache!$D$20),H158,0)","v":0},{"$f":"IF(OR(E158=Sprache!$C$21,E158=Sprache!$D$21),F158,0)+IF(OR(G158=Sprache!$C$21,G158=Sprache!$D$21),H158,0)","v":0},{"$f":"IF(OR(E158=Sprache!$C$22,E158=Sprache!$D$22),F158,0)+IF(OR(G158=Sprache!$C$22,G158=Sprache!$D$22),H158,0)","v":0},{"$f":"IF(OR(E158=Sprache!$C$23,E158=Sprache!$D$23),F158,0)+IF(OR(G158=Sprache!$C$23,G158=Sprache!$D$23),H158,0)","v":0},{"$f":"IF(OR(E158=Sprache!$C$24,E158=Sprache!$D$24),F158,0)+IF(OR(G158=Sprache!$C$24,G158=Sprache!$D$24),H158,0)","v":0},0,0,"",null,null,null,0,null,null,"","",{"$f":"IF(B158<>\"\",HYPERLINK($AB$9&AA158,Sprache!$E$25 &\" \"&B158),\"\")","v":""},null,150,{"$f":"Eingabemeldung(Sprache!$E$18,Sprache!$E$17,'Formular C'!E158)","v":{"$error":"#VALUE!"}},{"$f":"Eingabemeldung(Sprache!$E$18,Sprache!$E$17,'Formular C'!G158)","v":{"$error":"#VALUE!"}},false,0,{"$f":"IF(W158<Parameter!$C$4,1,0)","v":0}]
[null,null,null,null,null,null,null,null,{"$f":"IF(OR(E159=Sprache!$C$19,E159=Sprache!$D$19),F159,0)+IF(OR(G159=Sprache!$C$19,G159=Sprache!$D$19),H159,0)+IF(OR(E159=Sprache!$C$20,E159=Sprache!$D$20),F159,0)+IF(OR(G159=Sprache!$C$20,G159=Sprache!$D$20),H159,0)","v":0},{"$f":"IF(OR(E159=Sprache!$C$21,E159=Sprache!$D$21),F159,0)+IF(OR(G159=Sprache!$C$21,G159=Sprache!$D$21),H159,0)","v":0},{"$f":"IF(OR(E159=Sprache!$C$22,E159=Sprache!$D$22),F159,0)+IF(OR(G159=Sprache!$C$22,G159=Sprache!$D$22),H159,0)","v":0},{"$f":"IF(OR(E159=Sprache!$C$23,E159=Sprache!$D$23),F159,0)+IF(OR(G159=Sprache!$C$23,G159=Sprache!$D$23),H159,0)","v":0},{"$f":"IF(OR(E159=Sprache!$C$24,E159=Sprache!$D$24),F159,0)+IF(OR(G159=Sprache!$C$24,G159=Sprache!$D$24),H159,0)","v":0},0,0,"",null,null,null,0,null,null,"","",{"$f":"IF(B159<>\"\",HYPERLINK($AB$9&AA159,Sprache!$E$25 &\" \"&B159),\"\")","v":""},null,151,{"$f":"Eingabemeldung(Sprache!$E$18,Sprache!$E$17,'Formular C'!E159)","v":{"$error":"#VALUE!"}},{"$f":"Eingabemeldung(Sprache!$E$18,Sprache!$E$17,'Formular C'!G159)","v":{"$error":"#VALUE!"}},false,0,{"$f":"IF(W159<Parameter!$C$4,1,0)","v":0}]
[null,null,null,null,null,null,null,null,{"$f":"IF(OR(E160=Sprache!$C$19,E160=Sprache!$D$19),F160,0)+IF(OR(G160=Sprache!$C$19,G160=Sprache!$D$19),H160,0)+IF(OR(E160=Sprache!$C$20,E160=Sprache!$D$20),F160,0)+IF(OR(G160=Sprache!$C$20,G160=Sprache!$D$20),H160,0)","v":0},{"$f":"IF(OR(E160=Sprache!$C$21,E160=Sprache!$D$21),F160,0)+IF(OR(G160=Sprache!$C$21,G160=Sprache!$D$21),H160,0)","v":0},{"$f":"IF(OR(E160=Sprache!$C$22,E160=Sprache!$D$22),F160,0)+IF(OR(G160=Sprache!$C$22,G160=Sprache!$D$22),H160,0)","v":0},{"$f":"IF(OR(E160=Sprache!$C$23,E160=Sprache!$D$23),F160,0)+IF(OR(G160=Sprache!$C$23,G160=Sprache!$D$23),H160,0)","v":0},{"$f":"IF(OR(E160=Sprache!$C$24,E160=Sprache!$D$24),F160,0)+IF(OR(G160=Sprache!$C$24,G160=Sprache!$D$24),H160,0)","v":0},0,0,"",null,null,null,0,null,null,"","",{"$f":"IF(B160<>\"\",HYPERLINK($AB$9&AA160,Sprache!$E$25 &\" \"&B160),\"\")","v":""},null,152,{"$f":"Eingabemeldung(Sprache!$E$18,Sprache!$E$17,'Formular C'!E160)","v":{"$error":"#VALUE!"}},{"$f":"Eingabemeldung(Sprache!$E$18,Sprache!$E$17,'Formular C'!G160)","v":{"$error":"#VALUE!"}},false,0,{"$f":"IF(W160<Parameter!$C$4,1,0)","v":0}]
[null,null,null,null,null,null,null,null,{"$f":"IF(OR(E161=Sprache!$C$19,E161=Sprache!$D$19),F161,0)+IF(OR(G161=Sprache!$C$19,G161=Sprache!$D$19),H161,0)+IF(OR(E161=Sprache!$C$20,E161=Sprache!$D$20),F161,0)+IF(OR(G161=Sprache!$C$20,G161=Sprache!$D$20),H161,0)","v":0},{"$f":"IF(OR(E161=Sprache!$C$21,E161=Sprache!$D$21),F161,0)+IF(OR(G161=Sprache!$C$21,G161=Sprache!$D$21),H161,0)","v":0},{"$f":"IF(OR(E161=Sprache!$C$22,E161=Sprache!$D$22),F161,0)+IF(OR(G161=Sprache!$C$22,G161=Sprache!$D$22),H161,0)","v":0},{"$f":"IF(OR(E161=Sprache!$C$23,E161=Sprache!$D$23),F161,0)+IF(OR(G161=Sprache!$C$23,G161=Sprache!$D$23),H161,0)","v":0},{"$f":"IF(OR(E161=Sprache!$C$24,E161=Sprache!$D$24),F161,0)+IF(OR(G161=Sprache!$C$24,G161=Sprache!$D$24),H161,0)","v":0},0,0,"",null,null,null,0,null,null,"","",{"$f":"IF(B161<>\"\",HYPERLINK($AB$9&AA161,Sprache!$E$25 &\" \"&B161),\"\")","v":""},null,153,{"$f":"Eingabemeldung(Sprache!$E$18,Sprache!$E$17,'Formular C'!E161)","v":{"$error":"#VALUE!"}},{"$f":"Eingabemeldung(Sprache!$E$18,Sprache!$E$17,'Formular C'!G161)","v":{"$error":"#VALUE!"}},false,0,{"$f":"IF(W161<Parameter!$C$4,1,0)","v":0}]
[null,null,null,null,null,null,null,null,{"$f":"IF(OR(E162=Sprache!$C$19,E162=Sprache!$D$19),F162,0)+IF(OR(G162=Sprache!$C$19,G162=Sprache!$D$19),H162,0)+IF(OR(E162=Sprache!$C$20,E162=Sprache!$D$20),F162,0)+IF(OR(G162=Sprache!$C$20,G162=Sprache!$D$20),H162,0)","v":0},{"$f":"IF(OR(E162=Sprache!$C$21,E162=Sprache!$D$21),F162,0)+IF(OR(G162=Sprache!$C$21,G162=Sprache!$D$21),H162,0)","v":0},{"$f":"IF(OR(E162=Sprache!$C$22,E162=Sprache!$D$22),F162,0)+IF(OR(G162=Sprache!$C$22,G162=Sprache!$D$22),H162,0)","v":0},{"$f":"IF(OR(E162=Sprache!$C$23,E162=Sprache!$D$23),F162,0)+IF(OR(G162=Sprache!$C$23,G162=Sprache!$D$23),H162,0)","v":0},{"$f":"IF(OR(E162=Sprache!$C$24,E162=Sprache!$D$24),F162,0)+IF(OR(G162=Sprache!$C$24,G162=Sprache!$D$24),H162,0)","v":0},0,0,"",null,null,null,0,null,null,"","",{"$f":"IF(B162<>\"\",HYPERLINK($AB$9&AA162,Sprache!$E$25 &\" \"&B162),\"\")","v":""},null,154,{"$f":"Eingabemeldung(Sprache!$E$18,Sprache!$E$17,'Formular C'!E162)","v":{"$error":"#VALUE!"}},{"$f":"Eingabemeldung(Sprache!$E$18,Sprache!$E$17,'Formular C'!G162)","v":{"$error":"#VALUE!"}},false,0,{"$f":"IF(W162<Parameter!$C$4,1,0)","v":0}]
[null,null,null,null,null,null,null,null,{"$f":"IF(OR(E163=Sprache!$C$19,E163=Sprache!$D$19),F163,0)+IF(OR(G163=Sprache!$C$19,G163=Sprache!$D$19),H163,0)+IF(OR(E163=Sprache!$C$20,E163=Sprache!$D$20),F163,0)+IF(OR(G163=Sprache!$C$20,G163=Sprache!$D$20),H163,0)","v":0},{"$f":"IF(OR(E163=Sprache!$C$21,E163=Sprache!$D$21),F163,0)+IF(OR(G163=Sprache!$C$21,G163=Sprache!$D$21),H163,0)","v":0},{"$f":"IF(OR(E163=Sprache!$C$22,E163=Sprache!$D$22),F163,0)+IF(OR(G163=Sprache!$C$22,G163=Sprache!$D$22),H163,0)","v":0},{"$f":"IF(OR(E163=Sprache!$C$23,E163=Sprache!$D$23),F163,0)+IF(OR(G163=Sprache!$C$23,G163=Sprache!$D$23),H163,0)","v":0},{"$f":"IF(OR(E163=Sprache!$C$24,E163=Sprache!$D$24),F163,0)+IF(OR(G163=Sprache!$C$24,G163=Sprache!$D$24),H163,0)","v":0},0,0,"",null,null,null,0,null,null,"","",{"$f":"IF(B163<>\"\",HYPERLINK($AB$9&AA163,Sprache!$E$25 &\" \"&B163),\"\")","v":""},null,155,{"$f":"Eingabemeldung(Sprache!$E$18,Sprache!$E$17,'Formular C'!E163)","v":{"$error":"#VALUE!"}},{"$f":"Eingabemeldung(Sprache!$E$18,Sprache!$E$17,'Formular C'!G163)","v":{"$error":"#VALUE!"}},false,0,{"$f":"IF(W163<Parameter!$C$4,1,0)","v":0}]
[null,null,null,null,null,null,null,null,{"$f":"IF(OR(E164=Sprache!$C$19,E164=Sprache!$D$19),F164,0)+IF(OR(G164=Sprache!$C$19,G164=Sprache!$D$19),H164,0)+IF(OR(E164=Sprache!$C$20,E164=Sprache!$D$20),F164,0)+IF(OR(G164=Sprache!$C$20,G164=Sprache!$D$20),H164,0)","v":0},{"$f":"IF(OR(E164=Sprache!$C$21,E164=Sprache!$D$21),F164,0)+IF(OR(G164=Sprache!$C$21,G164=Sprache!$D$21),H164,0)","v":0},{"$f":"IF(OR(E164=Sprache!$C$22,E164=Sprache!$D$22),F164,0)+IF(OR(G164=Sprache!$C$22,G164=Sprache!$D$22),H164,0)","v":0},{"$f":"IF(OR(E164=Sprache!$C$23,E164=Sprache!$D$23),F164,0)+IF(OR(G164=Sprache!$C$23,G164=Sprache!$D$23),H164,0)","v":0},{"$f":"IF(OR(E164=Sprache!$C$24,E164=Sprache!$D$24),F164,0)+IF(OR(G164=Sprache!$C$24,G164=Sprache!$D$24),H164,0)","v":0},0,0,"",null,null,null,0,null,null,"","",{"$f":"IF(B164<>\"\",HYPERLINK($AB$9&AA164,Sprache!$E$25 &\" \"&B164),\"\")","v":""},null,156,{"$f":"Eingabemeldung(Sprache!$E$18,Sprache!$E$17,'Formular C'!E164)","v":{"$error":"#VALUE!"}},{"$f":"Eingabemeldung(Sprache!$E$18,Sprache!$E$17,'Formular C'!G164)","v":{"$error":"#VALUE!"}},false,0,{"$f":"IF(W164<Parameter!$C$4,1,0)","v":0}]
[null,null,null,null,null,null,null,null,{"$f":"IF(OR(E165=Sprache!$C$19,E165=Sprache!$D$19),F165,0)+IF(OR(G165=Sprache!$C$19,G165=Sprache!$D$19),H165,0)+IF(OR(E165=Sprache!$C$20,E165=Sprache!$D$20),F165,0)+IF(OR(G165=Sprache!$C$20,G165=Sprache!$D$20),H165,0)","v":0},{"$f":"IF(OR(E165=Sprache!$C$21,E165=Sprache!$D$21),F165,0)+IF(OR(G165=Sprache!$C$21,G165=Sprache!$D$21),H165,0)","v":0},{"$f":"IF(OR(E165=Sprache!$C$22,E165=Sprache!$D$22),F165,0)+IF(OR(G165=Sprache!$C$22,G165=Sprache!$D$22),H165,0)","v":0},{"$f":"IF(OR(E165=Sprache!$C$23,E165=Sprache!$D$23),F165,0)+IF(OR(G165=Sprache!$C$23,G165=Sprache!$D$23),H165,0)","v":0},{"$f":"IF(OR(E165=Sprache!$C$24,E165=Sprache!$D$24),F165,0)+IF(OR(G165=Sprache!$C$24,G165=Sprache!$D$24),H165,0)","v":0},0,0,"",null,null,null,0,null,null,"","",{"$f":"IF(B165<>\"\",HYPERLINK($AB$9&AA165,Sprache!$E$25 &\" \"&B165),\"\")","v":""},null,157,{"$f":"Eingabemeldung(Sprache!$E$18,Sprache!$E$17,'Formular C'!E165)","v":{"$error":"#VALUE!"}},{"$f":"Eingabemeldung(Sprache!$E$18,Sprache!$E$17,'Formular C'!G165)","v":{"$error":"#VALUE!"}},false,0,{"$f":"IF(W165<Parameter!$C$4,1,0)","v":0}]
[null,null,null,null,null,null,null,null,{"$f":"IF(OR(E166=Sprache!$C$19,E166=Sprache!$D$19),F166,0)+IF(OR(G166=Sprache!$C$19,G166=Sprache!$D$19),H166,0)+IF(OR(E166=Sprache!$C$20,E166=Sprache!$D$20),F166,0)+IF(OR(G166=Sprache!$C$20,G166=Sprache!$D$20),H166,0)","v":0},{"$f":"IF(OR(E166=Sprache!$C$21,E166=Sprache!$D$21),F166,0)+IF(OR(G166=Sprache!$C$21,G166=Sprache!$D$21),H166,0)","v":0},{"$f":"IF(OR(E166=Sprache!$C$22,E166=Sprache!$D$22),F166,0)+IF(OR(G166=Sprache!$C$22,G166=Sprache!$D$22),H166,0)","v":0},{"$f":"IF(OR(E166=Sprache!$C$23,E166=Sprache!$D$23),F166,0)+IF(OR(G166=Sprache!$C$23,G166=Sprache!$D$23),H166,0)","v":0},{"$f":"IF(OR(E166=Sprache!$C$24,E166=Sprache!$D$24),F166,0)+IF(OR(G166=Sprache!$C$24,G166=Sprache!$D$24),H166,0)","v":0},0,0,"",null,null,null,0,null,null,"","",{"$f":"IF(B166<>\"\",HYPERLINK($AB$9&AA166,Sprache!$E$25 &\" \"&B166),\"\")","v":""},null,158,{"$f":"Eingabemeldung(Sprache!$E$18,Sprache!$E$17,'Formular C'!E166)","v":{"$error":"#VALUE!"}},{"$f":"Eingabemeldung(Sprache!$E$18,Sprache!$E$17,'Formular C'!G166)","v":{"$error":"#VALUE!"}},false,0,{"$f":"IF(W166<Parameter!$C$4,1,0)","v":0}]
[null,null,null,null,null,null,null,null,{"$f":"IF(OR(E167=Sprache!$C$19,E167=Sprache!$D$19),F167,0)+IF(OR(G167=Sprache!$C$19,G167=Sprache!$D$19),H167,0)+IF(OR(E167=Sprache!$C$20,E167=Sprache!$D$20),F167,0)+IF(OR(G167=Sprache!$C$20,G167=Sprache!$D$20),H167,0)","v":0},{"$f":"IF(OR(E167=Sprache!$C$21,E167=Sprache!$D$21),F167,0)+IF(OR(G167=Sprache!$C$21,G167=Sprache!$D$21),H167,0)","v":0},{"$f":"IF(OR(E167=Sprache!$C$22,E167=Sprache!$D$22),F167,0)+IF(OR(G167=Sprache!$C$22,G167=Sprache!$D$22),H167,0)","v":0},{"$f":"IF(OR(E167=Sprache!$C$23,E167=Sprache!$D$23),F167,0)+IF(OR(G167=Sprache!$C$23,G167=Sprache!$D$23),H167,0)","v":0},{"$f":"IF(OR(E167=Sprache!$C$24,E167=Sprache!$D$24),F167,0)+IF(OR(G167=Sprache!$C$24,G167=Sprache!$D$24),H167,0)","v":0},0,0,"",null,null,null,0,null,null,"","",{"$f":"IF(B167<>\"\",HYPERLINK($AB$9&AA167,Sprache!$E$25 &\" \"&B167),\"\")","v":""},null,159,{"$f":"Eingabemeldung(Sprache!$E$18,Sprache!$E$17,'Formular C'!E167)","v":{"$error":"#VALUE!"}},{"$f":"Eingabemeldung(Sprache!$E$18,Sprache!$E$17,'Formular C'!G167)","v":{"$error":"#VALUE!"}},false,0,{"$f":"IF(W167<Parameter!$C$4,1,0)","v":0}]
[null,null,null,null,null,null,null,null,{"$f":"IF(OR(E168=Sprache!$C$19,E168=Sprache!$D$19),F168,0)+IF(OR(G168=Sprache!$C$19,G168=Sprache!$D$19),H168,0)+IF(OR(E168=Sprache!$C$20,E168=Sprache!$D$20),F168,0)+IF(OR(G168=Sprache!$C$20,G168=Sprache!$D$20),H168,0)","v":0},{"$f":"IF(OR(E168=Sprache!$C$21,E168=Sprache!$D$21),F168,0)+IF(OR(G168=Sprache!$C$21,G168=Sprache!$D$21),H168,0)","v":0},{"$f":"IF(OR(E168=Sprache!$C$22,E168=Sprache!$D$22),F168,0)+IF(OR(G168=Sprache!$C$22,G168=Sprache!$D$22),H168,0)","v":0},{"$f":"IF(OR(E168=Sprache!$C$23,E168=Sprache!$D$23),F168,0)+IF(OR(G168=Sprache!$C$23,G168=Sprache!$D$23),H168,0)","v":0},{"$f":"IF(OR(E168=Sprache!$C$24,E168=Sprache!$D$24),F168,0)+IF(OR(G168=Sprache!$C$24,G168=Sprache!$D$24),H168,0)","v":0},0,0,"",null,null,null,0,null,null,"","",{"$f":"IF(B168<>\"\",HYPERLINK($AB$9&AA168,Sprache!$E$25 &\" \"&B168),\"\")","v":""},null,160,{"$f":"Eingabemeldung(Sprache!$E$18,Sprache!$E$17,'Formular C'!E168)","v":{"$error":"#VALUE!"}},{"$f":"Eingabemeldung(Sprache!$E$18,Sprache!$E$17,'Formular C'!G168)","v":{"$error":"#VALUE!"}},false,0,{"$f":"IF(W168<Parameter!$C$4,1,0)","v":0}]
[null,null,null,null,null,null,null,null,{"$f":"IF(OR(E169=Sprache!$C$19,E169=Sprache!$D$19),F169,0)+IF(OR(G169=Sprache!$C$19,G169=Sprache!$D$19),H169,0)+IF(OR(E169=Sprache!$C$20,E169=Sprache!$D$20),F169,0)+IF(OR(G169=Sprache!$C$20,G169=Sprache!$D$20),H169,0)","v":0},{"$f":"IF(OR(E169=Sprache!$C$21,E169=Sprache!$D$21),F169,0)+IF(OR(G169=Sprache!$C$21,G169=Sprache!$D$21),H169,0)","v":0},{"$f":"IF(OR(E169=Sprache!$C$22,E169=Sprache!$D$22),F169,0)+IF(OR(G169=Sprache!$C$22,G169=Sprache!$D$22),H169,0)","v":0},{"$f":"IF(OR(E169=Sprache!$C$23,E169=Sprache!$D$23),F169,0)+IF(OR(G169=Sprache!$C$23,G169=Sprache!$D$23),H169,0)","v":0},{"$f":"IF(OR(E169=Sprache!$C$24,E169=Sprache!$D$24),F169,0)+IF(OR(G169=Sprache!$C$24,G169=Sprache!$D$24),H169,0)","v":0},0,0,"",null,null,null,0,null,null,"","",{"$f":"IF(B169<>\"\",HYPERLINK($AB$9&AA169,Sprache!$E$25 &\" \"&B169),\"\")","v":""},null,161,{"$f":"Eingabemeldung(Sprache!$E$18,Sprache!$E$17,'Formular C'!E169)","v":{"$error":"#VALUE!"}},{"$f":"Eingabemeldung(Sprache!$E$18,Sprache!$E$17,'Formular C'!G169)","v":{"$error":"#VALUE!"}},false,0,{"$f":"IF(W169<Parameter!$C$4,1,0)","v":0}]
[null,null,null,null,null,null,null,null,{"$f":"IF(OR(E170=Sprache!$C$19,E170=Sprache!$D$19),F170,0)+IF(OR(G170=Sprache!$C$19,G170=Sprache!$D$19),H170,0)+IF(OR(E170=Sprache!$C$20,E170=Sprache!$D$20),F170,0)+IF(OR(G170=Sprache!$C$20,G170=Sprache!$D$20),H170,0)","v":0},{"$f":"IF(OR(E170=Sprache!$C$21,E170=Sprache!$D$21),F170,0)+IF(OR(G170=Sprache!$C$21,G170=Sprache!$D$21),H170,0)","v":0},{"$f":"IF(OR(E170=Sprache!$C$22,E170=Sprache!$D$22),F170,0)+IF(OR(G170=Sprache!$C$22,G170=Sprache!$D$22),H170,0)","v":0},{"$f":"IF(OR(E170=Sprache!$C$23,E170=Sprache!$D$23),F170,0)+IF(OR(G170=Sprache!$C$23,G170=Sprache!$D$23),H170,0)","v":0},{"$f":"IF(OR(E170=Sprache!$C$24,E170=Sprache!$D$24),F170,0)+IF(OR(G170=Sprache!$C$24,G170=Sprache!$D$24),H170,0)","v":0},0,0,"",null,null,null,0,null,null,"","",{"$f":"IF(B170<>\"\",HYPERLINK($AB$9&AA170,Sprache!$E$25 &\" \"&B170),\"\")","v":""},null,162,{"$f":"Eingabemeldung(Sprache!$E$18,Sprache!$E$17,'Formular C'!E170)","v":{"$error":"#VALUE!"}},{"$f":"Eingabemeldung(Sprache!$E$18,Sprache!$E$17,'Formular C'!G170)","v":{"$error":"#VALUE!"}},false,0,{"$f":"IF(W170<Parameter!$C$4,1,0)","v":0}]
[null,null,null,null,null,null,null,null,{"$f":"IF(OR(E171=Sprache!$C$19,E171=Sprache!$D$19),F171,0)+IF(OR(G171=Sprache!$C$19,G171=Sprache!$D$19),H171,0)+IF(OR(E171=Sprache!$C$20,E171=Sprache!$D$20),F171,0)+IF(OR(G171=Sprache!$C$20,G171=Sprache!$D$20),H171,0)","v":0},{"$f":"IF(OR(E171=Sprache!$C$21,E171=Sprache!$D$21),F171,0)+IF(OR(G171=Sprache!$C$21,G171=Sprache!$D$21),H171,0)","v":0},{"$f":"IF(OR(E171=Sprache!$C$22,E171=Sprache!$D$22),F171,0)+IF(OR(G171=Sprache!$C$22,G171=Sprache!$D$22),H171,0)","v":0},{"$f":"IF(OR(E171=Sprache!$C$23,E171=Sprache!$D$23),F171,0)+IF(OR(G171=Sprache!$C$23,G171=Sprache!$D$23),H171,0)","v":0},{"$f":"IF(OR(E171=Sprache!$C$24,E171=Sprache!$D$24),F171,0)+IF(OR(G171=Sprache!$C$24,G171=Sprache!$D$24),H171,0)","v":0},0,0,"",null,null,null,0,null,null,"","",{"$f":"IF(B171<>\"\",HYPERLINK($AB$9&AA171,Sprache!$E$25 &\" \"&B171),\"\")","v":""},null,163,{"$f":"Eingabemeldung(Sprache!$E$18,Sprache!$E$17,'Formular C'!E171)","v":{"$error":"#VALUE!"}},{"$f":"Eingabemeldung(Sprache!$E$18,Sprache!$E$17,'Formular C'!G171)","v":{"$error":"#VALUE!"}},false,0,{"$f":"IF(W171<Parameter!$C$4,1,0)","v":0}]
[null,null,null,null,null,null,null,null,{"$f":"IF(OR(E172=Sprache!$C$19,E172=Sprache!$D$19),F172,0)+IF(OR(G172=Sprache!$C$19,G172=Sprache!$D$19),H172,0)+IF(OR(E172=Sprache!$C$20,E172=Sprache!$D$20),F172,0)+IF(OR(G172=Sprache!$C$20,G172=Sprache!$D$20),H172,0)","v":0},{"$f":"IF(OR(E172=Sprache!$C$21,E172=Sprache!$D$21),F172,0)+IF(OR(G172=Sprache!$C$21,G172=Sprache!$D$21),H172,0)","v":0},{"$f":"IF(OR(E172=Sprache!$C$22,E172=Sprache!$D$22),F172,0)+IF(OR(G172=Sprache!$C$22,G172=Sprache!$D$22),H172,0)","v":0},{"$f":"IF(OR(E172=Sprache!$C$23,E172=Sprache!$D$23),F172,0)+IF(OR(G172=Sprache!$C$23,G172=Sprache!$D$23),H172,0)","v":0},{"$f":"IF(OR(E172=Sprache!$C$24,E172=Sprache!$D$24),F172,0)+IF(OR(G172=Sprache!$C$24,G172=Sprache!$D$24),H172,0)","v":0},0,0,"",null,null,null,0,null,null,"","",{"$f":"IF(B172<>\"\",HYPERLINK($AB$9&AA172,Sprache!$E$25 &\" \"&B172),\"\")","v":""},null,164,{"$f":"Eingabemeldung(Sprache!$E$18,Sprache!$E$17,'Formular C'!E172)","v":{"$error":"#VALUE!"}},{"$f":"Eingabemeldung(Sprache!$E$18,Sprache!$E$17,'Formular C'!G172)","v":{"$error":"#VALUE!"}},false,0,{"$f":"IF(W172<Parameter!$C$4,1,0)","v":0}]
[null,null,null,null,null,null,null,null,{"$f":"IF(OR(E173=Sprache!$C$19,E173=Sprache!$D$19),F173,0)+IF(OR(G173=Sprache!$C$19,G173=Sprache!$D$19),H173,0)+IF(OR(E173=Sprache!$C$20,E173=Sprache!$D$20),F173,0)+IF(OR(G173=Sprache!$C$20,G173=Sprache!$D$20),H173,0)","v":0},{"$f":"IF(OR(E173=Sprache!$C$21,E173=Sprache!$D$21),F173,0)+IF(OR(G173=Sprache!$C$21,G173=Sprache!$D$21),H173,0)","v":0},{"$f":"IF(OR(E173=Sprache!$C$22,E173=Sprache!$D$22),F173,0)+IF(OR(G173=Sprache!$C$22,G173=Sprache!$D$22),H173,0)","v":0},{"$f":"IF(OR(E173=Sprache!$C$23,E173=Sprache!$D$23),F173,0)+IF(OR(G173=Sprache!$C$23,G173=Sprache!$D$23),H173,0)","v":0},{"$f":"IF(OR(E173=Sprache!$C$24,E173=Sprache!$D$24),F173,0)+IF(OR(G173=Sprache!$C$24,G173=Sprache!$D$24),H173,0)","v":0},0,0,"",null,null,null,0,null,null,"","",{"$f":"IF(B173<>\"\",HYPERLINK($AB$9&AA173,Sprache!$E$25 &\" \"&B173),\"\")","v":""},null,165,{"$f":"Eingabemeldung(Sprache!$E$18,Sprache!$E$17,'Formular C'!E173)","v":{"$error":"#VALUE!"}},{"$f":"Eingabemeldung(Sprache!$E$18,Sprache!$E$17,'Formular C'!G173)","v":{"$error":"#VALUE!"}},false,0,{"$f":"IF(W173<Parameter!$C$4,1,0)","v":0}]
[null,null,null,null,null,null,null,null,{"$f":"IF(OR(E174=Sprache!$C$19,E174=Sprache!$D$19),F174,0)+IF(OR(G174=Sprache!$C$19,G174=Sprache!$D$19),H174,0)+IF(OR(E174=Sprache!$C$20,E174=Sprache!$D$20),F174,0)+IF(OR(G174=Sprache!$C$20,G174=Sprache!$D$20),H174,0)","v":0},{"$f":"IF(OR(E174=Sprache!$C$21,E174=Sprache!$D$21),F174,0)+IF(OR(G174=Sprache!$C$21,G174=Sprache!$D$21),H174,0)","v":0},{"$f":"IF(OR(E174=Sprache!$C$22,E174=Sprache!$D$22),F174,0)+IF(OR(G174=Sprache!$C$22,G174=Sprache!$D$22),H174,0)","v":0},{"$f":"IF(OR(E174=Sprache!$C$23,E174=Sprache!$D$23),F174,0)+IF(OR(G174=Sprache!$C$23,G174=Sprache!$D$23),H174,0)","v":0},{"$f":"IF(OR(E174=Sprache!$C$24,E174=Sprache!$D$24),F174,0)+IF(OR(G174=Sprache!$C$24,G174=Sprache!$D$24),H174,0)","v":0},0,0,"",null,null,null,0,null,null,"","",{"$f":"IF(B174<>\"\",HYPERLINK($AB$9&AA174,Sprache!$E$25 &\" \"&B174),\"\")","v":""},null,166,{"$f":"Eingabemeldung(Sprache!$E$18,Sprache!$E$17,'Formular C'!E174)","v":{"$error":"#VALUE!"}},{"$f":"Eingabemeldung(Sprache!$E$18,Sprache!$E$17,'Formular C'!G174)","v":{"$error":"#VALUE!"}},false,0,{"$f":"IF(W174<Parameter!$C$4,1,0)","v":0}]
[null,null,null,null,null,null,null,null,{"$f":"IF(OR(E175=Sprache!$C$19,E175=Sprache!$D$19),F175,0)+IF(OR(G175=Sprache!$C$19,G175=Sprache!$D$19),H175,0)+IF(OR(E175=Sprache!$C$20,E175=Sprache!$D$20),F175,0)+IF(OR(G175=Sprache!$C$20,G175=Sprache!$D$20),H175,0)","v":0},{"$f":"IF(OR(E175=Sprache!$C$21,E175=Sprache!$D$21),F175,0)+IF(OR(G175=Sprache!$C$21,G175=Sprache!$D$21),H175,0)","v":0},{"$f":"IF(OR(E175=Sprache!$C$22,E175=Sprache!$D$22),F175,0)+IF(OR(G175=Sprache!$C$22,G175=Sprache!$D$22),H175,0)","v":0},{"$f":"IF(OR(E175=Sprache!$C$23,E175=Sprache!$D$23),F175,0)+IF(OR(G175=Sprache!$C$23,G175=Sprache!$D$23),H175,0)","v":0},{"$f":"IF(OR(E175=Sprache!$C$24,E175=Sprache!$D$24),F175,0)+IF(OR(G175=Sprache!$C$24,G175=Sprache!$D$24),H175,0)","v":0},0,0,"",null,null,null,0,null,null,"","",{"$f":"IF(B175<>\"\",HYPERLINK($AB$9&AA175,Sprache!$E$25 &\" \"&B175),\"\")","v":""},null,167,{"$f":"Eingabemeldung(Sprache!$E$18,Sprache!$E$17,'Formular C'!E175)","v":{"$error":"#VALUE!"}},{"$f":"Eingabemeldung(Sprache!$E$18,Sprache!$E$17,'Formular C'!G175)","v":{"$error":"#VALUE!"}},false,0,{"$f":"IF(W175<Parameter!$C$4,1,0)","v":0}]
[null,null,null,null,null,null,null,null,{"$f":"IF(OR(E176=Sprache!$C$19,E176=Sprache!$D$19),F176,0)+IF(OR(G176=Sprache!$C$19,G176=Sprache!$D$19),H176,0)+IF(OR(E176=Sprache!$C$20,E176=Sprache!$D$20),F176,0)+IF(OR(G176=Sprache!$C$20,G176=Sprache!$D$20),H176,0)","v":0},{"$f":"IF(OR(E176=Sprache!$C$21,E176=Sprache!$D$21),F176,0)+IF(OR(G176=Sprache!$C$21,G176=Sprache!$D$21),H176,0)","v":0},{"$f":"IF(OR(E176=Sprache!$C$22,E176=Sprache!$D$22),F176,0)+IF(OR(G176=Sprache!$C$22,G176=Sprache!$D$22),H176,0)","v":0},{"$f":"IF(OR(E176=Sprache!$C$23,E176=Sprache!$D$23),F176,0)+IF(OR(G176=Sprache!$C$23,G176=Sprache!$D$23),H176,0)","v":0},{"$f":"IF(OR(E176=Sprache!$C$24,E176=Sprache!$D$24),F176,0)+IF(OR(G176=Sprache!$C$24,G176=Sprache!$D$24),H176,0)","v":0},0,0,"",null,null,null,0,null,null,"","",{"$f":"IF(B176<>\"\",HYPERLINK($AB$9&AA176,Sprache!$E$25 &\" \"&B176),\"\")","v":""},null,168,{"$f":"Eingabemeldung(Sprache!$E$18,Sprache!$E$17,'Formular C'!E176)","v":{"$error":"#VALUE!"}},{"$f":"Eingabemeldung(Sprache!$E$18,Sprache!$E$17,'Formular C'!G176)","v":{"$error":"#VALUE!"}},false,0,{"$f":"IF(W176<Parameter!$C$4,1,0)","v":0}]
[null,null,null,null,null,null,null,null,{"$f":"IF(OR(E177=Sprache!$C$19,E177=Sprache!$D$19),F177,0)+IF(OR(G177=Sprache!$C$19,G177=Sprache!$D$19),H177,0)+IF(OR(E177=Sprache!$C$20,E177=Sprache!$D$20),F177,0)+IF(OR(G177=Sprache!$C$20,G177=Sprache!$D$20),H177,0)","v":0},{"$f":"IF(OR(E177=Sprache!$C$21,E177=Sprache!$D$21),F177,0)+IF(OR(G177=Sprache!$C$21,G177=Sprache!$D$21),H177,0)","v":0},{"$f":"IF(OR(E177=Sprache!$C$22,E177=Sprache!$D$22),F177,0)+IF(OR(G177=Sprache!$C$22,G177=Sprache!$D$22),H177,0)","v":0},{"$f":"IF(OR(E177=Sprache!$C$23,E177=Sprache!$D$23),F177,0)+IF(OR(G177=Sprache!$C$23,G177=Sprache!$D$23),H177,0)","v":0},{"$f":"IF(OR(E177=Sprache!$C$24,E177=Sprache!$D$24),F177,0)+IF(OR(G177=Sprache!$C$24,G177=Sprache!$D$24),H177,0)","v":0},0,0,"",null,null,null,0,null,null,"","",{"$f":"IF(B177<>\"\",HYPERLINK($AB$9&AA177,Sprache!$E$25 &\" \"&B177),\"\")","v":""},null,169,{"$f":"Eingabemeldung(Sprache!$E$18,Sprache!$E$17,'Formular C'!E177)","v":{"$error":"#VALUE!"}},{"$f":"Eingabemeldung(Sprache!$E$18,Sprache!$E$17,'Formular C'!G177)","v":{"$error":"#VALUE!"}},false,0,{"$f":"IF(W177<Parameter!$C$4,1,0)","v":0}]
[null,null,null,null,null,null,null,null,{"$f":"IF(OR(E178=Sprache!$C$19,E178=Sprache!$D$19),F178,0)+IF(OR(G178=Sprache!$C$19,G178=Sprache!$D$19),H178,0)+IF(OR(E178=Sprache!$C$20,E178=Sprache!$D$20),F178,0)+IF(OR(G178=Sprache!$C$20,G178=Sprache!$D$20),H178,0)","v":0},{"$f":"IF(OR(E178=Sprache!$C$21,E178=Sprache!$D$21),F178,0)+IF(OR(G178=Sprache!$C$21,G178=Sprache!$D$21),H178,0)","v":0},{"$f":"IF(OR(E178=Sprache!$C$22,E178=Sprache!$D$22),F178,0)+IF(OR(G178=Sprache!$C$22,G178=Sprache!$D$22),H178,0)","v":0},{"$f":"IF(OR(E178=Sprache!$C$23,E178=Sprache!$D$23),F178,0)+IF(OR(G178=Sprache!$C$23,G178=Sprache!$D$23),H178,0)","v":0},{"$f":"IF(OR(E178=Sprache!$C$24,E178=Sprache!$D$24),F178,0)+IF(OR(G178=Sprache!$C$24,G178=Sprache!$D$24),H178,0)","v":0},0,0,"",null,null,null,0,null,null,"","",{"$f":"IF(B178<>\"\",HYPERLINK($AB$9&AA178,Sprache!$E$25 &\" \"&B178),\"\")","v":""},null,170,{"$f":"Eingabemeldung(Sprache!$E$18,Sprache!$E$17,'Formular C'!E178)","v":{"$error":"#VALUE!"}},{"$f":"Eingabemeldung(Sprache!$E$18,Sprache!$E$17,'Formular C'!G178)","v":{"$error":"#VALUE!"}},false,0,{"$f":"IF(W178<Parameter!$C$4,1,0)","v":0}]
[null,null,null,null,null,null,null,null,{"$f":"IF(OR(E179=Sprache!$C$19,E179=Sprache!$D$19),F179,0)+IF(OR(G179=Sprache!$C$19,G179=Sprache!$D$19),H179,0)+IF(OR(E179=Sprache!$C$20,E179=Sprache!$D$20),F179,0)+IF(OR(G179=Sprache!$C$20,G179=Sprache!$D$20),H179,0)","v":0},{"$f":"IF(OR(E179=Sprache!$C$21,E179=Sprache!$D$21),F179,0)+IF(OR(G179=Sprache!$C$21,G179=Sprache!$D$21),H179,0)","v":0},{"$f":"IF(OR(E179=Sprache!$C$22,E179=Sprache!$D$22),F179,0)+IF(OR(G179=Sprache!$C$22,G179=Sprache!$D$22),H179,0)","v":0},{"$f":"IF(OR(E179=Sprache!$C$23,E179=Sprache!$D$23),F179,0)+IF(OR(G179=Sprache!$C$23,G179=Sprache!$D$23),H179,0)","v":0},{"$f":"IF(OR(E179=Sprache!$C$24,E179=Sprache!$D$24),F179,0)+IF(OR(G179=Sprache!$C$24,G179=Sprache!$D$24),H179,0)","v":0},0,0,"",null,null,null,0,null,null,"","",{"$f":"IF(B179<>\"\",HYPERLINK($AB$9&AA179,Sprache!$E$25 &\" \"&B179),\"\")","v":""},null,171,{"$f":"Eingabemeldung(Sprache!$E$18,Sprache!$E$17,'Formular C'!E179)","v":{"$error":"#VALUE!"}},{"$f":"Eingabemeldung(Sprache!$E$18,Sprache!$E$17,'Formular C'!G179)","v":{"$error":"#VALUE!"}},false,0,{"$f":"IF(W179<Parameter!$C$4,1,0)","v":0}]
[null,null,null,null,null,null,null,null,{"$f":"IF(OR(E180=Sprache!$C$19,E180=Sprache!$D$19),F180,0)+IF(OR(G180=Sprache!$C$19,G180=Sprache!$D$19),H180,0)+IF(OR(E180=Sprache!$C$20,E180=Sprache!$D$20),F180,0)+IF(OR(G180=Sprache!$C$20,G180=Sprache!$D$20),H180,0)","v":0},{"$f":"IF(OR(E180=Sprache!$C$21,E180=Sprache!$D$21),F180,0)+IF(OR(G180=Sprache!$C$21,G180=Sprache!$D$21),H180,0)","v":0},{"$f":"IF(OR(E180=Sprache!$C$22,E180=Sprache!$D$22),F180,0)+IF(OR(G180=Sprache!$C$22,G180=Sprache!$D$22),H180,0)","v":0},{"$f":"IF(OR(E180=Sprache!$C$23,E180=Sprache!$D$23),F180,0)+IF(OR(G180=Sprache!$C$23,G180=Sprache!$D$23),H180,0)","v":0},{"$f":"IF(OR(E180=Sprache!$C$24,E180=Sprache!$D$24),F180,0)+IF(OR(G180=Sprache!$C$24,G180=Sprache!$D$24),H180,0)","v":0},0,0,"",null,null,null,0,null,null,"","",{"$f":"IF(B180<>\"\",HYPERLINK($AB$9&AA180,Sprache!$E$25 &\" \"&B180),\"\")","v":""},null,172,{"$f":"Eingabemeldung(Sprache!$E$18,Sprache!$E$17,'Formular C'!E180)","v":{"$error":"#VALUE!"}},{"$f":"Eingabemeldung(Sprache!$E$18,Sprache!$E$17,'Formular C'!G180)","v":{"$error":"#VALUE!"}},false,0,{"$f":"IF(W180<Parameter!$C$4,1,0)","v":0}]
[null,null,null,null,null,null,null,null,{"$f":"IF(OR(E181=Sprache!$C$19,E181=Sprache!$D$19),F181,0)+IF(OR(G181=Sprache!$C$19,G181=Sprache!$D$19),H181,0)+IF(OR(E181=Sprache!$C$20,E181=Sprache!$D$20),F181,0)+IF(OR(G181=Sprache!$C$20,G181=Sprache!$D$20),H181,0)","v":0},{"$f":"IF(OR(E181=Sprache!$C$21,E181=Sprache!$D$21),F181,0)+IF(OR(G181=Sprache!$C$21,G181=Sprache!$D$21),H181,0)","v":0},{"$f":"IF(OR(E181=Sprache!$C$22,E181=Sprache!$D$22),F181,0)+IF(OR(G181=Sprache!$C$22,G181=Sprache!$D$22),H181,0)","v":0},{"$f":"IF(OR(E181=Sprache!$C$23,E181=Sprache!$D$23),F181,0)+IF(OR(G181=Sprache!$C$23,G181=Sprache!$D$23),H181,0)","v":0},{"$f":"IF(OR(E181=Sprache!$C$24,E181=Sprache!$D$24),F181,0)+IF(OR(G181=Sprache!$C$24,G181=Sprache!$D$24),H181,0)","v":0},0,0,"",null,null,null,0,null,null,"","",{"$f":"IF(B181<>\"\",HYPERLINK($AB$9&AA181,Sprache!$E$25 &\" \"&B181),\"\")","v":""},null,173,{"$f":"Eingabemeldung(Sprache!$E$18,Sprache!$E$17,'Formular C'!E181)","v":{"$error":"#VALUE!"}},{"$f":"Eingabemeldung(Sprache!$E$18,Sprache!$E$17,'Formular C'!G181)","v":{"$error":"#VALUE!"}},false,0,{"$f":"IF(W181<Parameter!$C$4,1,0)","v":0}]
[null,null,null,null,null,null,null,null,{"$f":"IF(OR(E182=Sprache!$C$19,E182=Sprache!$D$19),F182,0)+IF(OR(G182=Sprache!$C$19,G182=Sprache!$D$19),H182,0)+IF(OR(E182=Sprache!$C$20,E182=Sprache!$D$20),F182,0)+IF(OR(G182=Sprache!$C$20,G182=Sprache!$D$20),H182,0)","v":0},{"$f":"IF(OR(E182=Sprache!$C$21,E182=Sprache!$D$21),F182,0)+IF(OR(G182=Sprache!$C$21,G182=Sprache!$D$21),H182,0)","v":0},{"$f":"IF(OR(E182=Sprache!$C$22,E182=Sprache!$D$22),F182,0)+IF(OR(G182=Sprache!$C$22,G182=Sprache!$D$22),H182,0)","v":0},{"$f":"IF(OR(E182=Sprache!$C$23,E182=Sprache!$D$23),F182,0)+IF(OR(G182=Sprache!$C$23,G182=Sprache!$D$23),H182,0)","v":0},{"$f":"IF(OR(E182=Sprache!$C$24,E182=Sprache!$D$24),F182,0)+IF(OR(G182=Sprache!$C$24,G182=Sprache!$D$24),H182,0)","v":0},0,0,"",null,null,null,0,null,null,"","",{"$f":"IF(B182<>\"\",HYPERLINK($AB$9&AA182,Sprache!$E$25 &\" \"&B182),\"\")","v":""},null,174,{"$f":"Eingabemeldung(Sprache!$E$18,Sprache!$E$17,'Formular C'!E182)","v":{"$error":"#VALUE!"}},{"$f":"Eingabemeldung(Sprache!$E$18,Sprache!$E$17,'Formular C'!G182)","v":{"$error":"#VALUE!"}},false,0,{"$f":"IF(W182<Parameter!$C$4,1,0)","v":0}]
[null,null,null,null,null,null,null,null,{"$f":"IF(OR(E183=Sprache!$C$19,E183=Sprache!$D$19),F183,0)+IF(OR(G183=Sprache!$C$19,G183=Sprache!$D$19),H183,0)+IF(OR(E183=Sprache!$C$20,E183=Sprache!$D$20),F183,0)+IF(OR(G183=Sprache!$C$20,G183=Sprache!$D$20),H183,0)","v":0},{"$f":"IF(OR(E183=Sprache!$C$21,E183=Sprache!$D$21),F183,0)+IF(OR(G183=Sprache!$C$21,G183=Sprache!$D$21),H183,0)","v":0},{"$f":"IF(OR(E183=Sprache!$C$22,E183=Sprache!$D$22),F183,0)+IF(OR(G183=Sprache!$C$22,G183=Sprache!$D$22),H183,0)","v":0},{"$f":"IF(OR(E183=Sprache!$C$23,E183=Sprache!$D$23),F183,0)+IF(OR(G183=Sprache!$C$23,G183=Sprache!$D$23),H183,0)","v":0},{"$f":"IF(OR(E183=Sprache!$C$24,E183=Sprache!$D$24),F183,0)+IF(OR(G183=Sprache!$C$24,G183=Sprache!$D$24),H183,0)","v":0},0,0,"",null,null,null,0,null,null,"","",{"$f":"IF(B183<>\"\",HYPERLINK($AB$9&AA183,Sprache!$E$25 &\" \"&B183),\"\")","v":""},null,175,{"$f":"Eingabemeldung(Sprache!$E$18,Sprache!$E$17,'Formular C'!E183)","v":{"$error":"#VALUE!"}},{"$f":"Eingabemeldung(Sprache!$E$18,Sprache!$E$17,'Formular C'!G183)","v":{"$error":"#VALUE!"}},false,0,{"$f":"IF(W183<Parameter!$C$4,1,0)","v":0}]
[null,null,null,null,null,null,null,null,{"$f":"IF(OR(E184=Sprache!$C$19,E184=Sprache!$D$19),F184,0)+IF(OR(G184=Sprache!$C$19,G184=Sprache!$D$19),H184,0)+IF(OR(E184=Sprache!$C$20,E184=Sprache!$D$20),F184,0)+IF(OR(G184=Sprache!$C$20,G184=Sprache!$D$20),H184,0)","v":0},{"$f":"IF(OR(E184=Sprache!$C$21,E184=Sprache!$D$21),F184,0)+IF(OR(G184=Sprache!$C$21,G184=Sprache!$D$21),H184,0)","v":0},{"$f":"IF(OR(E184=Sprache!$C$22,E184=Sprache!$D$22),F184,0)+IF(OR(G184=Sprache!$C$22,G184=Sprache!$D$22),H184,0)","v":0},{"$f":"IF(OR(E184=Sprache!$C$23,E184=Sprache!$D$23),F184,0)+IF(OR(G184=Sprache!$C$23,G184=Sprache!$D$23),H184,0)","v":0},{"$f":"IF(OR(E184=Sprache!$C$24,E184=Sprache!$D$24),F184,0)+IF(OR(G184=Sprache!$C$24,G184=Sprache!$D$24),H184,0)","v":0},0,0,"",null,null,null,0,null,null,"","",{"$f":"IF(B184<>\"\",HYPERLINK($AB$9&AA184,Sprache!$E$25 &\" \"&B184),\"\")","v":""},null,176,{"$f":"Eingabemeldung(Sprache!$E$18,Sprache!$E$17,'Formular C'!E184)","v":{"$error":"#VALUE!"}},{"$f":"Eingabemeldung(Sprache!$E$18,Sprache!$E$17,'Formular C'!G184)","v":{"$error":"#VALUE!"}},false,0,{"$f":"IF(W184<Parameter!$C$4,1,0)","v":0}]
[null,null,null,null,null,null,null,null,{"$f":"IF(OR(E185=Sprache!$C$19,E185=Sprache!$D$19),F185,0)+IF(OR(G185=Sprache!$C$19,G185=Sprache!$D$19),H185,0)+IF(OR(E185=Sprache!$C$20,E185=Sprache!$D$20),F185,0)+IF(OR(G185=Sprache!$C$20,G185=Sprache!$D$20),H185,0)","v":0},{"$f":"IF(OR(E185=Sprache!$C$21,E185=Sprache!$D$21),F185,0)+IF(OR(G185=Sprache!$C$21,G185=Sprache!$D$21),H185,0)","v":0},{"$f":"IF(OR(E185=Sprache!$C$22,E185=Sprache!$D$22),F185,0)+IF(OR(G185=Sprache!$C$22,G185=Sprache!$D$22),H185,0)","v":0},{"$f":"IF(OR(E185=Sprache!$C$23,E185=Sprache!$D$23),F185,0)+IF(OR(G185=Sprache!$C$23,G185=Sprache!$D$23),H185,0)","v":0},{"$f":"IF(OR(E185=Sprache!$C$24,E185=Sprache!$D$24),F185,0)+IF(OR(G185=Sprache!$C$24,G185=Sprache!$D$24),H185,0)","v":0},0,0,"",null,null,null,0,null,null,"","",{"$f":"IF(B185<>\"\",HYPERLINK($AB$9&AA185,Sprache!$E$25 &\" \"&B185),\"\")","v":""},null,177,{"$f":"Eingabemeldung(Sprache!$E$18,Sprache!$E$17,'Formular C'!E185)","v":{"$error":"#VALUE!"}},{"$f":"Eingabemeldung(Sprache!$E$18,Sprache!$E$17,'Formular C'!G185)","v":{"$error":"#VALUE!"}},false,0,{"$f":"IF(W185<Parameter!$C$4,1,0)","v":0}]
[null,null,null,null,null,null,null,null,{"$f":"IF(OR(E186=Sprache!$C$19,E186=Sprache!$D$19),F186,0)+IF(OR(G186=Sprache!$C$19,G186=Sprache!$D$19),H186,0)+IF(OR(E186=Sprache!$C$20,E186=Sprache!$D$20),F186,0)+IF(OR(G186=Sprache!$C$20,G186=Sprache!$D$20),H186,0)","v":0},{"$f":"IF(OR(E186=Sprache!$C$21,E186=Sprache!$D$21),F186,0)+IF(OR(G186=Sprache!$C$21,G186=Sprache!$D$21),H186,0)","v":0},{"$f":"IF(OR(E186=Sprache!$C$22,E186=Sprache!$D$22),F186,0)+IF(OR(G186=Sprache!$C$22,G186=Sprache!$D$22),H186,0)","v":0},{"$f":"IF(OR(E186=Sprache!$C$23,E186=Sprache!$D$23),F186,0)+IF(OR(G186=Sprache!$C$23,G186=Sprache!$D$23),H186,0)","v":0},{"$f":"IF(OR(E186=Sprache!$C$24,E186=Sprache!$D$24),F186,0)+IF(OR(G186=Sprache!$C$24,G186=Sprache!$D$24),H186,0)","v":0},0,0,"",null,null,null,0,null,null,"","",{"$f":"IF(B186<>\"\",HYPERLINK($AB$9&AA186,Sprache!$E$25 &\" \"&B186),\"\")","v":""},null,178,{"$f":"Eingabemeldung(Sprache!$E$18,Sprache!$E$17,'Formular C'!E186)","v":{"$error":"#VALUE!"}},{"$f":"Eingabemeldung(Sprache!$E$18,Sprache!$E$17,'Formular C'!G186)","v":{"$error":"#VALUE!"}},false,0,{"$f":"IF(W186<Parameter!$C$4,1,0)","v":0}]
[null,null,null,null,null,null,null,null,{"$f":"IF(OR(E187=Sprache!$C$19,E187=Sprache!$D$19),F187,0)+IF(OR(G187=Sprache!$C$19,G187=Sprache!$D$19),H187,0)+IF(OR(E187=Sprache!$C$20,E187=Sprache!$D$20),F187,0)+IF(OR(G187=Sprache!$C$20,G187=Sprache!$D$20),H187,0)","v":0},{"$f":"IF(OR(E187=Sprache!$C$21,E187=Sprache!$D$21),F187,0)+IF(OR(G187=Sprache!$C$21,G187=Sprache!$D$21),H187,0)","v":0},{"$f":"IF(OR(E187=Sprache!$C$22,E187=Sprache!$D$22),F187,0)+IF(OR(G187=Sprache!$C$22,G187=Sprache!$D$22),H187,0)","v":0},{"$f":"IF(OR(E187=Sprache!$C$23,E187=Sprache!$D$23),F187,0)+IF(OR(G187=Sprache!$C$23,G187=Sprache!$D$23),H187,0)","v":0},{"$f":"IF(OR(E187=Sprache!$C$24,E187=Sprache!$D$24),F187,0)+IF(OR(G187=Sprache!$C$24,G187=Sprache!$D$24),H187,0)","v":0},0,0,"",null,null,null,0,null,null,"","",{"$f":"IF(B187<>\"\",HYPERLINK($AB$9&AA187,Sprache!$E$25 &\" \"&B187),\"\")","v":""},null,179,{"$f":"Eingabemeldung(Sprache!$E$18,Sprache!$E$17,'Formular C'!E187)","v":{"$error":"#VALUE!"}},{"$f":"Eingabemeldung(Sprache!$E$18,Sprache!$E$17,'Formular C'!G187)","v":{"$error":"#VALUE!"}},false,0,{"$f":"IF(W187<Parameter!$C$4,1,0)","v":0}]
[null,null,null,null,null,null,null,null,{"$f":"IF(OR(E188=Sprache!$C$19,E188=Sprache!$D$19),F188,0)+IF(OR(G188=Sprache!$C$19,G188=Sprache!$D$19),H188,0)+IF(OR(E188=Sprache!$C$20,E188=Sprache!$D$20),F188,0)+IF(OR(G188=Sprache!$C$20,G188=Sprache!$D$20),H188,0)","v":0},{"$f":"IF(OR(E188=Sprache!$C$21,E188=Sprache!$D$21),F188,0)+IF(OR(G188=Sprache!$C$21,G188=Sprache!$D$21),H188,0)","v":0},{"$f":"IF(OR(E188=Sprache!$C$22,E188=Sprache!$D$22),F188,0)+IF(OR(G188=Sprache!$C$22,G188=Sprache!$D$22),H188,0)","v":0},{"$f":"IF(OR(E188=Sprache!$C$23,E188=Sprache!$D$23),F188,0)+IF(OR(G188=Sprache!$C$23,G188=Sprache!$D$23),H188,0)","v":0},{"$f":"IF(OR(E188=Sprache!$C$24,E188=Sprache!$D$24),F188,0)+IF(OR(G188=Sprache!$C$24,G188=Sprache!$D$24),H188,0)","v":0},0,0,"",null,null,null,0,null,null,"","",{"$f":"IF(B188<>\"\",HYPERLINK($AB$9&AA188,Sprache!$E$25 &\" \"&B188),\"\")","v":""},null,180,{"$f":"Eingabemeldung(Sprache!$E$18,Sprache!$E$17,'Formular C'!E188)","v":{"$error":"#VALUE!"}},{"$f":"Eingabemeldung(Sprache!$E$18,Sprache!$E$17,'Formular C'!G188)","v":{"$error":"#VALUE!"}},false,0,{"$f":"IF(W188<Parameter!$C$4,1,0)","v":0}]
[null,null,null,null,null,null,null,null,{"$f":"IF(OR(E189=Sprache!$C$19,E189=Sprache!$D$19),F189,0)+IF(OR(G189=Sprache!$C$19,G189=Sprache!$D$19),H189,0)+IF(OR(E189=Sprache!$C$20,E189=Sprache!$D$20),F189,0)+IF(OR(G189=Sprache!$C$20,G189=Sprache!$D$20),H189,0)","v":0},{"$f":"IF(OR(E189=Sprache!$C$21,E189=Sprache!$D$21),F189,0)+IF(OR(G189=Sprache!$C$21,G189=Sprache!$D$21),H189,0)","v":0},{"$f":"IF(OR(E189=Sprache!$C$22,E189=Sprache!$D$22),F189,0)+IF(OR(G189=Sprache!$C$22,G189=Sprache!$D$22),H189,0)","v":0},{"$f":"IF(OR(E189=Sprache!$C$23,E189=Sprache!$D$23),F189,0)+IF(OR(G189=Sprache!$C$23,G189=Sprache!$D$23),H189,0)","v":0},{"$f":"IF(OR(E189=Sprache!$C$24,E189=Sprache!$D$24),F189,0)+IF(OR(G189=Sprache!$C$24,G189=Sprache!$D$24),H189,0)","v":0},{"$f":"F189+H189","v":0},{"$f":"GFÖG*I189+GFF*J189+GFH*K189+GFW*L189+GFE*M189","v":0},{"$f":"IFERROR(O189/($H$7-$O$228),\"\")","v":""},null,null,null,{"$f":"(F189*R189)+(H189*S189)","v":0},null,null,"","",{"$f":"IF(B189<>\"\",HYPERLINK($AB$9&AA189,Sprache!$E$25 &\" \"&B189),\"\")","v":""},null,181,{"$f":"Eingabemeldung(Sprache!$E$18,Sprache!$E$17,'Formular C'!E189)","v":{"$error":"#VALUE!"}},{"$f":"Eingabemeldung(Sprache!$E$18,Sprache!$E$17,'Formular C'!G189)","v":{"$error":"#VALUE!"}},false,0,{"$f":"IF(W189<Parameter!$C$4,1,0)","v":0}]
[null,null,null,null,null,null,null,null,{"$f":"IF(OR(E190=Sprache!$C$19,E190=Sprache!$D$19),F190,0)+IF(OR(G190=Sprache!$C$19,G190=Sprache!$D$19),H190,0)+IF(OR(E190=Sprache!$C$20,E190=Sprache!$D$20),F190,0)+IF(OR(G190=Sprache!$C$20,G190=Sprache!$D$20),H190,0)","v":0},{"$f":"IF(OR(E190=Sprache!$C$21,E190=Sprache!$D$21),F190,0)+IF(OR(G190=Sprache!$C$21,G190=Sprache!$D$21),H190,0)","v":0},{"$f":"IF(OR(E190=Sprache!$C$22,E190=Sprache!$D$22),F190,0)+IF(OR(G190=Sprache!$C$22,G190=Sprache!$D$22),H190,0)","v":0},{"$f":"IF(OR(E190=Sprache!$C$23,E190=Sprache!$D$23),F190,0)+IF(OR(G190=Sprache!$C$23,G190=Sprache!$D$23),H190,0)","v":0},{"$f":"IF(OR(E190=Sprache!$C$24,E190=Sprache!$D$24),F190,0)+IF(OR(G190=Sprache!$C$24,G190=Sprache!$D$24),H190,0)","v":0},0,0,"",null,null,null,0,null,null,"","",{"$f":"IF(B190<>\"\",HYPERLINK($AB$9&AA190,Sprache!$E$25 &\" \"&B190),\"\")","v":""},null,182,{"$f":"Eingabemeldung(Sprache!$E$18,Sprache!$E$17,'Formular C'!E190)","v":{"$error":"#VALUE!"}},{"$f":"Eingabemeldung(Sprache!$E$18,Sprache!$E$17,'Formular C'!G190)","v":{"$error":"#VALUE!"}},false,0,{"$f":"IF(W190<Parameter!$C$4,1,0)","v":0}]
[null,null,null,null,null,null,null,null,{"$f":"IF(OR(E191=Sprache!$C$19,E191=Sprache!$D$19),F191,0)+IF(OR(G191=Sprache!$C$19,G191=Sprache!$D$19),H191,0)+IF(OR(E191=Sprache!$C$20,E191=Sprache!$D$20),F191,0)+IF(OR(G191=Sprache!$C$20,G191=Sprache!$D$20),H191,0)","v":0},{"$f":"IF(OR(E191=Sprache!$C$21,E191=Sprache!$D$21),F191,0)+IF(OR(G191=Sprache!$C$21,G191=Sprache!$D$21),H191,0)","v":0},{"$f":"IF(OR(E191=Sprache!$C$22,E191=Sprache!$D$22),F191,0)+IF(OR(G191=Sprache!$C$22,G191=Sprache!$D$22),H191,0)","v":0},{"$f":"IF(OR(E191=Sprache!$C$23,E191=Sprache!$D$23),F191,0)+IF(OR(G191=Sprache!$C$23,G191=Sprache!$D$23),H191,0)","v":0},{"$f":"IF(OR(E191=Sprache!$C$24,E191=Sprache!$D$24),F191,0)+IF(OR(G191=Sprache!$C$24,G191=Sprache!$D$24),H191,0)","v":0},0,0,"",null,null,null,0,null,null,"","",{"$f":"IF(B191<>\"\",HYPERLINK($AB$9&AA191,Sprache!$E$25 &\" \"&B191),\"\")","v":""},null,183,{"$f":"Eingabemeldung(Sprache!$E$18,Sprache!$E$17,'Formular C'!E191)","v":{"$error":"#VALUE!"}},{"$f":"Eingabemeldung(Sprache!$E$18,Sprache!$E$17,'Formular C'!G191)","v":{"$error":"#VALUE!"}},false,0,{"$f":"IF(W191<Parameter!$C$4,1,0)","v":0}]
[null,null,null,null,null,null,null,null,{"$f":"IF(OR(E192=Sprache!$C$19,E192=Sprache!$D$19),F192,0)+IF(OR(G192=Sprache!$C$19,G192=Sprache!$D$19),H192,0)+IF(OR(E192=Sprache!$C$20,E192=Sprache!$D$20),F192,0)+IF(OR(G192=Sprache!$C$20,G192=Sprache!$D$20),H192,0)","v":0},{"$f":"IF(OR(E192=Sprache!$C$21,E192=Sprache!$D$21),F192,0)+IF(OR(G192=Sprache!$C$21,G192=Sprache!$D$21),H192,0)","v":0},{"$f":"IF(OR(E192=Sprache!$C$22,E192=Sprache!$D$22),F192,0)+IF(OR(G192=Sprache!$C$22,G192=Sprache!$D$22),H192,0)","v":0},{"$f":"IF(OR(E192=Sprache!$C$23,E192=Sprache!$D$23),F192,0)+IF(OR(G192=Sprache!$C$23,G192=Sprache!$D$23),H192,0)","v":0},{"$f":"IF(OR(E192=Sprache!$C$24,E192=Sprache!$D$24),F192,0)+IF(OR(G192=Sprache!$C$24,G192=Sprache!$D$24),H192,0)","v":0},0,0,"",null,null,null,0,null,null,"","",{"$f":"IF(B192<>\"\",HYPERLINK($AB$9&AA192,Sprache!$E$25 &\" \"&B192),\"\")","v":""},null,184,{"$f":"Eingabemeldung(Sprache!$E$18,Sprache!$E$17,'Formular C'!E192)","v":{"$error":"#VALUE!"}},{"$f":"Eingabemeldung(Sprache!$E$18,Sprache!$E$17,'Formular C'!G192)","v":{"$error":"#VALUE!"}},false,0,{"$f":"IF(W192<Parameter!$C$4,1,0)","v":0}]
[null,null,null,null,null,null,null,null,{"$f":"IF(OR(E193=Sprache!$C$19,E193=Sprache!$D$19),F193,0)+IF(OR(G193=Sprache!$C$19,G193=Sprache!$D$19),H193,0)+IF(OR(E193=Sprache!$C$20,E193=Sprache!$D$20),F193,0)+IF(OR(G193=Sprache!$C$20,G193=Sprache!$D$20),H193,0)","v":0},{"$f":"IF(OR(E193=Sprache!$C$21,E193=Sprache!$D$21),F193,0)+IF(OR(G193=Sprache!$C$21,G193=Sprache!$D$21),H193,0)","v":0},{"$f":"IF(OR(E193=Sprache!$C$22,E193=Sprache!$D$22),F193,0)+IF(OR(G193=Sprache!$C$22,G193=Sprache!$D$22),H193,0)","v":0},{"$f":"IF(OR(E193=Sprache!$C$23,E193=Sprache!$D$23),F193,0)+IF(OR(G193=Sprache!$C$23,G193=Sprache!$D$23),H193,0)","v":0},{"$f":"IF(OR(E193=Sprache!$C$24,E193=Sprache!$D$24),F193,0)+IF(OR(G193=Sprache!$C$24,G193=Sprache!$D$24),H193,0)","v":0},0,0,"",null,null,null,0,null,null,"","",{"$f":"IF(B193<>\"\",HYPERLINK($AB$9&AA193,Sprache!$E$25 &\" \"&B193),\"\")","v":""},null,185,{"$f":"Eingabemeldung(Sprache!$E$18,Sprache!$E$17,'Formular C'!E193)","v":{"$error":"#VALUE!"}},{"$f":"Eingabemeldung(Sprache!$E$18,Sprache!$E$17,'Formular C'!G193)","v":{"$error":"#VALUE!"}},false,0,{"$f":"IF(W193<Parameter!$C$4,1,0)","v":0}]
[null,null,null,null,null,null,null,null,{"$f":"IF(OR(E194=Sprache!$C$19,E194=Sprache!$D$19),F194,0)+IF(OR(G194=Sprache!$C$19,G194=Sprache!$D$19),H194,0)+IF(OR(E194=Sprache!$C$20,E194=Sprache!$D$20),F194,0)+IF(OR(G194=Sprache!$C$20,G194=Sprache!$D$20),H194,0)","v":0},{"$f":"IF(OR(E194=Sprache!$C$21,E194=Sprache!$D$21),F194,0)+IF(OR(G194=Sprache!$C$21,G194=Sprache!$D$21),H194,0)","v":0},{"$f":"IF(OR(E194=Sprache!$C$22,E194=Sprache!$D$22),F194,0)+IF(OR(G194=Sprache!$C$22,G194=Sprache!$D$22),H194,0)","v":0},{"$f":"IF(OR(E194=Sprache!$C$23,E194=Sprache!$D$23),F194,0)+IF(OR(G194=Sprache!$C$23,G194=Sprache!$D$23),H194,0)","v":0},{"$f":"IF(OR(E194=Sprache!$C$24,E194=Sprache!$D$24),F194,0)+IF(OR(G194=Sprache!$C$24,G194=Sprache!$D$24),H194,0)","v":0},0,0,"",null,null,null,0,null,null,"","",{"$f":"IF(B194<>\"\",HYPERLINK($AB$9&AA194,Sprache!$E$25 &\" \"&B194),\"\")","v":""},null,186,{"$f":"Eingabemeldung(Sprache!$E$18,Sprache!$E$17,'Formular C'!E194)","v":{"$error":"#VALUE!"}},{"$f":"Eingabemeldung(Sprache!$E$18,Sprache!$E$17,'Formular C'!G194)","v":{"$error":"#VALUE!"}},false,0,{"$f":"IF(W194<Parameter!$C$4,1,0)","v":0}]
[null,null,null,null,null,null,null,null,{"$f":"IF(OR(E195=Sprache!$C$19,E195=Sprache!$D$19),F195,0)+IF(OR(G195=Sprache!$C$19,G195=Sprache!$D$19),H195,0)+IF(OR(E195=Sprache!$C$20,E195=Sprache!$D$20),F195,0)+IF(OR(G195=Sprache!$C$20,G195=Sprache!$D$20),H195,0)","v":0},{"$f":"IF(OR(E195=Sprache!$C$21,E195=Sprache!$D$21),F195,0)+IF(OR(G195=Sprache!$C$21,G195=Sprache!$D$21),H195,0)","v":0},{"$f":"IF(OR(E195=Sprache!$C$22,E195=Sprache!$D$22),F195,0)+IF(OR(G195=Sprache!$C$22,G195=Sprache!$D$22),H195,0)","v":0},{"$f":"IF(OR(E195=Sprache!$C$23,E195=Sprache!$D$23),F195,0)+IF(OR(G195=Sprache!$C$23,G195=Sprache!$D$23),H195,0)","v":0},{"$f":"IF(OR(E195=Sprache!$C$24,E195=Sprache!$D$24),F195,0)+IF(OR(G195=Sprache!$C$24,G195=Sprache!$D$24),H195,0)","v":0},0,0,"",null,null,null,0,null,null,"","",{"$f":"IF(B195<>\"\",HYPERLINK($AB$9&AA195,Sprache!$E$25 &\" \"&B195),\"\")","v":""},null,187,{"$f":"Eingabemeldung(Sprache!$E$18,Sprache!$E$17,'Formular C'!E195)","v":{"$error":"#VALUE!"}},{"$f":"Eingabemeldung(Sprache!$E$18,Sprache!$E$17,'Formular C'!G195)","v":{"$error":"#VALUE!"}},false,0,{"$f":"IF(W195<Parameter!$C$4,1,0)","v":0}]
[null,null,null,null,null,null,null,null,{"$f":"IF(OR(E196=Sprache!$C$19,E196=Sprache!$D$19),F196,0)+IF(OR(G196=Sprache!$C$19,G196=Sprache!$D$19),H196,0)+IF(OR(E196=Sprache!$C$20,E196=Sprache!$D$20),F196,0)+IF(OR(G196=Sprache!$C$20,G196=Sprache!$D$20),H196,0)","v":0},{"$f":"IF(OR(E196=Sprache!$C$21,E196=Sprache!$D$21),F196,0)+IF(OR(G196=Sprache!$C$21,G196=Sprache!$D$21),H196,0)","v":0},{"$f":"IF(OR(E196=Sprache!$C$22,E196=Sprache!$D$22),F196,0)+IF(OR(G196=Sprache!$C$22,G196=Sprache!$D$22),H196,0)","v":0},{"$f":"IF(OR(E196=Sprache!$C$23,E196=Sprache!$D$23),F196,0)+IF(OR(G196=Sprache!$C$23,G196=Sprache!$D$23),H196,0)","v":0},{"$f":"IF(OR(E196=Sprache!$C$24,E196=Sprache!$D$24),F196,0)+IF(OR(G196=Sprache!$C$24,G196=Sprache!$D$24),H196,0)","v":0},0,0,"",null,null,null,0,null,null,"","",{"$f":"IF(B196<>\"\",HYPERLINK($AB$9&AA196,Sprache!$E$25 &\" \"&B196),\"\")","v":""},null,188,{"$f":"Eingabemeldung(Sprache!$E$18,Sprache!$E$17,'Formular C'!E196)","v":{"$error":"#VALUE!"}},{"$f":"Eingabemeldung(Sprache!$E$18,Sprache!$E$17,'Formular C'!G196)","v":{"$error":"#VALUE!"}},false,0,{"$f":"IF(W196<Parameter!$C$4,1,0)","v":0}]
[null,null,null,null,null,null,null,null,{"$f":"IF(OR(E197=Sprache!$C$19,E197=Sprache!$D$19),F197,0)+IF(OR(G197=Sprache!$C$19,G197=Sprache!$D$19),H197,0)+IF(OR(E197=Sprache!$C$20,E197=Sprache!$D$20),F197,0)+IF(OR(G197=Sprache!$C$20,G197=Sprache!$D$20),H197,0)","v":0},{"$f":"IF(OR(E197=Sprache!$C$21,E197=Sprache!$D$21),F197,0)+IF(OR(G197=Sprache!$C$21,G197=Sprache!$D$21),H197,0)","v":0},{"$f":"IF(OR(E197=Sprache!$C$22,E197=Sprache!$D$22),F197,0)+IF(OR(G197=Sprache!$C$22,G197=Sprache!$D$22),H197,0)","v":0},{"$f":"IF(OR(E197=Sprache!$C$23,E197=Sprache!$D$23),F197,0)+IF(OR(G197=Sprache!$C$23,G197=Sprache!$D$23),H197,0)","v":0},{"$f":"IF(OR(E197=Sprache!$C$24,E197=Sprache!$D$24),F197,0)+IF(OR(G197=Sprache!$C$24,G197=Sprache!$D$24),H197,0)","v":0},0,0,"",null,null,null,0,null,null,"","",{"$f":"IF(B197<>\"\",HYPERLINK($AB$9&AA197,Sprache!$E$25 &\" \"&B197),\"\")","v":""},null,189,{"$f":"Eingabemeldung(Sprache!$E$18,Sprache!$E$17,'Formular C'!E197)","v":{"$error":"#VALUE!"}},{"$f":"Eingabemeldung(Sprache!$E$18,Sprache!$E$17,'Formular C'!G197)","v":{"$error":"#VALUE!"}},false,0,{"$f":"IF(W197<Parameter!$C$4,1,0)","v":0}]
[null,null,null,null,null,null,null,null,{"$f":"IF(OR(E198=Sprache!$C$19,E198=Sprache!$D$19),F198,0)+IF(OR(G198=Sprache!$C$19,G198=Sprache!$D$19),H198,0)+IF(OR(E198=Sprache!$C$20,E198=Sprache!$D$20),F198,0)+IF(OR(G198=Sprache!$C$20,G198=Sprache!$D$20),H198,0)","v":0},{"$f":"IF(OR(E198=Sprache!$C$21,E198=Sprache!$D$21),F198,0)+IF(OR(G198=Sprache!$C$21,G198=Sprache!$D$21),H198,0)","v":0},{"$f":"IF(OR(E198=Sprache!$C$22,E198=Sprache!$D$22),F198,0)+IF(OR(G198=Sprache!$C$22,G198=Sprache!$D$22),H198,0)","v":0},{"$f":"IF(OR(E198=Sprache!$C$23,E198=Sprache!$D$23),F198,0)+IF(OR(G198=Sprache!$C$23,G198=Sprache!$D$23),H198,0)","v":0},{"$f":"IF(OR(E198=Sprache!$C$24,E198=Sprache!$D$24),F198,0)+IF(OR(G198=Sprache!$C$24,G198=Sprache!$D$24),H198,0)","v":0},0,0,"",null,null,null,0,null,null,"","",{"$f":"IF(B198<>\"\",HYPERLINK($AB$9&AA198,Sprache!$E$25 &\" \"&B198),\"\")","v":""},null,190,{"$f":"Eingabemeldung(Sprache!$E$18,Sprache!$E$17,'Formular C'!E198)","v":{"$error":"#VALUE!"}},{"$f":"Eingabemeldung(Sprache!$E$18,Sprache!$E$17,'Formular C'!G198)","v":{"$error":"#VALUE!"}},false,0,{"$f":"IF(W198<Parameter!$C$4,1,0)","v":0}]
[null,null,null,null,null,null,null,null,{"$f":"IF(OR(E199=Sprache!$C$19,E199=Sprache!$D$19),F199,0)+IF(OR(G199=Sprache!$C$19,G199=Sprache!$D$19),H199,0)+IF(OR(E199=Sprache!$C$20,E199=Sprache!$D$20),F199,0)+IF(OR(G199=Sprache!$C$20,G199=Sprache!$D$20),H199,0)","v":0},{"$f":"IF(OR(E199=Sprache!$C$21,E199=Sprache!$D$21),F199,0)+IF(OR(G199=Sprache!$C$21,G199=Sprache!$D$21),H199,0)","v":0},{"$f":"IF(OR(E199=Sprache!$C$22,E199=Sprache!$D$22),F199,0)+IF(OR(G199=Sprache!$C$22,G199=Sprache!$D$22),H199,0)","v":0},{"$f":"IF(OR(E199=Sprache!$C$23,E199=Sprache!$D$23),F199,0)+IF(OR(G199=Sprache!$C$23,G199=Sprache!$D$23),H199,0)","v":0},{"$f":"IF(OR(E199=Sprache!$C$24,E199=Sprache!$D$24),F199,0)+IF(OR(G199=Sprache!$C$24,G199=Sprache!$D$24),H199,0)","v":0},0,0,"",null,null,null,0,null,null,"","",{"$f":"IF(B199<>\"\",HYPERLINK($AB$9&AA199,Sprache!$E$25 &\" \"&B199),\"\")","v":""},null,191,{"$f":"Eingabemeldung(Sprache!$E$18,Sprache!$E$17,'Formular C'!E199)","v":{"$error":"#VALUE!"}},{"$f":"Eingabemeldung(Sprache!$E$18,Sprache!$E$17,'Formular C'!G199)","v":{"$error":"#VALUE!"}},false,0,{"$f":"IF(W199<Parameter!$C$4,1,0)","v":0}]
[null,null,null,null,null,null,null,null,{"$f":"IF(OR(E200=Sprache!$C$19,E200=Sprache!$D$19),F200,0)+IF(OR(G200=Sprache!$C$19,G200=Sprache!$D$19),H200,0)+IF(OR(E200=Sprache!$C$20,E200=Sprache!$D$20),F200,0)+IF(OR(G200=Sprache!$C$20,G200=Sprache!$D$20),H200,0)","v":0},{"$f":"IF(OR(E200=Sprache!$C$21,E200=Sprache!$D$21),F200,0)+IF(OR(G200=Sprache!$C$21,G200=Sprache!$D$21),H200,0)","v":0},{"$f":"IF(OR(E200=Sprache!$C$22,E200=Sprache!$D$22),F200,0)+IF(OR(G200=Sprache!$C$22,G200=Sprache!$D$22),H200,0)","v":0},{"$f":"IF(OR(E200=Sprache!$C$23,E200=Sprache!$D$23),F200,0)+IF(OR(G200=Sprache!$C$23,G200=Sprache!$D$23),H200,0)","v":0},{"$f":"IF(OR(E200=Sprache!$C$24,E200=Sprache!$D$24),F200,0)+IF(OR(G200=Sprache!$C$24,G200=Sprache!$D$24),H200,0)","v":0},0,0,"",null,null,null,0,null,null,"","",{"$f":"IF(B200<>\"\",HYPERLINK($AB$9&AA200,Sprache!$E$25 &\" \"&B200),\"\")","v":""},null,192,{"$f":"Eingabemeldung(Sprache!$E$18,Sprache!$E$17,'Formular C'!E200)","v":{"$error":"#VALUE!"}},{"$f":"Eingabemeldung(Sprache!$E$18,Sprache!$E$17,'Formular C'!G200)","v":{"$error":"#VALUE!"}},false,0,{"$f":"IF(W200<Parameter!$C$4,1,0)","v":0}]
[null,null,null,null,null,null,null,null,{"$f":"IF(OR(E201=Sprache!$C$19,E201=Sprache!$D$19),F201,0)+IF(OR(G201=Sprache!$C$19,G201=Sprache!$D$19),H201,0)+IF(OR(E201=Sprache!$C$20,E201=Sprache!$D$20),F201,0)+IF(OR(G201=Sprache!$C$20,G201=Sprache!$D$20),H201,0)","v":0},{"$f":"IF(OR(E201=Sprache!$C$21,E201=Sprache!$D$21),F201,0)+IF(OR(G201=Sprache!$C$21,G201=Sprache!$D$21),H201,0)","v":0},{"$f":"IF(OR(E201=Sprache!$C$22,E201=Sprache!$D$22),F201,0)+IF(OR(G201=Sprache!$C$22,G201=Sprache!$D$22),H201,0)","v":0},{"$f":"IF(OR(E201=Sprache!$C$23,E201=Sprache!$D$23),F201,0)+IF(OR(G201=Sprache!$C$23,G201=Sprache!$D$23),H201,0)","v":0},{"$f":"IF(OR(E201=Sprache!$C$24,E201=Sprache!$D$24),F201,0)+IF(OR(G201=Sprache!$C$24,G201=Sprache!$D$24),H201,0)","v":0},0,0,"",null,null,null,0,null,null,"","",{"$f":"IF(B201<>\"\",HYPERLINK($AB$9&AA201,Sprache!$E$25 &\" \"&B201),\"\")","v":""},null,193,{"$f":"Eingabemeldung(Sprache!$E$18,Sprache!$E$17,'Formular C'!E201)","v":{"$error":"#VALUE!"}},{"$f":"Eingabemeldung(Sprache!$E$18,Sprache!$E$17,'Formular C'!G201)","v":{"$error":"#VALUE!"}},false,0,{"$f":"IF(W201<Parameter!$C$4,1,0)","v":0}]
[null,null,null,null,null,null,null,null,{"$f":"IF(OR(E202=Sprache!$C$19,E202=Sprache!$D$19),F202,0)+IF(OR(G202=Sprache!$C$19,G202=Sprache!$D$19),H202,0)+IF(OR(E202=Sprache!$C$20,E202=Sprache!$D$20),F202,0)+IF(OR(G202=Sprache!$C$20,G202=Sprache!$D$20),H202,0)","v":0},{"$f":"IF(OR(E202=Sprache!$C$21,E202=Sprache!$D$21),F202,0)+IF(OR(G202=Sprache!$C$21,G202=Sprache!$D$21),H202,0)","v":0},{"$f":"IF(OR(E202=Sprache!$C$22,E202=Sprache!$D$22),F202,0)+IF(OR(G202=Sprache!$C$22,G202=Sprache!$D$22),H202,0)","v":0},{"$f":"IF(OR(E202=Sprache!$C$23,E202=Sprache!$D$23),F202,0)+IF(OR(G202=Sprache!$C$23,G202=Sprache!$D$23),H202,0)","v":0},{"$f":"IF(OR(E202=Sprache!$C$24,E202=Sprache!$D$24),F202,0)+IF(OR(G202=Sprache!$C$24,G202=Sprache!$D$24),H202,0)","v":0},0,0,"",null,null,null,0,null,null,"","",{"$f":"IF(B202<>\"\",HYPERLINK($AB$9&AA202,Sprache!$E$25 &\" \"&B202),\"\")","v":""},null,194,{"$f":"Eingabemeldung(Sprache!$E$18,Sprache!$E$17,'Formular C'!E202)","v":{"$error":"#VALUE!"}},{"$f":"Eingabemeldung(Sprache!$E$18,Sprache!$E$17,'Formular C'!G202)","v":{"$error":"#VALUE!"}},false,0,{"$f":"IF(W202<Parameter!$C$4,1,0)","v":0}]
[null,null,null,null,null,null,null,null,{"$f":"IF(OR(E203=Sprache!$C$19,E203=Sprache!$D$19),F203,0)+IF(OR(G203=Sprache!$C$19,G203=Sprache!$D$19),H203,0)+IF(OR(E203=Sprache!$C$20,E203=Sprache!$D$20),F203,0)+IF(OR(G203=Sprache!$C$20,G203=Sprache!$D$20),H203,0)","v":0},{"$f":"IF(OR(E203=Sprache!$C$21,E203=Sprache!$D$21),F203,0)+IF(OR(G203=Sprache!$C$21,G203=Sprache!$D$21),H203,0)","v":0},{"$f":"IF(OR(E203=Sprache!$C$22,E203=Sprache!$D$22),F203,0)+IF(OR(G203=Sprache!$C$22,G203=Sprache!$D$22),H203,0)","v":0},{"$f":"IF(OR(E203=Sprache!$C$23,E203=Sprache!$D$23),F203,0)+IF(OR(G203=Sprache!$C$23,G203=Sprache!$D$23),H203,0)","v":0},{"$f":"IF(OR(E203=Sprache!$C$24,E203=Sprache!$D$24),F203,0)+IF(OR(G203=Sprache!$C$24,G203=Sprache!$D$24),H203,0)","v":0},0,0,"",null,null,null,0,null,null,"","",{"$f":"IF(B203<>\"\",HYPERLINK($AB$9&AA203,Sprache!$E$25 &\" \"&B203),\"\")","v":""},null,195,{"$f":"Eingabemeldung(Sprache!$E$18,Sprache!$E$17,'Formular C'!E203)","v":{"$error":"#VALUE!"}},{"$f":"Eingabemeldung(Sprache!$E$18,Sprache!$E$17,'Formular C'!G203)","v":{"$error":"#VALUE!"}},false,0,{"$f":"IF(W203<Parameter!$C$4,1,0)","v":0}]
[null,null,null,null,null,null,null,null,{"$f":"IF(OR(E204=Sprache!$C$19,E204=Sprache!$D$19),F204,0)+IF(OR(G204=Sprache!$C$19,G204=Sprache!$D$19),H204,0)+IF(OR(E204=Sprache!$C$20,E204=Sprache!$D$20),F204,0)+IF(OR(G204=Sprache!$C$20,G204=Sprache!$D$20),H204,0)","v":0},{"$f":"IF(OR(E204=Sprache!$C$21,E204=Sprache!$D$21),F204,0)+IF(OR(G204=Sprache!$C$21,G204=Sprache!$D$21),H204,0)","v":0},{"$f":"IF(OR(E204=Sprache!$C$22,E204=Sprache!$D$22),F204,0)+IF(OR(G204=Sprache!$C$22,G204=Sprache!$D$22),H204,0)","v":0},{"$f":"IF(OR(E204=Sprache!$C$23,E204=Sprache!$D$23),F204,0)+IF(OR(G204=Sprache!$C$23,G204=Sprache!$D$23),H204,0)","v":0},{"$f":"IF(OR(E204=Sprache!$C$24,E204=Sprache!$D$24),F204,0)+IF(OR(G204=Sprache!$C$24,G204=Sprache!$D$24),H204,0)","v":0},0,0,"",null,null,null,0,null,null,"","",{"$f":"IF(B204<>\"\",HYPERLINK($AB$9&AA204,Sprache!$E$25 &\" \"&B204),\"\")","v":""},null,196,{"$f":"Eingabemeldung(Sprache!$E$18,Sprache!$E$17,'Formular C'!E204)","v":{"$error":"#VALUE!"}},{"$f":"Eingabemeldung(Sprache!$E$18,Sprache!$E$17,'Formular C'!G204)","v":{"$error":"#VALUE!"}},false,0,{"$f":"IF(W204<Parameter!$C$4,1,0)","v":0}]
[null,null,null,null,null,null,null,null,{"$f":"IF(OR(E205=Sprache!$C$19,E205=Sprache!$D$19),F205,0)+IF(OR(G205=Sprache!$C$19,G205=Sprache!$D$19),H205,0)+IF(OR(E205=Sprache!$C$20,E205=Sprache!$D$20),F205,0)+IF(OR(G205=Sprache!$C$20,G205=Sprache!$D$20),H205,0)","v":0},{"$f":"IF(OR(E205=Sprache!$C$21,E205=Sprache!$D$21),F205,0)+IF(OR(G205=Sprache!$C$21,G205=Sprache!$D$21),H205,0)","v":0},{"$f":"IF(OR(E205=Sprache!$C$22,E205=Sprache!$D$22),F205,0)+IF(OR(G205=Sprache!$C$22,G205=Sprache!$D$22),H205,0)","v":0},{"$f":"IF(OR(E205=Sprache!$C$23,E205=Sprache!$D$23),F205,0)+IF(OR(G205=Sprache!$C$23,G205=Sprache!$D$23),H205,0)","v":0},{"$f":"IF(OR(E205=Sprache!$C$24,E205=Sprache!$D$24),F205,0)+IF(OR(G205=Sprache!$C$24,G205=Sprache!$D$24),H205,0)","v":0},0,0,"",null,null,null,0,null,null,"","",{"$f":"IF(B205<>\"\",HYPERLINK($AB$9&AA205,Sprache!$E$25 &\" \"&B205),\"\")","v":""},null,197,{"$f":"Eingabemeldung(Sprache!$E$18,Sprache!$E$17,'Formular C'!E205)","v":{"$error":"#VALUE!"}},{"$f":"Eingabemeldung(Sprache!$E$18,Sprache!$E$17,'Formular C'!G205)","v":{"$error":"#VALUE!"}},false,0,{"$f":"IF(W205<Parameter!$C$4,1,0)","v":0}]
[null,null,null,null,null,null,null,null,{"$f":"IF(OR(E206=Sprache!$C$19,E206=Sprache!$D$19),F206,0)+IF(OR(G206=Sprache!$C$19,G206=Sprache!$D$19),H206,0)+IF(OR(E206=Sprache!$C$20,E206=Sprache!$D$20),F206,0)+IF(OR(G206=Sprache!$C$20,G206=Sprache!$D$20),H206,0)","v":0},{"$f":"IF(OR(E206=Sprache!$C$21,E206=Sprache!$D$21),F206,0)+IF(OR(G206=Sprache!$C$21,G206=Sprache!$D$21),H206,0)","v":0},{"$f":"IF(OR(E206=Sprache!$C$22,E206=Sprache!$D$22),F206,0)+IF(OR(G206=Sprache!$C$22,G206=Sprache!$D$22),H206,0)","v":0},{"$f":"IF(OR(E206=Sprache!$C$23,E206=Sprache!$D$23),F206,0)+IF(OR(G206=Sprache!$C$23,G206=Sprache!$D$23),H206,0)","v":0},{"$f":"IF(OR(E206=Sprache!$C$24,E206=Sprache!$D$24),F206,0)+IF(OR(G206=Sprache!$C$24,G206=Sprache!$D$24),H206,0)","v":0},0,0,"",null,null,null,0,null,null,"","",{"$f":"IF(B206<>\"\",HYPERLINK($AB$9&AA206,Sprache!$E$25 &\" \"&B206),\"\")","v":""},null,198,{"$f":"Eingabemeldung(Sprache!$E$18,Sprache!$E$17,'Formular C'!E206)","v":{"$error":"#VALUE!"}},{"$f":"Eingabemeldung(Sprache!$E$18,Sprache!$E$17,'Formular C'!G206)","v":{"$error":"#VALUE!"}},false,0,{"$f":"IF(W206<Parameter!$C$4,1,0)","v":0}]
[null,null,null,null,null,null,null,null,{"$f":"IF(OR(E207=Sprache!$C$19,E207=Sprache!$D$19),F207,0)+IF(OR(G207=Sprache!$C$19,G207=Sprache!$D$19),H207,0)+IF(OR(E207=Sprache!$C$20,E207=Sprache!$D$20),F207,0)+IF(OR(G207=Sprache!$C$20,G207=Sprache!$D$20),H207,0)","v":0},{"$f":"IF(OR(E207=Sprache!$C$21,E207=Sprache!$D$21),F207,0)+IF(OR(G207=Sprache!$C$21,G207=Sprache!$D$21),H207,0)","v":0},{"$f":"IF(OR(E207=Sprache!$C$22,E207=Sprache!$D$22),F207,0)+IF(OR(G207=Sprache!$C$22,G207=Sprache!$D$22),H207,0)","v":0},{"$f":"IF(OR(E207=Sprache!$C$23,E207=Sprache!$D$23),F207,0)+IF(OR(G207=Sprache!$C$23,G207=Sprache!$D$23),H207,0)","v":0},{"$f":"IF(OR(E207=Sprache!$C$24,E207=Sprache!$D$24),F207,0)+IF(OR(G207=Sprache!$C$24,G207=Sprache!$D$24),H207,0)","v":0},0,0,"",null,null,null,0,null,null,"","",{"$f":"IF(B207<>\"\",HYPERLINK($AB$9&AA207,Sprache!$E$25 &\" \"&B207),\"\")","v":""},null,199,{"$f":"Eingabemeldung(Sprache!$E$18,Sprache!$E$17,'Formular C'!E207)","v":{"$error":"#VALUE!"}},{"$f":"Eingabemeldung(Sprache!$E$18,Sprache!$E$17,'Formular C'!G207)","v":{"$error":"#VALUE!"}},false,0,{"$f":"IF(W207<Parameter!$C$4,1,0)","v":0}]
[null,null,null,null,null,null,null,null,{"$f":"IF(OR(E208=Sprache!$C$19,E208=Sprache!$D$19),F208,0)+IF(OR(G208=Sprache!$C$19,G208=Sprache!$D$19),H208,0)+IF(OR(E208=Sprache!$C$20,E208=Sprache!$D$20),F208,0)+IF(OR(G208=Sprache!$C$20,G208=Sprache!$D$20),H208,0)","v":0},{"$f":"IF(OR(E208=Sprache!$C$21,E208=Sprache!$D$21),F208,0)+IF(OR(G208=Sprache!$C$21,G208=Sprache!$D$21),H208,0)","v":0},{"$f":"IF(OR(E208=Sprache!$C$22,E208=Sprache!$D$22),F208,0)+IF(OR(G208=Sprache!$C$22,G208=Sprache!$D$22),H208,0)","v":0},{"$f":"IF(OR(E208=Sprache!$C$23,E208=Sprache!$D$23),F208,0)+IF(OR(G208=Sprache!$C$23,G208=Sprache!$D$23),H208,0)","v":0},{"$f":"IF(OR(E208=Sprache!$C$24,E208=Sprache!$D$24),F208,0)+IF(OR(G208=Sprache!$C$24,G208=Sprache!$D$24),H208,0)","v":0},0,0,"",null,null,null,0,null,null,"","",{"$f":"IF(B208<>\"\",HYPERLINK($AB$9&AA208,Sprache!$E$25 &\" \"&B208),\"\")","v":""},null,200,{"$f":"Eingabemeldung(Sprache!$E$18,Sprache!$E$17,'Formular C'!E208)","v":{"$error":"#VALUE!"}},{"$f":"Eingabemeldung(Sprache!$E$18,Sprache!$E$17,'Formular C'!G208)","v":{"$error":"#VALUE!"}},false,0,{"$f":"IF(W208<Parameter!$C$4,1,0)","v":0}]
[null,null,null,null,null,null,null,null,{"$f":"IF(OR(E209=Sprache!$C$19,E209=Sprache!$D$19),F209,0)+IF(OR(G209=Sprache!$C$19,G209=Sprache!$D$19),H209,0)+IF(OR(E209=Sprache!$C$20,E209=Sprache!$D$20),F209,0)+IF(OR(G209=Sprache!$C$20,G209=Sprache!$D$20),H209,0)","v":0},{"$f":"IF(OR(E209=Sprache!$C$21,E209=Sprache!$D$21),F209,0)+IF(OR(G209=Sprache!$C$21,G209=Sprache!$D$21),H209,0)","v":0},{"$f":"IF(OR(E209=Sprache!$C$22,E209=Sprache!$D$22),F209,0)+IF(OR(G209=Sprache!$C$22,G209=Sprache!$D$22),H209,0)","v":0},{"$f":"IF(OR(E209=Sprache!$C$23,E209=Sprache!$D$23),F209,0)+IF(OR(G209=Sprache!$C$23,G209=Sprache!$D$23),H209,0)","v":0},{"$f":"IF(OR(E209=Sprache!$C$24,E209=Sprache!$D$24),F209,0)+IF(OR(G209=Sprache!$C$24,G209=Sprache!$D$24),H209,0)","v":0},0,0,"",null,null,null,0,null,null,"","",{"$f":"IF(B209<>\"\",HYPERLINK($AB$9&AA209,Sprache!$E$25 &\" \"&B209),\"\")","v":""},null,201,{"$f":"Eingabemeldung(Sprache!$E$18,Sprache!$E$17,'Formular C'!E209)","v":{"$error":"#VALUE!"}},{"$f":"Eingabemeldung(Sprache!$E$18,Sprache!$E$17,'Formular C'!G209)","v":{"$error":"#VALUE!"}},false,0,{"$f":"IF(W209<Parameter!$C$4,1,0)","v":0}]
[null,null,null,null,null,null,null,null,{"$f":"IF(OR(E210=Sprache!$C$19,E210=Sprache!$D$19),F210,0)+IF(OR(G210=Sprache!$C$19,G210=Sprache!$D$19),H210,0)+IF(OR(E210=Sprache!$C$20,E210=Sprache!$D$20),F210,0)+IF(OR(G210=Sprache!$C$20,G210=Sprache!$D$20),H210,0)","v":0},{"$f":"IF(OR(E210=Sprache!$C$21,E210=Sprache!$D$21),F210,0)+IF(OR(G210=Sprache!$C$21,G210=Sprache!$D$21),H210,0)","v":0},{"$f":"IF(OR(E210=Sprache!$C$22,E210=Sprache!$D$22),F210,0)+IF(OR(G210=Sprache!$C$22,G210=Sprache!$D$22),H210,0)","v":0},{"$f":"IF(OR(E210=Sprache!$C$23,E210=Sprache!$D$23),F210,0)+IF(OR(G210=Sprache!$C$23,G210=Sprache!$D$23),H210,0)","v":0},{"$f":"IF(OR(E210=Sprache!$C$24,E210=Sprache!$D$24),F210,0)+IF(OR(G210=Sprache!$C$24,G210=Sprache!$D$24),H210,0)","v":0},0,0,"",null,null,null,0,null,null,"","",{"$f":"IF(B210<>\"\",HYPERLINK($AB$9&AA210,Sprache!$E$25 &\" \"&B210),\"\")","v":""},null,202,{"$f":"Eingabemeldung(Sprache!$E$18,Sprache!$E$17,'Formular C'!E210)","v":{"$error":"#VALUE!"}},{"$f":"Eingabemeldung(Sprache!$E$18,Sprache!$E$17,'Formular C'!G210)","v":{"$error":"#VALUE!"}},false,0,{"$f":"IF(W210<Parameter!$C$4,1,0)","v":0}]
[null,null,null,null,null,null,null,null,{"$f":"IF(OR(E211=Sprache!$C$19,E211=Sprache!$D$19),F211,0)+IF(OR(G211=Sprache!$C$19,G211=Sprache!$D$19),H211,0)+IF(OR(E211=Sprache!$C$20,E211=Sprache!$D$20),F211,0)+IF(OR(G211=Sprache!$C$20,G211=Sprache!$D$20),H211,0)","v":0},{"$f":"IF(OR(E211=Sprache!$C$21,E211=Sprache!$D$21),F211,0)+IF(OR(G211=Sprache!$C$21,G211=Sprache!$D$21),H211,0)","v":0},{"$f":"IF(OR(E211=Sprache!$C$22,E211=Sprache!$D$22),F211,0)+IF(OR(G211=Sprache!$C$22,G211=Sprache!$D$22),H211,0)","v":0},{"$f":"IF(OR(E211=Sprache!$C$23,E211=Sprache!$D$23),F211,0)+IF(OR(G211=Sprache!$C$23,G211=Sprache!$D$23),H211,0)","v":0},{"$f":"IF(OR(E211=Sprache!$C$24,E211=Sprache!$D$24),F211,0)+IF(OR(G211=Sprache!$C$24,G211=Sprache!$D$24),H211,0)","v":0},0,0,"",null,null,null,0,null,null,"","",{"$f":"IF(B211<>\"\",HYPERLINK($AB$9&AA211,Sprache!$E$25 &\" \"&B211),\"\")","v":""},null,203,{"$f":"Eingabemeldung(Sprache!$E$18,Sprache!$E$17,'Formular C'!E211)","v":{"$error":"#VALUE!"}},{"$f":"Eingabemeldung(Sprache!$E$18,Sprache!$E$17,'Formular C'!G211)","v":{"$error":"#VALUE!"}},false,0,{"$f":"IF(W211<Parameter!$C$4,1,0)","v":0}]
[null,null,null,null,null,null,null,null,{"$f":"IF(OR(E212=Sprache!$C$19,E212=Sprache!$D$19),F212,0)+IF(OR(G212=Sprache!$C$19,G212=Sprache!$D$19),H212,0)+IF(OR(E212=Sprache!$C$20,E212=Sprache!$D$20),F212,0)+IF(OR(G212=Sprache!$C$20,G212=Sprache!$D$20),H212,0)","v":0},{"$f":"IF(OR(E212=Sprache!$C$21,E212=Sprache!$D$21),F212,0)+IF(OR(G212=Sprache!$C$21,G212=Sprache!$D$21),H212,0)","v":0},{"$f":"IF(OR(E212=Sprache!$C$22,E212=Sprache!$D$22),F212,0)+IF(OR(G212=Sprache!$C$22,G212=Sprache!$D$22),H212,0)","v":0},{"$f":"IF(OR(E212=Sprache!$C$23,E212=Sprache!$D$23),F212,0)+IF(OR(G212=Sprache!$C$23,G212=Sprache!$D$23),H212,0)","v":0},{"$f":"IF(OR(E212=Sprache!$C$24,E212=Sprache!$D$24),F212,0)+IF(OR(G212=Sprache!$C$24,G212=Sprache!$D$24),H212,0)","v":0},0,0,"",null,null,null,0,null,null,"","",{"$f":"IF(B212<>\"\",HYPERLINK($AB$9&AA212,Sprache!$E$25 &\" \"&B212),\"\")","v":""},null,204,{"$f":"Eingabemeldung(Sprache!$E$18,Sprache!$E$17,'Formular C'!E212)","v":{"$error":"#VALUE!"}},{"$f":"Eingabemeldung(Sprache!$E$18,Sprache!$E$17,'Formular C'!G212)","v":{"$error":"#VALUE!"}},false,0,{"$f":"IF(W212<Parameter!$C$4,1,0)","v":0}]
[null,null,null,null,null,null,null,null,{"$f":"IF(OR(E213=Sprache!$C$19,E213=Sprache!$D$19),F213,0)+IF(OR(G213=Sprache!$C$19,G213=Sprache!$D$19),H213,0)+IF(OR(E213=Sprache!$C$20,E213=Sprache!$D$20),F213,0)+IF(OR(G213=Sprache!$C$20,G213=Sprache!$D$20),H213,0)","v":0},{"$f":"IF(OR(E213=Sprache!$C$21,E213=Sprache!$D$21),F213,0)+IF(OR(G213=Sprache!$C$21,G213=Sprache!$D$21),H213,0)","v":0},{"$f":"IF(OR(E213=Sprache!$C$22,E213=Sprache!$D$22),F213,0)+IF(OR(G213=Sprache!$C$22,G213=Sprache!$D$22),H213,0)","v":0},{"$f":"IF(OR(E213=Sprache!$C$23,E213=Sprache!$D$23),F213,0)+IF(OR(G213=Sprache!$C$23,G213=Sprache!$D$23),H213,0)","v":0},{"$f":"IF(OR(E213=Sprache!$C$24,E213=Sprache!$D$24),F213,0)+IF(OR(G213=Sprache!$C$24,G213=Sprache!$D$24),H213,0)","v":0},0,0,"",null,null,null,0,null,null,"","",{"$f":"IF(B213<>\"\",HYPERLINK($AB$9&AA213,Sprache!$E$25 &\" \"&B213),\"\")","v":""},null,205,{"$f":"Eingabemeldung(Sprache!$E$18,Sprache!$E$17,'Formular C'!E213)","v":{"$error":"#VALUE!"}},{"$f":"Eingabemeldung(Sprache!$E$18,Sprache!$E$17,'Formular C'!G213)","v":{"$error":"#VALUE!"}},false,0,{"$f":"IF(W213<Parameter!$C$4,1,0)","v":0}]
[null,null,null,null,null,null,null,null,{"$f":"IF(OR(E214=Sprache!$C$19,E214=Sprache!$D$19),F214,0)+IF(OR(G214=Sprache!$C$19,G214=Sprache!$D$19),H214,0)+IF(OR(E214=Sprache!$C$20,E214=Sprache!$D$20),F214,0)+IF(OR(G214=Sprache!$C$20,G214=Sprache!$D$20),H214,0)","v":0},{"$f":"IF(OR(E214=Sprache!$C$21,E214=Sprache!$D$21),F214,0)+IF(OR(G214=Sprache!$C$21,G214=Sprache!$D$21),H214,0)","v":0},{"$f":"IF(OR(E214=Sprache!$C$22,E214=Sprache!$D$22),F214,0)+IF(OR(G214=Sprache!$C$22,G214=Sprache!$D$22),H214,0)","v":0},{"$f":"IF(OR(E214=Sprache!$C$23,E214=Sprache!$D$23),F214,0)+IF(OR(G214=Sprache!$C$23,G214=Sprache!$D$23),H214,0)","v":0},{"$f":"IF(OR(E214=Sprache!$C$24,E214=Sprache!$D$24),F214,0)+IF(OR(G214=Sprache!$C$24,G214=Sprache!$D$24),H214,0)","v":0},0,0,"",null,null,null,0,null,null,"","",{"$f":"IF(B214<>\"\",HYPERLINK($AB$9&AA214,Sprache!$E$25 &\" \"&B214),\"\")","v":""},null,206,{"$f":"Eingabemeldung(Sprache!$E$18,Sprache!$E$17,'Formular C'!E214)","v":{"$error":"#VALUE!"}},{"$f":"Eingabemeldung(Sprache!$E$18,Sprache!$E$17,'Formular C'!G214)","v":{"$error":"#VALUE!"}},false,0,{"$f":"IF(W214<Parameter!$C$4,1,0)","v":0}]
[null,null,null,null,null,null,null,null,{"$f":"IF(OR(E215=Sprache!$C$19,E215=Sprache!$D$19),F215,0)+IF(OR(G215=Sprache!$C$19,G215=Sprache!$D$19),H215,0)+IF(OR(E215=Sprache!$C$20,E215=Sprache!$D$20),F215,0)+IF(OR(G215=Sprache!$C$20,G215=Sprache!$D$20),H215,0)","v":0},{"$f":"IF(OR(E215=Sprache!$C$21,E215=Sprache!$D$21),F215,0)+IF(OR(G215=Sprache!$C$21,G215=Sprache!$D$21),H215,0)","v":0},{"$f":"IF(OR(E215=Sprache!$C$22,E215=Sprache!$D$22),F215,0)+IF(OR(G215=Sprache!$C$22,G215=Sprache!$D$22),H215,0)","v":0},{"$f":"IF(OR(E215=Sprache!$C$23,E215=Sprache!$D$23),F215,0)+IF(OR(G215=Sprache!$C$23,G215=Sprache!$D$23),H215,0)","v":0},{"$f":"IF(OR(E215=Sprache!$C$24,E215=Sprache!$D$24),F215,0)+IF(OR(G215=Sprache!$C$24,G215=Sprache!$D$24),H215,0)","v":0},0,0,"",null,null,null,0,null,null,"","",{"$f":"IF(B215<>\"\",HYPERLINK($AB$9&AA215,Sprache!$E$25 &\" \"&B215),\"\")","v":""},null,207,{"$f":"Eingabemeldung(Sprache!$E$18,Sprache!$E$17,'Formular C'!E215)","v":{"$error":"#VALUE!"}},{"$f":"Eingabemeldung(Sprache!$E$18,Sprache!$E$17,'Formular C'!G215)","v":{"$error":"#VALUE!"}},false,0,{"$f":"IF(W215<Parameter!$C$4,1,0)","v":0}]
[null,null,null,null,null,null,null,null,{"$f":"IF(OR(E216=Sprache!$C$19,E216=Sprache!$D$19),F216,0)+IF(OR(G216=Sprache!$C$19,G216=Sprache!$D$19),H216,0)+IF(OR(E216=Sprache!$C$20,E216=Sprache!$D$20),F216,0)+IF(OR(G216=Sprache!$C$20,G216=Sprache!$D$20),H216,0)","v":0},{"$f":"IF(OR(E216=Sprache!$C$21,E216=Sprache!$D$21),F216,0)+IF(OR(G216=Sprache!$C$21,G216=Sprache!$D$21),H216,0)","v":0},{"$f":"IF(OR(E216=Sprache!$C$22,E216=Sprache!$D$22),F216,0)+IF(OR(G216=Sprache!$C$22,G216=Sprache!$D$22),H216,0)","v":0},{"$f":"IF(OR(E216=Sprache!$C$23,E216=Sprache!$D$23),F216,0)+IF(OR(G216=Sprache!$C$23,G216=Sprache!$D$23),H216,0)","v":0},{"$f":"IF(OR(E216=Sprache!$C$24,E216=Sprache!$D$24),F216,0)+IF(OR(G216=Sprache!$C$24,G216=Sprache!$D$24),H216,0)","v":0},0,0,"",null,null,null,0,null,null,{"$f":"IF(T216=0, \"\",U216*V216/T216)","v":""},{"$f":"IF(AF216,\"X\",\"\")","v":""},{"$f":"IF(B216<>\"\",HYPERLINK($AB$9&AA216,Sprache!$E$25 &\" \"&B216),\"\")","v":""},null,208,{"$f":"Eingabemeldung(Sprache!$E$18,Sprache!$E$17,'Formular C'!E216)","v":{"$error":"#VALUE!"}},{"$f":"Eingabemeldung(Sprache!$E$18,Sprache!$E$17,'Formular C'!G216)","v":{"$error":"#VALUE!"}},{"$f":"ISNUMBER(Q216)","v":false},{"$f":"IF(X216=\"X\",1,0)","v":0},{"$f":"IF(W216<Parameter!$C$4,1,0)","v":0}]
[null,null,null,null,null,null,null,null,{"$f":"IF(OR(E217=Sprache!$C$19,E217=Sprache!$D$19),F217,0)+IF(OR(G217=Sprache!$C$19,G217=Sprache!$D$19),H217,0)+IF(OR(E217=Sprache!$C$20,E217=Sprache!$D$20),F217,0)+IF(OR(G217=Sprache!$C$20,G217=Sprache!$D$20),H217,0)","v":0},{"$f":"IF(OR(E217=Sprache!$C$21,E217=Sprache!$D$21),F217,0)+IF(OR(G217=Sprache!$C$21,G217=Sprache!$D$21),H217,0)","v":0},{"$f":"IF(OR(E217=Sprache!$C$22,E217=Sprache!$D$22),F217,0)+IF(OR(G217=Sprache!$C$22,G217=Sprache!$D$22),H217,0)","v":0},{"$f":"IF(OR(E217=Sprache!$C$23,E217=Sprache!$D$23),F217,0)+IF(OR(G217=Sprache!$C$23,G217=Sprache!$D$23),H217,0)","v":0},{"$f":"IF(OR(E217=Sprache!$C$24,E217=Sprache!$D$24),F217,0)+IF(OR(G217=Sprache!$C$24,G217=Sprache!$D$24),H217,0)","v":0},0,0,"",null,null,null,0,null,null,"","",{"$f":"IF(B217<>\"\",HYPERLINK($AB$9&AA217,Sprache!$E$25 &\" \"&B217),\"\")","v":""},null,{"$f":"AA216+1","v":209},{"$f":"Eingabemeldung(Sprache!$E$18,Sprache!$E$17,'Formular C'!E217)","v":{"$error":"#VALUE!"}},{"$f":"Eingabemeldung(Sprache!$E$18,Sprache!$E$17,'Formular C'!G217)","v":{"$error":"#VALUE!"}},false,0,{"$f":"IF(W217<Parameter!$C$4,1,0)","v":0}]
[null,null,null,null,null,null,null,null,{"$f":"IF(OR(E218=Sprache!$C$19,E218=Sprache!$D$19),F218,0)+IF(OR(G218=Sprache!$C$19,G218=Sprache!$D$19),H218,0)+IF(OR(E218=Sprache!$C$20,E218=Sprache!$D$20),F218,0)+IF(OR(G218=Sprache!$C$20,G218=Sprache!$D$20),H218,0)","v":0},{"$f":"IF(OR(E218=Sprache!$C$21,E218=Sprache!$D$21),F218,0)+IF(OR(G218=Sprache!$C$21,G218=Sprache!$D$21),H218,0)","v":0},{"$f":"IF(OR(E218=Sprache!$C$22,E218=Sprache!$D$22),F218,0)+IF(OR(G218=Sprache!$C$22,G218=Sprache!$D$22),H218,0)","v":0},{"$f":"IF(OR(E218=Sprache!$C$23,E218=Sprache!$D$23),F218,0)+IF(OR(G218=Sprache!$C$23,G218=Sprache!$D$23),H218,0)","v":0},{"$f":"IF(OR(E218=Sprache!$C$24,E218=Sprache!$D$24),F218,0)+IF(OR(G218=Sprache!$C$24,G218=Sprache!$D$24),H218,0)","v":0},0,0,"",null,null,null,0,null,null,"","",{"$f":"IF(B218<>\"\",HYPERLINK($AB$9&AA218,Sprache!$E$25 &\" \"&B218),\"\")","v":""},null,210,{"$f":"Eingabemeldung(Sprache!$E$18,Sprache!$E$17,'Formular C'!E218)","v":{"$error":"#VALUE!"}},{"$f":"Eingabemeldung(Sprache!$E$18,Sprache!$E$17,'Formular C'!G218)","v":{"$error":"#VALUE!"}},false,0,{"$f":"IF(W218<Parameter!$C$4,1,0)","v":0}]
[null,null,null,null,null,null,null,null,{"$f":"IF(OR(E219=Sprache!$C$19,E219=Sprache!$D$19),F219,0)+IF(OR(G219=Sprache!$C$19,G219=Sprache!$D$19),H219,0)+IF(OR(E219=Sprache!$C$20,E219=Sprache!$D$20),F219,0)+IF(OR(G219=Sprache!$C$20,G219=Sprache!$D$20),H219,0)","v":0},{"$f":"IF(OR(E219=Sprache!$C$21,E219=Sprache!$D$21),F219,0)+IF(OR(G219=Sprache!$C$21,G219=Sprache!$D$21),H219,0)","v":0},{"$f":"IF(OR(E219=Sprache!$C$22,E219=Sprache!$D$22),F219,0)+IF(OR(G219=Sprache!$C$22,G219=Sprache!$D$22),H219,0)","v":0},{"$f":"IF(OR(E219=Sprache!$C$23,E219=Sprache!$D$23),F219,0)+IF(OR(G219=Sprache!$C$23,G219=Sprache!$D$23),H219,0)","v":0},{"$f":"IF(OR(E219=Sprache!$C$24,E219=Sprache!$D$24),F219,0)+IF(OR(G219=Sprache!$C$24,G219=Sprache!$D$24),H219,0)","v":0},0,0,"",null,null,null,0,null,null,"","",{"$f":"IF(B219<>\"\",HYPERLINK($AB$9&AA219,Sprache!$E$25 &\" \"&B219),\"\")","v":""},null,211,{"$f":"Eingabemeldung(Sprache!$E$18,Sprache!$E$17,'Formular C'!E219)","v":{"$error":"#VALUE!"}},{"$f":"Eingabemeldung(Sprache!$E$18,Sprache!$E$17,'Formular C'!G219)","v":{"$error":"#VALUE!"}},false,0,{"$f":"IF(W219<Parameter!$C$4,1,0)","v":0}]
[null,null,null,null,null,null,null,null,{"$f":"IF(OR(E220=Sprache!$C$19,E220=Sprache!$D$19),F220,0)+IF(OR(G220=Sprache!$C$19,G220=Sprache!$D$19),H220,0)+IF(OR(E220=Sprache!$C$20,E220=Sprache!$D$20),F220,0)+IF(OR(G220=Sprache!$C$20,G220=Sprache!$D$20),H220,0)","v":0},{"$f":"IF(OR(E220=Sprache!$C$21,E220=Sprache!$D$21),F220,0)+IF(OR(G220=Sprache!$C$21,G220=Sprache!$D$21),H220,0)","v":0},{"$f":"IF(OR(E220=Sprache!$C$22,E220=Sprache!$D$22),F220,0)+IF(OR(G220=Sprache!$C$22,G220=Sprache!$D$22),H220,0)","v":0},{"$f":"IF(OR(E220=Sprache!$C$23,E220=Sprache!$D$23),F220,0)+IF(OR(G220=Sprache!$C$23,G220=Sprache!$D$23),H220,0)","v":0},{"$f":"IF(OR(E220=Sprache!$C$24,E220=Sprache!$D$24),F220,0)+IF(OR(G220=Sprache!$C$24,G220=Sprache!$D$24),H220,0)","v":0},0,0,"",null,null,null,0,null,null,"","",{"$f":"IF(B220<>\"\",HYPERLINK($AB$9&AA220,Sprache!$E$25 &\" \"&B220),\"\")","v":""},null,212,{"$f":"Eingabemeldung(Sprache!$E$18,Sprache!$E$17,'Formular C'!E220)","v":{"$error":"#VALUE!"}},{"$f":"Eingabemeldung(Sprache!$E$18,Sprache!$E$17,'Formular C'!G220)","v":{"$error":"#VALUE!"}},false,0,{"$f":"IF(W220<Parameter!$C$4,1,0)","v":0}]
[null,null,null,null,null,null,null,null,{"$f":"IF(OR(E221=Sprache!$C$19,E221=Sprache!$D$19),F221,0)+IF(OR(G221=Sprache!$C$19,G221=Sprache!$D$19),H221,0)+IF(OR(E221=Sprache!$C$20,E221=Sprache!$D$20),F221,0)+IF(OR(G221=Sprache!$C$20,G221=Sprache!$D$20),H221,0)","v":0},{"$f":"IF(OR(E221=Sprache!$C$21,E221=Sprache!$D$21),F221,0)+IF(OR(G221=Sprache!$C$21,G221=Sprache!$D$21),H221,0)","v":0},{"$f":"IF(OR(E221=Sprache!$C$22,E221=Sprache!$D$22),F221,0)+IF(OR(G221=Sprache!$C$22,G221=Sprache!$D$22),H221,0)","v":0},{"$f":"IF(OR(E221=Sprache!$C$23,E221=Sprache!$D$23),F221,0)+IF(OR(G221=Sprache!$C$23,G221=Sprache!$D$23),H221,0)","v":0},{"$f":"IF(OR(E221=Sprache!$C$24,E221=Sprache!$D$24),F221,0)+IF(OR(G221=Sprache!$C$24,G221=Sprache!$D$24),H221,0)","v":0},0,0,{"$f":"IFERROR(O221/($H$7-$O$228),\"\")","v":""},null,null,null,{"$f":"(F221*R221)+(H221*S221)","v":0},null,null,"","",{"$f":"IF(B221<>\"\",HYPERLINK($AB$9&AA221,Sprache!$E$25 &\" \"&B221),\"\")","v":""},null,213,{"$f":"Eingabemeldung(Sprache!$E$18,Sprache!$E$17,'Formular C'!E221)","v":{"$error":"#VALUE!"}},{"$f":"Eingabemeldung(Sprache!$E$18,Sprache!$E$17,'Formular C'!G221)","v":{"$error":"#VALUE!"}},false,0,{"$f":"IF(W221<Parameter!$C$4,1,0)","v":0}]
[null,null,null,null,null,null,null,null,{"$f":"IF(OR(E222=Sprache!$C$19,E222=Sprache!$D$19),F222,0)+IF(OR(G222=Sprache!$C$19,G222=Sprache!$D$19),H222,0)+IF(OR(E222=Sprache!$C$20,E222=Sprache!$D$20),F222,0)+IF(OR(G222=Sprache!$C$20,G222=Sprache!$D$20),H222,0)","v":0},{"$f":"IF(OR(E222=Sprache!$C$21,E222=Sprache!$D$21),F222,0)+IF(OR(G222=Sprache!$C$21,G222=Sprache!$D$21),H222,0)","v":0},{"$f":"IF(OR(E222=Sprache!$C$22,E222=Sprache!$D$22),F222,0)+IF(OR(G222=Sprache!$C$22,G222=Sprache!$D$22),H222,0)","v":0},{"$f":"IF(OR(E222=Sprache!$C$23,E222=Sprache!$D$23),F222,0)+IF(OR(G222=Sprache!$C$23,G222=Sprache!$D$23),H222,0)","v":0},{"$f":"IF(OR(E222=Sprache!$C$24,E222=Sprache!$D$24),F222,0)+IF(OR(G222=Sprache!$C$24,G222=Sprache!$D$24),H222,0)","v":0},0,0,"",null,null,null,0,null,null,"","",{"$f":"IF(B222<>\"\",HYPERLINK($AB$9&AA222,Sprache!$E$25 &\" \"&B222),\"\")","v":""},null,214,{"$f":"Eingabemeldung(Sprache!$E$18,Sprache!$E$17,'Formular C'!E222)","v":{"$error":"#VALUE!"}},{"$f":"Eingabemeldung(Sprache!$E$18,Sprache!$E$17,'Formular C'!G222)","v":{"$error":"#VALUE!"}},false,0,{"$f":"IF(W222<Parameter!$C$4,1,0)","v":0}]
[null,null,null,null,null,null,null,null,{"$f":"IF(OR(E223=Sprache!$C$19,E223=Sprache!$D$19),F223,0)+IF(OR(G223=Sprache!$C$19,G223=Sprache!$D$19),H223,0)+IF(OR(E223=Sprache!$C$20,E223=Sprache!$D$20),F223,0)+IF(OR(G223=Sprache!$C$20,G223=Sprache!$D$20),H223,0)","v":0},{"$f":"IF(OR(E223=Sprache!$C$21,E223=Sprache!$D$21),F223,0)+IF(OR(G223=Sprache!$C$21,G223=Sprache!$D$21),H223,0)","v":0},{"$f":"IF(OR(E223=Sprache!$C$22,E223=Sprache!$D$22),F223,0)+IF(OR(G223=Sprache!$C$22,G223=Sprache!$D$22),H223,0)","v":0},{"$f":"IF(OR(E223=Sprache!$C$23,E223=Sprache!$D$23),F223,0)+IF(OR(G223=Sprache!$C$23,G223=Sprache!$D$23),H223,0)","v":0},{"$f":"IF(OR(E223=Sprache!$C$24,E223=Sprache!$D$24),F223,0)+IF(OR(G223=Sprache!$C$24,G223=Sprache!$D$24),H223,0)","v":0},0,0,"",null,null,null,0,null,null,"","",{"$f":"IF(B223<>\"\",HYPERLINK($AB$9&AA223,Sprache!$E$25 &\" \"&B223),\"\")","v":""},null,215,{"$f":"Eingabemeldung(Sprache!$E$18,Sprache!$E$17,'Formular C'!E223)","v":{"$error":"#VALUE!"}},{"$f":"Eingabemeldung(Sprache!$E$18,Sprache!$E$17,'Formular C'!G223)","v":{"$error":"#VALUE!"}},false,0,{"$f":"IF(W223<Parameter!$C$4,1,0)","v":0}]
[null,null,null,null,null,null,null,null,{"$f":"IF(OR(E224=Sprache!$C$19,E224=Sprache!$D$19),F224,0)+IF(OR(G224=Sprache!$C$19,G224=Sprache!$D$19),H224,0)+IF(OR(E224=Sprache!$C$20,E224=Sprache!$D$20),F224,0)+IF(OR(G224=Sprache!$C$20,G224=Sprache!$D$20),H224,0)","v":0},{"$f":"IF(OR(E224=Sprache!$C$21,E224=Sprache!$D$21),F224,0)+IF(OR(G224=Sprache!$C$21,G224=Sprache!$D$21),H224,0)","v":0},{"$f":"IF(OR(E224=Sprache!$C$22,E224=Sprache!$D$22),F224,0)+IF(OR(G224=Sprache!$C$22,G224=Sprache!$D$22),H224,0)","v":0},{"$f":"IF(OR(E224=Sprache!$C$23,E224=Sprache!$D$23),F224,0)+IF(OR(G224=Sprache!$C$23,G224=Sprache!$D$23),H224,0)","v":0},{"$f":"IF(OR(E224=Sprache!$C$24,E224=Sprache!$D$24),F224,0)+IF(OR(G224=Sprache!$C$24,G224=Sprache!$D$24),H224,0)","v":0},0,0,"",null,null,null,0,null,null,"","",{"$f":"IF(B224<>\"\",HYPERLINK($AB$9&AA224,Sprache!$E$25 &\" \"&B224),\"\")","v":""},null,216,{"$f":"Eingabemeldung(Sprache!$E$18,Sprache!$E$17,'Formular C'!E224)","v":{"$error":"#VALUE!"}},{"$f":"Eingabemeldung(Sprache!$E$18,Sprache!$E$17,'Formular C'!G224)","v":{"$error":"#VALUE!"}},false,0,{"$f":"IF(W224<Parameter!$C$4,1,0)","v":0}]
[null,null,null,null,null,null,null,null,{"$f":"IF(OR(E225=Sprache!$C$19,E225=Sprache!$D$19),F225,0)+IF(OR(G225=Sprache!$C$19,G225=Sprache!$D$19),H225,0)+IF(OR(E225=Sprache!$C$20,E225=Sprache!$D$20),F225,0)+IF(OR(G225=Sprache!$C$20,G225=Sprache!$D$20),H225,0)","v":0},{"$f":"IF(OR(E225=Sprache!$C$21,E225=Sprache!$D$21),F225,0)+IF(OR(G225=Sprache!$C$21,G225=Sprache!$D$21),H225,0)","v":0},{"$f":"IF(OR(E225=Sprache!$C$22,E225=Sprache!$D$22),F225,0)+IF(OR(G225=Sprache!$C$22,G225=Sprache!$D$22),H225,0)","v":0},{"$f":"IF(OR(E225=Sprache!$C$23,E225=Sprache!$D$23),F225,0)+IF(OR(G225=Sprache!$C$23,G225=Sprache!$D$23),H225,0)","v":0},{"$f":"IF(OR(E225=Sprache!$C$24,E225=Sprache!$D$24),F225,0)+IF(OR(G225=Sprache!$C$24,G225=Sprache!$D$24),H225,0)","v":0},0,0,"",null,null,null,0,null,null,"","",{"$f":"IF(B225<>\"\",HYPERLINK($AB$9&AA225,Sprache!$E$25 &\" \"&B225),\"\")","v":""},null,217,{"$f":"Eingabemeldung(Sprache!$E$18,Sprache!$E$17,'Formular C'!E225)","v":{"$error":"#VALUE!"}},{"$f":"Eingabemeldung(Sprache!$E$18,Sprache!$E$17,'Formular C'!G225)","v":{"$error":"#VALUE!"}},false,0,{"$f":"IF(W225<Parameter!$C$4,1,0)","v":0}]
[null,null,null,null,null,null,null,null,null,null,null,null,null,null,null,null,null,null,null,null,null,null,null,null,null,null,218]
[null,{"$f":"Sprache!E174","v":"Summe aller neuen möglichen Massnahmen ab Ausgangsjahr"},null,null,null,null,null,null,{"$f":"SUM(I23:I123,I125:I225)","v":0},0,0,0,0,0,0,0,null,null,null,null,null,null,null,null,null,null,null,null,"kein Jahr für eine Massnahme in ZV?",null,null,{"$f":"SUM((1=(AE23:AE226))*(FALSE=(AD23:AD226)))","v":0}]
[null,{"$f":"Sprache!E175","v":"Summe aller in der ZV berücksichtigten und geplanten Massnahmen"},null,null,null,null,null,null,{"$f":"SUM(($AD$23:$AD$225)*($AE$23:$AE$225)*(I23:I225))","v":0},{"$f":"SUM(($AD$23:$AD$225)*($AE$23:$AE$225)*(J23:J225))","v":0},{"$f":"SUM(($AD$23:$AD$225)*($AE$23:$AE$225)*(K23:K225))","v":0},{"$f":"SUM(($AD$23:$AD$225)*($AE$23:$AE$225)*(L23:L225))","v":0},{"$f":"SUM(($AD$23:$AD$225)*($AE$23:$AE$225)*(M23:M225))","v":0},{"$f":"SUM(($AD$23:$AD$225)*($AE$23:$AE$225)*(N23:N225))","v":0},{"$f":"SUM(($AD$23:$AD$225)*($AE$23:$AE$225)*(O23:O225))","v":0},{"$f":"IFERROR(SUM(($AD$23:$AD$225)*($AE$23:$AE$225)*(P23:P225)),\"\")","v":""},null,null,null,null,null,null,null,null,null,null,null,null,"Eine wirtschaftlichen nicht in ZV?",null,null,{"$f":"SUM((1=(AF23:AF226))*(0=(AE23:AE226)))","v":0}]
[null,null,null,null,null,null,null,null,null,null,null,null,null,null,null,null,null,null,null,null,null,null,null,null,null,null,null,null,"Richtwert erreicht?",null,null,{"$f":"IFERROR(IF(ROUND(P228*100,1)>=Parameter!C6,1,0),0)","v":0}]
[null,{"$f":"IF(AF228=1,Sprache!E177,Sprache!E176)","v":"Kommentar zur Deklaration auszuführender Massnahmen (fakultativ):"},null,null,null,null,null,null,null,null,null,null,null,null,null,null,null,null,null,null,null,null,null,null,null,null,null,null,"Alles ok und Richtwert erreicht?",null,null,{"$f":"AF229","v":0}]
[]
[null,"Kommentar zum Einsparziel (fakulativ):"]
[]
[null,"Kommentar zu bereits getätigten Massnahmen zur Steigerung der Energieeffizienz (fakultativ):"]
[]
[]
[null,{"$f":"Sprache!E180","v":"C.2 Liste von Massnahmen, die inkl. Basisjahr bis zu 5 Jahre zurückliegen"}]
[]
[null,{"$f":"Sprache!E181","v":"Jahresenergiebezug des Jahres 2014 mit HGT-Korr., gewichtet"},null,null,null,null,null,{"$f":"'Formular B'!K47","v":0},null,null,null,null,null,null," kWh/a"]
[null,{"$f":"Sprache!E182","v":"Jahresenergiebezug des Zieljares mit HGT-Korr., gewichtet"},null,null,null,null,null,{"$f":"'Formular B'!L47","v":0},null,null,null,null,null,{"$f":"'Formular B'!L47","v":0}," kWh/a"]
[null,{"$f":"Sprache!E183","v":"- Realisierte Massnahmen sind nur auszufüllen, falls mit den umzusetzenden neuen Massnahmen die Richtgrösse von 20% nicht erreicht wird."}]
[null,{"$f":"Sprache!E184","v":"- Eine zusätzliche Begründung ist anzugeben, falls auch zusammen mit den Massnahmen der letzten 5 Jahre die Richtgrösse von 20% nicht erreicht wird."}]
[null,{"$f":"Sprache!E147","v":"5) Die prozentualen Einsparungen werden relativ zum prognostizierten Verbrauch des Zieljahres berechnet."}]
[null,{"$f":"Sprache!E148","v":"6) Die Massnahmen dürfen höchstens 5 Jahre zurückliegen (wobei das Basisjahr das erste zurückliegende Jahr ist). Das Ausgangsjahr wird auf das Jahr vor dem weitest zurückliegenden Umsetzungsjahr gesetzt."}]
[]
[null,{"$f":"B17","v":"Nr."},{"$f":"C17","v":"Kurzbeschreibung"},null,{"$f":"E17","v":"Energieeinsparung (Endenergie)"},null,null,null,null,null,null,null,null,null,null,null,{"$f":"Sprache!E185","v":"Umsetzung"},{"$f":"R17","v":"Energiepreis"},null,{"$f":"T17","v":"Kosten-Einspar."},{"$f":"U17","v":"Investitionen"},null,{"$f":"Sprache!E186","v":"Payback"}]
[null,null,null,null,{"$f":"E18","v":"Ungewichtet"},null,null,null,null,null,null,null,null,null,{"$f":"O18","v":"Gewichtet"},null,null,{"$f":"R18","v":"(Endenergie)"}]
[null,{"$f":"Sprache!E187","v":"Bedienung: Durch Eingabe eines Textes in der untersten Zeile pro Kategorie, wird jeweils eine neue Zeile eingefügt."},null,null,{"$f":"E19","v":"Einsparung 1"},null,{"$f":"G19","v":"Einsparung 2"},null,"Fossile","Fern-\nwärme","Holz, Bio-\nmasse","Weitere\nBrennst.","Elektr.\nEnergie",{"$f":"N19","v":"Total"},{"$f":"O19","v":"Total"},{"$f":"LEFT(P19,LEN(P19)-2)&\"⁵⁾\"","v":"Anteil⁵⁾"},{"$f":"LEFT(Q19,LEN(Q19)-2)&\"⁶⁾\"","v":"Jahr⁶⁾"},{"$f":"R19","v":"Einspar.1"},{"$f":"S19","v":"Einspar.2"},{"$f":"T19","v":"Total"},{"$f":"U19","v":"Total"},{"$f":"LEFT(V19,LEN(V19)-2)","v":"KE"}]
[null,null,null,null,{"$f":"E20","v":"Art"},"[kWh/a]",{"$f":"G20","v":"Art"},"[kWh/a]","Brennst.",null,null,null,null,"[kWh/a]","[kWh/a]","[-]","[a]","[Fr./kWh]","[Fr./kWh]","[Fr./a]","[Fr.]","[-]","[a]"]
[null,null,null,null,null,"c",null,"d",null,null,null,null,null,"c+d",null,null,null,"f","g","h=c*f+d*g","i","k","i*k/h"]
[null,{"$f":"IF(AND(AF229=0,B233=\"\"),Sprache!E188,IF(AF229=1,Sprache!E189,Sprache!E190))","v":"Eingabefelder gesperrt: Bitte zuerst Punkt C.1 komplett ausfüllen!"},null,null,null,null,null,null,null,null,null,null,null,null,null,null,null,null,null,null,null,null,null,null,null,null,null,"Eingabemeldung",null,"Jahr?"]
[null,null,null,null,null,null,null,null,{"$f":"IF(OR(E252=Sprache!$C$19,E252=Sprache!$D$19),F252,0)+IF(OR(G252=Sprache!$C$19,G252=Sprache!$D$19),H252,0)+IF(OR(E252=Sprache!$C$20,E252=Sprache!$D$20),F252,0)+IF(OR(G252=Sprache!$C$20,G252=Sprache!$D$20),H252,0)","v":0},{"$f":"IF(OR(E252=Sprache!$C$21,E252=Sprache!$D$21),F252,0)+IF(OR(G252=Sprache!$C$21,G252=Sprache!$D$21),H252,0)","v":0},{"$f":"IF(OR(E252=Sprache!$C$22,E252=Sprache!$D$22),F252,0)+IF(OR(G252=Sprache!$C$22,G252=Sprache!$D$22),H252,0)","v":0},{"$f":"IF(OR(E252=Sprache!$C$23,E252=Sprache!$D$23),F252,0)+IF(OR(G252=Sprache!$C$23,G252=Sprache!$D$23),H252,0)","v":0},{"$f":"IF(OR(E252=Sprache!$C$24,E252=Sprache!$D$24),F252,0)+IF(OR(G252=Sprache!$C$24,G252=Sprache!$D$24),H252,0)","v":0},{"$f":"F252+H252","v":0},{"$f":"GFÖG*I252+GFF*J252+GFH*K252+GFW*L252+GFE*M252","v":0},{"$f":"IFERROR(O252/$H$239,\"\")","v":""},null,null,null,{"$f":"(F252*R252)+(H252*S252)","v":0},null,null,{"$f":"IF(T252=0, \"\",U252*V252/T252)","v":""},null,{"$f":"IF(B252<>\"\",HYPERLINK($AB$9&AA252,Sprache!$E$25 &\" \"&B252),\"\")","v":""},null,239,{"$f":"Eingabemeldung(Sprache!$E$18,Sprache!$E$17,'Formular C'!E252)","v":{"$error":"#VALUE!"}},{"$f":"Eingabemeldung(Sprache!$E$18,Sprache!$E$17,'Formular C'!G252)","v":{"$error":"#VALUE!"}},{"$f":"ISNUMBER(Q252)","v":false}]
[null,null,null,null,null,null,null,null,{"$f":"IF(OR(E253=Sprache!$C$19,E253=Sprache!$D$19),F253,0)+IF(OR(G253=Sprache!$C$19,G253=Sprache!$D$19),H253,0)+IF(OR(E253=Sprache!$C$20,E253=Sprache!$D$20),F253,0)+IF(OR(G253=Sprache!$C$20,G253=Sprache!$D$20),H253,0)","v":0},{"$f":"IF(OR(E253=Sprache!$C$21,E253=Sprache!$D$21),F253,0)+IF(OR(G253=Sprache!$C$21,G253=Sprache!$D$21),H253,0)","v":0},{"$f":"IF(OR(E253=Sprache!$C$22,E253=Sprache!$D$22),F253,0)+IF(OR(G253=Sprache!$C$22,G253=Sprache!$D$22),H253,0)","v":0},{"$f":"IF(OR(E253=Sprache!$C$23,E253=Sprache!$D$23),F253,0)+IF(OR(G253=Sprache!$C$23,G253=Sprache!$D$23),H253,0)","v":0},{"$f":"IF(OR(E253=Sprache!$C$24,E253=Sprache!$D$24),F253,0)+IF(OR(G253=Sprache!$C$24,G253=Sprache!$D$24),H253,0)","v":0},0,0,{"$f":"IFERROR(O253/$H$239,\"\")","v":""},null,null,null,0,null,null,{"$f":"IF(T253=0, \"\",U253*V253/T253)","v":""},null,{"$f":"IF(B253<>\"\",HYPERLINK($AB$9&AA253,Sprache!$E$25 &\" \"&B253),\"\")","v":""},null,240,{"$f":"Eingabemeldung(Sprache!$E$18,Sprache!$E$17,'Formular C'!E253)","v":{"$error":"#VALUE!"}},{"$f":"Eingabemeldung(Sprache!$E$18,Sprache!$E$17,'Formular C'!G253)","v":{"$error":"#VALUE!"}},false]
[null,null,null,null,null,null,null,null,{"$f":"IF(OR(E254=Sprache!$C$19,E254=Sprache!$D$19),F254,0)+IF(OR(G254=Sprache!$C$19,G254=Sprache!$D$19),H254,0)+IF(OR(E254=Sprache!$C$20,E254=Sprache!$D$20),F254,0)+IF(OR(G254=Sprache!$C$20,G254=Sprache!$D$20),H254,0)","v":0},{"$f":"IF(OR(E254=Sprache!$C$21,E254=Sprache!$D$21),F254,0)+IF(OR(G254=Sprache!$C$21,G254=Sprache!$D$21),H254,0)","v":0},{"$f":"IF(OR(E254=Sprache!$C$22,E254=Sprache!$D$22),F254,0)+IF(OR(G254=Sprache!$C$22,G254=Sprache!$D$22),H254,0)","v":0},{"$f":"IF(OR(E254=Sprache!$C$23,E254=Sprache!$D$23),F254,0)+IF(OR(G254=Sprache!$C$23,G254=Sprache!$D$23),H254,0)","v":0},{"$f":"IF(OR(E254=Sprache!$C$24,E254=Sprache!$D$24),F254,0)+IF(OR(G254=Sprache!$C$24,G254=Sprache!$D$24),H254,0)","v":0},0,0,"",null,null,null,0,null,null,"",null,{"$f":"IF(B254<>\"\",HYPERLINK($AB$9&AA254,Sprache!$E$25 &\" \"&B254),\"\")","v":""},null,241,{"$f":"Eingabemeldung(Sprache!$E$18,Sprache!$E$17,'Formular C'!E254)","v":{"$error":"#VALUE!"}},{"$f":"Eingabemeldung(Sprache!$E$18,Sprache!$E$17,'Formular C'!G254)","v":{"$error":"#VALUE!"}},false]
[null,null,null,null,null,null,null,null,{"$f":"IF(OR(E255=Sprache!$C$19,E255=Sprache!$D$19),F255,0)+IF(OR(G255=Sprache!$C$19,G255=Sprache!$D$19),H255,0)+IF(OR(E255=Sprache!$C$20,E255=Sprache!$D$20),F255,0)+IF(OR(G255=Sprache!$C$20,G255=Sprache!$D$20),H255,0)","v":0},{"$f":"IF(OR(E255=Sprache!$C$21,E255=Sprache!$D$21),F255,0)+IF(OR(G255=Sprache!$C$21,G255=Sprache!$D$21),H255,0)","v":0},{"$f":"IF(OR(E255=Sprache!$C$22,E255=Sprache!$D$22),F255,0)+IF(OR(G255=Sprache!$C$22,G255=Sprache!$D$22),H255,0)","v":0},{"$f":"IF(OR(E255=Sprache!$C$23,E255=Sprache!$D$23),F255,0)+IF(OR(G255=Sprache!$C$23,G255=Sprache!$D$23),H255,0)","v":0},{"$f":"IF(OR(E255=Sprache!$C$24,E255=Sprache!$D$24),F255,0)+IF(OR(G255=Sprache!$C$24,G255=Sprache!$D$24),H255,0)","v":0},0,0,"",null,null,null,0,null,null,"",null,{"$f":"IF(B255<>\"\",HYPERLINK($AB$9&AA255,Sprache!$E$25 &\" \"&B255),\"\")","v":""},null,242,{"$f":"Eingabemeldung(Sprache!$E$18,Sprache!$E$17,'Formular C'!E255)","v":{"$error":"#VALUE!"}},{"$f":"Eingabemeldung(Sprache!$E$18,Sprache!$E$17,'Formular C'!G255)","v":{"$error":"#VALUE!"}},false]
[null,null,null,null,null,null,null,null,{"$f":"IF(OR(E256=Sprache!$C$19,E256=Sprache!$D$19),F256,0)+IF(OR(G256=Sprache!$C$19,G256=Sprache!$D$19),H256,0)+IF(OR(E256=Sprache!$C$20,E256=Sprache!$D$20),F256,0)+IF(OR(G256=Sprache!$C$20,G256=Sprache!$D$20),H256,0)","v":0},{"$f":"IF(OR(E256=Sprache!$C$21,E256=Sprache!$D$21),F256,0)+IF(OR(G256=Sprache!$C$21,G256=Sprache!$D$21),H256,0)","v":0},{"$f":"IF(OR(E256=Sprache!$C$22,E256=Sprache!$D$22),F256,0)+IF(OR(G256=Sprache!$C$22,G256=Sprache!$D$22),H256,0)","v":0},{"$f":"IF(OR(E256=Sprache!$C$23,E256=Sprache!$D$23),F256,0)+IF(OR(G256=Sprache!$C$23,G256=Sprache!$D$23),H256,0)","v":0},{"$f":"IF(OR(E256=Sprache!$C$24,E256=Sprache!$D$24),F256,0)+IF(OR(G256=Sprache!$C$24,G256=Sprache!$D$24),H256,0)","v":0},0,0,"",null,null,null,0,null,null,"",null,{"$f":"IF(B256<>\"\",HYPERLINK($AB$9&AA256,Sprache!$E$25 &\" \"&B256),\"\")","v":""},null,243,{"$f":"Eingabemeldung(Sprache!$E$18,Sprache!$E$17,'Formular C'!E256)","v":{"$error":"#VALUE!"}},{"$f":"Eingabemeldung(Sprache!$E$18,Sprache!$E$17,'Formular C'!G256)","v":{"$error":"#VALUE!"}},false]
[null,null,null,null,null,null,null,null,{"$f":"IF(OR(E257=Sprache!$C$19,E257=Sprache!$D$19),F257,0)+IF(OR(G257=Sprache!$C$19,G257=Sprache!$D$19),H257,0)+IF(OR(E257=Sprache!$C$20,E257=Sprache!$D$20),F257,0)+IF(OR(G257=Sprache!$C$20,G257=Sprache!$D$20),H257,0)","v":0},{"$f":"IF(OR(E257=Sprache!$C$21,E257=Sprache!$D$21),F257,0)+IF(OR(G257=Sprache!$C$21,G257=Sprache!$D$21),H257,0)","v":0},{"$f":"IF(OR(E257=Sprache!$C$22,E257=Sprache!$D$22),F257,0)+IF(OR(G257=Sprache!$C$22,G257=Sprache!$D$22),H257,0)","v":0},{"$f":"IF(OR(E257=Sprache!$C$23,E257=Sprache!$D$23),F257,0)+IF(OR(G257=Sprache!$C$23,G257=Sprache!$D$23),H257,0)","v":0},{"$f":"IF(OR(E257=Sprache!$C$24,E257=Sprache!$D$24),F257,0)+IF(OR(G257=Sprache!$C$24,G257=Sprache!$D$24),H257,0)","v":0},0,0,"",null,null,null,0,null,null,"",null,{"$f":"IF(B257<>\"\",HYPERLINK($AB$9&AA257,Sprache!$E$25 &\" \"&B257),\"\")","v":""},null,244,{"$f":"Eingabemeldung(Sprache!$E$18,Sprache!$E$17,'Formular C'!E257)","v":{"$error":"#VALUE!"}},{"$f":"Eingabemeldung(Sprache!$E$18,Sprache!$E$17,'Formular C'!G257)","v":{"$error":"#VALUE!"}},false,{"$f":"IF(X257=\"X\",1,0)","v":0},{"$f":"IF(W257<Parameter!$C$4,1,0)","v":0}]
[null,null,null,null,null,null,null,null,{"$f":"IF(OR(E258=Sprache!$C$19,E258=Sprache!$D$19),F258,0)+IF(OR(G258=Sprache!$C$19,G258=Sprache!$D$19),H258,0)+IF(OR(E258=Sprache!$C$20,E258=Sprache!$D$20),F258,0)+IF(OR(G258=Sprache!$C$20,G258=Sprache!$D$20),H258,0)","v":0},{"$f":"IF(OR(E258=Sprache!$C$21,E258=Sprache!$D$21),F258,0)+IF(OR(G258=Sprache!$C$21,G258=Sprache!$D$21),H258,0)","v":0},{"$f":"IF(OR(E258=Sprache!$C$22,E258=Sprache!$D$22),F258,0)+IF(OR(G258=Sprache!$C$22,G258=Sprache!$D$22),H258,0)","v":0},{"$f":"IF(OR(E258=Sprache!$C$23,E258=Sprache!$D$23),F258,0)+IF(OR(G258=Sprache!$C$23,G258=Sprache!$D$23),H258,0)","v":0},{"$f":"IF(OR(E258=Sprache!$C$24,E258=Sprache!$D$24),F258,0)+IF(OR(G258=Sprache!$C$24,G258=Sprache!$D$24),H258,0)","v":0},0,0,"",null,null,null,0,null,null,"",null,{"$f":"IF(B258<>\"\",HYPERLINK($AB$9&AA258,Sprache!$E$25 &\" \"&B258),\"\")","v":""},null,245,{"$f":"Eingabemeldung(Sprache!$E$18,Sprache!$E$17,'Formular C'!E258)","v":{"$error":"#VALUE!"}},{"$f":"Eingabemeldung(Sprache!$E$18,Sprache!$E$17,'Formular C'!G258)","v":{"$error":"#VALUE!"}},false,{"$f":"IF(X258=\"X\",1,0)","v":0},{"$f":"IF(W258<Parameter!$C$4,1,0)","v":0}]
[null,null,null,null,null,null,null,null,{"$f":"IF(OR(E259=Sprache!$C$19,E259=Sprache!$D$19),F259,0)+IF(OR(G259=Sprache!$C$19,G259=Sprache!$D$19),H259,0)+IF(OR(E259=Sprache!$C$20,E259=Sprache!$D$20),F259,0)+IF(OR(G259=Sprache!$C$20,G259=Sprache!$D$20),H259,0)","v":0},{"$f":"IF(OR(E259=Sprache!$C$21,E259=Sprache!$D$21),F259,0)+IF(OR(G259=Sprache!$C$21,G259=Sprache!$D$21),H259,0)","v":0},{"$f":"IF(OR(E259=Sprache!$C$22,E259=Sprache!$D$22),F259,0)+IF(OR(G259=Sprache!$C$22,G259=Sprache!$D$22),H259,0)","v":0},{"$f":"IF(OR(E259=Sprache!$C$23,E259=Sprache!$D$23),F259,0)+IF(OR(G259=Sprache!$C$23,G259=Sprache!$D$23),H259,0)","v":0},{"$f":"IF(OR(E259=Sprache!$C$24,E259=Sprache!$D$24),F259,0)+IF(OR(G259=Sprache!$C$24,G259=Sprache!$D$24),H259,0)","v":0},0,0,"",null,null,null,0,null,null,"",null,{"$f":"IF(B259<>\"\",HYPERLINK($AB$9&AA259,Sprache!$E$25 &\" \"&B259),\"\")","v":""},null,246,{"$f":"Eingabemeldung(Sprache!$E$18,Sprache!$E$17,'Formular C'!E259)","v":{"$error":"#VALUE!"}},{"$f":"Eingabemeldung(Sprache!$E$18,Sprache!$E$17,'Formular C'!G259)","v":{"$error":"#VALUE!"}},false,0,{"$f":"IF(W259<Parameter!$C$4,1,0)","v":0}]
[null,null,null,null,null,null,null,null,{"$f":"IF(OR(E260=Sprache!$C$19,E260=Sprache!$D$19),F260,0)+IF(OR(G260=Sprache!$C$19,G260=Sprache!$D$19),H260,0)+IF(OR(E260=Sprache!$C$20,E260=Sprache!$D$20),F260,0)+IF(OR(G260=Sprache!$C$20,G260=Sprache!$D$20),H260,0)","v":0},{"$f":"IF(OR(E260=Sprache!$C$21,E260=Sprache!$D$21),F260,0)+IF(OR(G260=Sprache!$C$21,G260=Sprache!$D$21),H260,0)","v":0},{"$f":"IF(OR(E260=Sprache!$C$22,E260=Sprache!$D$22),F260,0)+IF(OR(G260=Sprache!$C$22,G260=Sprache!$D$22),H260,0)","v":0},{"$f":"IF(OR(E260=Sprache!$C$23,E260=Sprache!$D$23),F260,0)+IF(OR(G260=Sprache!$C$23,G260=Sprache!$D$23),H260,0)","v":0},{"$f":"IF(OR(E260=Sprache!$C$24,E260=Sprache!$D$24),F260,0)+IF(OR(G260=Sprache!$C$24,G260=Sprache!$D$24),H260,0)","v":0},0,0,"",null,null,null,0,null,null,"",null,{"$f":"IF(B260<>\"\",HYPERLINK($AB$9&AA260,Sprache!$E$25 &\" \"&B260),\"\")","v":""},null,247,{"$f":"Eingabemeldung(Sprache!$E$18,Sprache!$E$17,'Formular C'!E260)","v":{"$error":"#VALUE!"}},{"$f":"Eingabemeldung(Sprache!$E$18,Sprache!$E$17,'Formular C'!G260)","v":{"$error":"#VALUE!"}},false,0,{"$f":"IF(W260<Parameter!$C$4,1,0)","v":0}]
[null,null,null,null,null,null,null,null,{"$f":"IF(OR(E261=Sprache!$C$19,E261=Sprache!$D$19),F261,0)+IF(OR(G261=Sprache!$C$19,G261=Sprache!$D$19),H261,0)+IF(OR(E261=Sprache!$C$20,E261=Sprache!$D$20),F261,0)+IF(OR(G261=Sprache!$C$20,G261=Sprache!$D$20),H261,0)","v":0},{"$f":"IF(OR(E261=Sprache!$C$21,E261=Sprache!$D$21),F261,0)+IF(OR(G261=Sprache!$C$21,G261=Sprache!$D$21),H261,0)","v":0},{"$f":"IF(OR(E261=Sprache!$C$22,E261=Sprache!$D$22),F261,0)+IF(OR(G261=Sprache!$C$22,G261=Sprache!$D$22),H261,0)","v":0},{"$f":"IF(OR(E261=Sprache!$C$23,E261=Sprache!$D$23),F261,0)+IF(OR(G261=Sprache!$C$23,G261=Sprache!$D$23),H261,0)","v":0},{"$f":"IF(OR(E261=Sprache!$C$24,E261=Sprache!$D$24),F261,0)+IF(OR(G261=Sprache!$C$24,G261=Sprache!$D$24),H261,0)","v":0},0,0,"",null,null,null,0,null,null,"",null,{"$f":"IF(B261<>\"\",HYPERLINK($AB$9&AA261,Sprache!$E$25 &\" \"&B261),\"\")","v":""},null,248,{"$f":"Eingabemeldung(Sprache!$E$18,Sprache!$E$17,'Formular C'!E261)","v":{"$error":"#VALUE!"}},{"$f":"Eingabemeldung(Sprache!$E$18,Sprache!$E$17,'Formular C'!G261)","v":{"$error":"#VALUE!"}},false,0,{"$f":"IF(W261<Parameter!$C$4,1,0)","v":0}]
[null,null,null,null,null,null,null,null,{"$f":"IF(OR(E262=Sprache!$C$19,E262=Sprache!$D$19),F262,0)+IF(OR(G262=Sprache!$C$19,G262=Sprache!$D$19),H262,0)+IF(OR(E262=Sprache!$C$20,E262=Sprache!$D$20),F262,0)+IF(OR(G262=Sprache!$C$20,G262=Sprache!$D$20),H262,0)","v":0},{"$f":"IF(OR(E262=Sprache!$C$21,E262=Sprache!$D$21),F262,0)+IF(OR(G262=Sprache!$C$21,G262=Sprache!$D$21),H262,0)","v":0},{"$f":"IF(OR(E262=Sprache!$C$22,E262=Sprache!$D$22),F262,0)+IF(OR(G262=Sprache!$C$22,G262=Sprache!$D$22),H262,0)","v":0},{"$f":"IF(OR(E262=Sprache!$C$23,E262=Sprache!$D$23),F262,0)+IF(OR(G262=Sprache!$C$23,G262=Sprache!$D$23),H262,0)","v":0},{"$f":"IF(OR(E262=Sprache!$C$24,E262=Sprache!$D$24),F262,0)+IF(OR(G262=Sprache!$C$24,G262=Sprache!$D$24),H262,0)","v":0},0,0,"",null,null,null,0,null,null,"",null,{"$f":"IF(B262<>\"\",HYPERLINK($AB$9&AA262,Sprache!$E$25 &\" \"&B262),\"\")","v":""},null,249,{"$f":"Eingabemeldung(Sprache!$E$18,Sprache!$E$17,'Formular C'!E262)","v":{"$error":"#VALUE!"}},{"$f":"Eingabemeldung(Sprache!$E$18,Sprache!$E$17,'Formular C'!G262)","v":{"$error":"#VALUE!"}},false,0,{"$f":"IF(W262<Parameter!$C$4,1,0)","v":0}]
[null,null,null,null,null,null,null,null,{"$f":"IF(OR(E263=Sprache!$C$19,E263=Sprache!$D$19),F263,0)+IF(OR(G263=Sprache!$C$19,G263=Sprache!$D$19),H263,0)+IF(OR(E263=Sprache!$C$20,E263=Sprache!$D$20),F263,0)+IF(OR(G263=Sprache!$C$20,G263=Sprache!$D$20),H263,0)","v":0},{"$f":"IF(OR(E263=Sprache!$C$21,E263=Sprache!$D$21),F263,0)+IF(OR(G263=Sprache!$C$21,G263=Sprache!$D$21),H263,0)","v":0},{"$f":"IF(OR(E263=Sprache!$C$22,E263=Sprache!$D$22),F263,0)+IF(OR(G263=Sprache!$C$22,G263=Sprache!$D$22),H263,0)","v":0},{"$f":"IF(OR(E263=Sprache!$C$23,E263=Sprache!$D$23),F263,0)+IF(OR(G263=Sprache!$C$23,G263=Sprache!$D$23),H263,0)","v":0},{"$f":"IF(OR(E263=Sprache!$C$24,E263=Sprache!$D$24),F263,0)+IF(OR(G263=Sprache!$C$24,G263=Sprache!$D$24),H263,0)","v":0},0,0,"",null,null,null,0,null,null,"",null,{"$f":"IF(B263<>\"\",HYPERLINK($AB$9&AA263,Sprache!$E$25 &\" \"&B263),\"\")","v":""},null,250,{"$f":"Eingabemeldung(Sprache!$E$18,Sprache!$E$17,'Formular C'!E263)","v":{"$error":"#VALUE!"}},{"$f":"Eingabemeldung(Sprache!$E$18,Sprache!$E$17,'Formular C'!G263)","v":{"$error":"#VALUE!"}},false,0,{"$f":"IF(W263<Parameter!$C$4,1,0)","v":0}]
[null,null,null,null,null,null,null,null,{"$f":"IF(OR(E264=Sprache!$C$19,E264=Sprache!$D$19),F264,0)+IF(OR(G264=Sprache!$C$19,G264=Sprache!$D$19),H264,0)+IF(OR(E264=Sprache!$C$20,E264=Sprache!$D$20),F264,0)+IF(OR(G264=Sprache!$C$20,G264=Sprache!$D$20),H264,0)","v":0},{"$f":"IF(OR(E264=Sprache!$C$21,E264=Sprache!$D$21),F264,0)+IF(OR(G264=Sprache!$C$21,G264=Sprache!$D$21),H264,0)","v":0},{"$f":"IF(OR(E264=Sprache!$C$22,E264=Sprache!$D$22),F264,0)+IF(OR(G264=Sprache!$C$22,G264=Sprache!$D$22),H264,0)","v":0},{"$f":"IF(OR(E264=Sprache!$C$23,E264=Sprache!$D$23),F264,0)+IF(OR(G264=Sprache!$C$23,G264=Sprache!$D$23),H264,0)","v":0},{"$f":"IF(OR(E264=Sprache!$C$24,E264=Sprache!$D$24),F264,0)+IF(OR(G264=Sprache!$C$24,G264=Sprache!$D$24),H264,0)","v":0},0,0,"",null,null,null,0,null,null,"",null,{"$f":"IF(B264<>\"\",HYPERLINK($AB$9&AA264,Sprache!$E$25 &\" \"&B264),\"\")","v":""},null,251,{"$f":"Eingabemeldung(Sprache!$E$18,Sprache!$E$17,'Formular C'!E264)","v":{"$error":"#VALUE!"}},{"$f":"Eingabemeldung(Sprache!$E$18,Sprache!$E$17,'Formular C'!G264)","v":{"$error":"#VALUE!"}},false,0,{"$f":"IF(W264<Parameter!$C$4,1,0)","v":0}]
[null,null,null,null,null,null,null,null,{"$f":"IF(OR(E265=Sprache!$C$19,E265=Sprache!$D$19),F265,0)+IF(OR(G265=Sprache!$C$19,G265=Sprache!$D$19),H265,0)+IF(OR(E265=Sprache!$C$20,E265=Sprache!$D$20),F265,0)+IF(OR(G265=Sprache!$C$20,G265=Sprache!$D$20),H265,0)","v":0},{"$f":"IF(OR(E265=Sprache!$C$21,E265=Sprache!$D$21),F265,0)+IF(OR(G265=Sprache!$C$21,G265=Sprache!$D$21),H265,0)","v":0},{"$f":"IF(OR(E265=Sprache!$C$22,E265=Sprache!$D$22),F265,0)+IF(OR(G265=Sprache!$C$22,G265=Sprache!$D$22),H265,0)","v":0},{"$f":"IF(OR(E265=Sprache!$C$23,E265=Sprache!$D$23),F265,0)+IF(OR(G265=Sprache!$C$23,G265=Sprache!$D$23),H265,0)","v":0},{"$f":"IF(OR(E265=Sprache!$C$24,E265=Sprache!$D$24),F265,0)+IF(OR(G265=Sprache!$C$24,G265=Sprache!$D$24),H265,0)","v":0},0,0,"",null,null,null,0,null,null,"",null,{"$f":"IF(B265<>\"\",HYPERLINK($AB$9&AA265,Sprache!$E$25 &\" \"&B265),\"\")","v":""},null,252,{"$f":"Eingabemeldung(Sprache!$E$18,Sprache!$E$17,'Formular C'!E265)","v":{"$error":"#VALUE!"}},{"$f":"Eingabemeldung(Sprache!$E$18,Sprache!$E$17,'Formular C'!G265)","v":{"$error":"#VALUE!"}},false,0,{"$f":"IF(W265<Parameter!$C$4,1,0)","v":0}]
[null,null,null,null,null,null,null,null,{"$f":"IF(OR(E266=Sprache!$C$19,E266=Sprache!$D$19),F266,0)+IF(OR(G266=Sprache!$C$19,G266=Sprache!$D$19),H266,0)+IF(OR(E266=Sprache!$C$20,E266=Sprache!$D$20),F266,0)+IF(OR(G266=Sprache!$C$20,G266=Sprache!$D$20),H266,0)","v":0},{"$f":"IF(OR(E266=Sprache!$C$21,E266=Sprache!$D$21),F266,0)+IF(OR(G266=Sprache!$C$21,G266=Sprache!$D$21),H266,0)","v":0},{"$f":"IF(OR(E266=Sprache!$C$22,E266=Sprache!$D$22),F266,0)+IF(OR(G266=Sprache!$C$22,G266=Sprache!$D$22),H266,0)","v":0},{"$f":"IF(OR(E266=Sprache!$C$23,E266=Sprache!$D$23),F266,0)+IF(OR(G266=Sprache!$C$23,G266=Sprache!$D$23),H266,0)","v":0},{"$f":"IF(OR(E266=Sprache!$C$24,E266=Sprache!$D$24),F266,0)+IF(OR(G266=Sprache!$C$24,G266=Sprache!$D$24),H266,0)","v":0},0,0,"",null,null,null,0,null,null,"",null,{"$f":"IF(B266<>\"\",HYPERLINK($AB$9&AA266,Sprache!$E$25 &\" \"&B266),\"\")","v":""},null,253,{"$f":"Eingabemeldung(Sprache!$E$18,Sprache!$E$17,'Formular C'!E266)","v":{"$error":"#VALUE!"}},{"$f":"Eingabemeldung(Sprache!$E$18,Sprache!$E$17,'Formular C'!G266)","v":{"$error":"#VALUE!"}},false,0,{"$f":"IF(W266<Parameter!$C$4,1,0)","v":0}]
[null,null,null,null,null,null,null,null,{"$f":"IF(OR(E267=Sprache!$C$19,E267=Sprache!$D$19),F267,0)+IF(OR(G267=Sprache!$C$19,G267=Sprache!$D$19),H267,0)+IF(OR(E267=Sprache!$C$20,E267=Sprache!$D$20),F267,0)+IF(OR(G267=Sprache!$C$20,G267=Sprache!$D$20),H267,0)","v":0},{"$f":"IF(OR(E267=Sprache!$C$21,E267=Sprache!$D$21),F267,0)+IF(OR(G267=Sprache!$C$21,G267=Sprache!$D$21),H267,0)","v":0},{"$f":"IF(OR(E267=Sprache!$C$22,E267=Sprache!$D$22),F267,0)+IF(OR(G267=Sprache!$C$22,G267=Sprache!$D$22),H267,0)","v":0},{"$f":"IF(OR(E267=Sprache!$C$23,E267=Sprache!$D$23),F267,0)+IF(OR(G267=Sprache!$C$23,G267=Sprache!$D$23),H267,0)","v":0},{"$f":"IF(OR(E267=Sprache!$C$24,E267=Sprache!$D$24),F267,0)+IF(OR(G267=Sprache!$C$24,G267=Sprache!$D$24),H267,0)","v":0},0,0,"",null,null,null,0,null,null,"",null,{"$f":"IF(B267<>\"\",HYPERLINK($AB$9&AA267,Sprache!$E$25 &\" \"&B267),\"\")","v":""},null,254,{"$f":"Eingabemeldung(Sprache!$E$18,Sprache!$E$17,'Formular C'!E267)","v":{"$error":"#VALUE!"}},{"$f":"Eingabemeldung(Sprache!$E$18,Sprache!$E$17,'Formular C'!G267)","v":{"$error":"#VALUE!"}},false,0,{"$f":"IF(W267<Parameter!$C$4,1,0)","v":0}]
[null,null,null,null,null,null,null,null,{"$f":"IF(OR(E268=Sprache!$C$19,E268=Sprache!$D$19),F268,0)+IF(OR(G268=Sprache!$C$19,G268=Sprache!$D$19),H268,0)+IF(OR(E268=Sprache!$C$20,E268=Sprache!$D$20),F268,0)+IF(OR(G268=Sprache!$C$20,G268=Sprache!$D$20),H268,0)","v":0},{"$f":"IF(OR(E268=Sprache!$C$21,E268=Sprache!$D$21),F268,0)+IF(OR(G268=Sprache!$C$21,G268=Sprache!$D$21),H268,0)","v":0},{"$f":"IF(OR(E268=Sprache!$C$22,E268=Sprache!$D$22),F268,0)+IF(OR(G268=Sprache!$C$22,G268=Sprache!$D$22),H268,0)","v":0},{"$f":"IF(OR(E268=Sprache!$C$23,E268=Sprache!$D$23),F268,0)+IF(OR(G268=Sprache!$C$23,G268=Sprache!$D$23),H268,0)","v":0},{"$f":"IF(OR(E268=Sprache!$C$24,E268=Sprache!$D$24),F268,0)+IF(OR(G268=Sprache!$C$24,G268=Sprache!$D$24),H268,0)","v":0},0,0,"",null,null,null,0,null,null,"",null,{"$f":"IF(B268<>\"\",HYPERLINK($AB$9&AA268,Sprache!$E$25 &\" \"&B268),\"\")","v":""},null,255,{"$f":"Eingabemeldung(Sprache!$E$18,Sprache!$E$17,'Formular C'!E268)","v":{"$error":"#VALUE!"}},{"$f":"Eingabemeldung(Sprache!$E$18,Sprache!$E$17,'Formular C'!G268)","v":{"$error":"#VALUE!"}},false,0,{"$f":"IF(W268<Parameter!$C$4,1,0)","v":0}]
[null,null,null,null,null,null,null,null,{"$f":"IF(OR(E269=Sprache!$C$19,E269=Sprache!$D$19),F269,0)+IF(OR(G269=Sprache!$C$19,G269=Sprache!$D$19),H269,0)+IF(OR(E269=Sprache!$C$20,E269=Sprache!$D$20),F269,0)+IF(OR(G269=Sprache!$C$20,G269=Sprache!$D$20),H269,0)","v":0},{"$f":"IF(OR(E269=Sprache!$C$21,E269=Sprache!$D$21),F269,0)+IF(OR(G269=Sprache!$C$21,G269=Sprache!$D$21),H269,0)","v":0},{"$f":"IF(OR(E269=Sprache!$C$22,E269=Sprache!$D$22),F269,0)+IF(OR(G269=Sprache!$C$22,G269=Sprache!$D$22),H269,0)","v":0},{"$f":"IF(OR(E269=Sprache!$C$23,E269=Sprache!$D$23),F269,0)+IF(OR(G269=Sprache!$C$23,G269=Sprache!$D$23),H269,0)","v":0},{"$f":"IF(OR(E269=Sprache!$C$24,E269=Sprache!$D$24),F269,0)+IF(OR(G269=Sprache!$C$24,G269=Sprache!$D$24),H269,0)","v":0},0,0,"",null,null,null,0,null,null,"",null,{"$f":"IF(B269<>\"\",HYPERLINK($AB$9&AA269,Sprache!$E$25 &\" \"&B269),\"\")","v":""},null,256,{"$f":"Eingabemeldung(Sprache!$E$18,Sprache!$E$17,'Formular C'!E269)","v":{"$error":"#VALUE!"}},{"$f":"Eingabemeldung(Sprache!$E$18,Sprache!$E$17,'Formular C'!G269)","v":{"$error":"#VALUE!"}},false,0,{"$f":"IF(W269<Parameter!$C$4,1,0)","v":0}]
[null,null,null,null,null,null,null,null,{"$f":"IF(OR(E270=Sprache!$C$19,E270=Sprache!$D$19),F270,0)+IF(OR(G270=Sprache!$C$19,G270=Sprache!$D$19),H270,0)+IF(OR(E270=Sprache!$C$20,E270=Sprache!$D$20),F270,0)+IF(OR(G270=Sprache!$C$20,G270=Sprache!$D$20),H270,0)","v":0},{"$f":"IF(OR(E270=Sprache!$C$21,E270=Sprache!$D$21),F270,0)+IF(OR(G270=Sprache!$C$21,G270=Sprache!$D$21),H270,0)","v":0},{"$f":"IF(OR(E270=Sprache!$C$22,E270=Sprache!$D$22),F270,0)+IF(OR(G270=Sprache!$C$22,G270=Sprache!$D$22),H270,0)","v":0},{"$f":"IF(OR(E270=Sprache!$C$23,E270=Sprache!$D$23),F270,0)+IF(OR(G270=Sprache!$C$23,G270=Sprache!$D$23),H270,0)","v":0},{"$f":"IF(OR(E270=Sprache!$C$24,E270=Sprache!$D$24),F270,0)+IF(OR(G270=Sprache!$C$24,G270=Sprache!$D$24),H270,0)","v":0},0,0,"",null,null,null,0,null,null,"",null,{"$f":"IF(B270<>\"\",HYPERLINK($AB$9&AA270,Sprache!$E$25 &\" \"&B270),\"\")","v":""},null,257,{"$f":"Eingabemeldung(Sprache!$E$18,Sprache!$E$17,'Formular C'!E270)","v":{"$error":"#VALUE!"}},{"$f":"Eingabemeldung(Sprache!$E$18,Sprache!$E$17,'Formular C'!G270)","v":{"$error":"#VALUE!"}},false,0,{"$f":"IF(W270<Parameter!$C$4,1,0)","v":0}]
[null,null,null,null,null,null,null,null,{"$f":"IF(OR(E271=Sprache!$C$19,E271=Sprache!$D$19),F271,0)+IF(OR(G271=Sprache!$C$19,G271=Sprache!$D$19),H271,0)+IF(OR(E271=Sprache!$C$20,E271=Sprache!$D$20),F271,0)+IF(OR(G271=Sprache!$C$20,G271=Sprache!$D$20),H271,0)","v":0},{"$f":"IF(OR(E271=Sprache!$C$21,E271=Sprache!$D$21),F271,0)+IF(OR(G271=Sprache!$C$21,G271=Sprache!$D$21),H271,0)","v":0},{"$f":"IF(OR(E271=Sprache!$C$22,E271=Sprache!$D$22),F271,0)+IF(OR(G271=Sprache!$C$22,G271=Sprache!$D$22),H271,0)","v":0},{"$f":"IF(OR(E271=Sprache!$C$23,E271=Sprache!$D$23),F271,0)+IF(OR(G271=Sprache!$C$23,G271=Sprache!$D$23),H271,0)","v":0},{"$f":"IF(OR(E271=Sprache!$C$24,E271=Sprache!$D$24),F271,0)+IF(OR(G271=Sprache!$C$24,G271=Sprache!$D$24),H271,0)","v":0},0,0,"",null,null,null,0,null,null,"",null,{"$f":"IF(B271<>\"\",HYPERLINK($AB$9&AA271,Sprache!$E$25 &\" \"&B271),\"\")","v":""},null,258,{"$f":"Eingabemeldung(Sprache!$E$18,Sprache!$E$17,'Formular C'!E271)","v":{"$error":"#VALUE!"}},{"$f":"Eingabemeldung(Sprache!$E$18,Sprache!$E$17,'Formular C'!G271)","v":{"$error":"#VALUE!"}},false,0,{"$f":"IF(W271<Parameter!$C$4,1,0)","v":0}]
[null,null,null,null,null,null,null,null,{"$f":"IF(OR(E272=Sprache!$C$19,E272=Sprache!$D$19),F272,0)+IF(OR(G272=Sprache!$C$19,G272=Sprache!$D$19),H272,0)+IF(OR(E272=Sprache!$C$20,E272=Sprache!$D$20),F272,0)+IF(OR(G272=Sprache!$C$20,G272=Sprache!$D$20),H272,0)","v":0},{"$f":"IF(OR(E272=Sprache!$C$21,E272=Sprache!$D$21),F272,0)+IF(OR(G272=Sprache!$C$21,G272=Sprache!$D$21),H272,0)","v":0},{"$f":"IF(OR(E272=Sprache!$C$22,E272=Sprache!$D$22),F272,0)+IF(OR(G272=Sprache!$C$22,G272=Sprache!$D$22),H272,0)","v":0},{"$f":"IF(OR(E272=Sprache!$C$23,E272=Sprache!$D$23),F272,0)+IF(OR(G272=Sprache!$C$23,G272=Sprache!$D$23),H272,0)","v":0},{"$f":"IF(OR(E272=Sprache!$C$24,E272=Sprache!$D$24),F272,0)+IF(OR(G272=Sprache!$C$24,G272=Sprache!$D$24),H272,0)","v":0},0,0,"",null,null,null,0,null,null,"",null,{"$f":"IF(B272<>\"\",HYPERLINK($AB$9&AA272,Sprache!$E$25 &\" \"&B272),\"\")","v":""},null,259,{"$f":"Eingabemeldung(Sprache!$E$18,Sprache!$E$17,'Formular C'!E272)","v":{"$error":"#VALUE!"}},{"$f":"Eingabemeldung(Sprache!$E$18,Sprache!$E$17,'Formular C'!G272)","v":{"$error":"#VALUE!"}},false,0,{"$f":"IF(W272<Parameter!$C$4,1,0)","v":0}]
[null,null,null,null,null,null,null,null,{"$f":"IF(OR(E273=Sprache!$C$19,E273=Sprache!$D$19),F273,0)+IF(OR(G273=Sprache!$C$19,G273=Sprache!$D$19),H273,0)+IF(OR(E273=Sprache!$C$20,E273=Sprache!$D$20),F273,0)+IF(OR(G273=Sprache!$C$20,G273=Sprache!$D$20),H273,0)","v":0},{"$f":"IF(OR(E273=Sprache!$C$21,E273=Sprache!$D$21),F273,0)+IF(OR(G273=Sprache!$C$21,G273=Sprache!$D$21),H273,0)","v":0},{"$f":"IF(OR(E273=Sprache!$C$22,E273=Sprache!$D$22),F273,0)+IF(OR(G273=Sprache!$C$22,G273=Sprache!$D$22),H273,0)","v":0},{"$f":"IF(OR(E273=Sprache!$C$23,E273=Sprache!$D$23),F273,0)+IF(OR(G273=Sprache!$C$23,G273=Sprache!$D$23),H273,0)","v":0},{"$f":"IF(OR(E273=Sprache!$C$24,E273=Sprache!$D$24),F273,0)+IF(OR(G273=Sprache!$C$24,G273=Sprache!$D$24),H273,0)","v":0},0,0,"",null,null,null,0,null,null,"",null,{"$f":"IF(B273<>\"\",HYPERLINK($AB$9&AA273,Sprache!$E$25 &\" \"&B273),\"\")","v":""},null,260,{"$f":"Eingabemeldung(Sprache!$E$18,Sprache!$E$17,'Formular C'!E273)","v":{"$error":"#VALUE!"}},{"$f":"Eingabemeldung(Sprache!$E$18,Sprache!$E$17,'Formular C'!G273)","v":{"$error":"#VALUE!"}},false,0,{"$f":"IF(W273<Parameter!$C$4,1,0)","v":0}]
[null,null,null,null,null,null,null,null,{"$f":"IF(OR(E274=Sprache!$C$19,E274=Sprache!$D$19),F274,0)+IF(OR(G274=Sprache!$C$19,G274=Sprache!$D$19),H274,0)+IF(OR(E274=Sprache!$C$20,E274=Sprache!$D$20),F274,0)+IF(OR(G274=Sprache!$C$20,G274=Sprache!$D$20),H274,0)","v":0},{"$f":"IF(OR(E274=Sprache!$C$21,E274=Sprache!$D$21),F274,0)+IF(OR(G274=Sprache!$C$21,G274=Sprache!$D$21),H274,0)","v":0},{"$f":"IF(OR(E274=Sprache!$C$22,E274=Sprache!$D$22),F274,0)+IF(OR(G274=Sprache!$C$22,G274=Sprache!$D$22),H274,0)","v":0},{"$f":"IF(OR(E274=Sprache!$C$23,E274=Sprache!$D$23),F274,0)+IF(OR(G274=Sprache!$C$23,G274=Sprache!$D$23),H274,0)","v":0},{"$f":"IF(OR(E274=Sprache!$C$24,E274=Sprache!$D$24),F274,0)+IF(OR(G274=Sprache!$C$24,G274=Sprache!$D$24),H274,0)","v":0},0,0,"",null,null,null,0,null,null,"",null,{"$f":"IF(B274<>\"\",HYPERLINK($AB$9&AA274,Sprache!$E$25 &\" \"&B274),\"\")","v":""},null,261,{"$f":"Eingabemeldung(Sprache!$E$18,Sprache!$E$17,'Formular C'!E274)","v":{"$error":"#VALUE!"}},{"$f":"Eingabemeldung(Sprache!$E$18,Sprache!$E$17,'Formular C'!G274)","v":{"$error":"#VALUE!"}},false,0,{"$f":"IF(W274<Parameter!$C$4,1,0)","v":0}]
[null,null,null,null,null,null,null,null,{"$f":"IF(OR(E275=Sprache!$C$19,E275=Sprache!$D$19),F275,0)+IF(OR(G275=Sprache!$C$19,G275=Sprache!$D$19),H275,0)+IF(OR(E275=Sprache!$C$20,E275=Sprache!$D$20),F275,0)+IF(OR(G275=Sprache!$C$20,G275=Sprache!$D$20),H275,0)","v":0},{"$f":"IF(OR(E275=Sprache!$C$21,E275=Sprache!$D$21),F275,0)+IF(OR(G275=Sprache!$C$21,G275=Sprache!$D$21),H275,0)","v":0},{"$f":"IF(OR(E275=Sprache!$C$22,E275=Sprache!$D$22),F275,0)+IF(OR(G275=Sprache!$C$22,G275=Sprache!$D$22),H275,0)","v":0},{"$f":"IF(OR(E275=Sprache!$C$23,E275=Sprache!$D$23),F275,0)+IF(OR(G275=Sprache!$C$23,G275=Sprache!$D$23),H275,0)","v":0},{"$f":"IF(OR(E275=Sprache!$C$24,E275=Sprache!$D$24),F275,0)+IF(OR(G275=Sprache!$C$24,G275=Sprache!$D$24),H275,0)","v":0},0,0,"",null,null,null,0,null,null,"",null,{"$f":"IF(B275<>\"\",HYPERLINK($AB$9&AA275,Sprache!$E$25 &\" \"&B275),\"\")","v":""},null,262,{"$f":"Eingabemeldung(Sprache!$E$18,Sprache!$E$17,'Formular C'!E275)","v":{"$error":"#VALUE!"}},{"$f":"Eingabemeldung(Sprache!$E$18,Sprache!$E$17,'Formular C'!G275)","v":{"$error":"#VALUE!"}},false,0,{"$f":"IF(W275<Parameter!$C$4,1,0)","v":0}]
[null,null,null,null,null,null,null,null,{"$f":"IF(OR(E276=Sprache!$C$19,E276=Sprache!$D$19),F276,0)+IF(OR(G276=Sprache!$C$19,G276=Sprache!$D$19),H276,0)+IF(OR(E276=Sprache!$C$20,E276=Sprache!$D$20),F276,0)+IF(OR(G276=Sprache!$C$20,G276=Sprache!$D$20),H276,0)","v":0},{"$f":"IF(OR(E276=Sprache!$C$21,E276=Sprache!$D$21),F276,0)+IF(OR(G276=Sprache!$C$21,G276=Sprache!$D$21),H276,0)","v":0},{"$f":"IF(OR(E276=Sprache!$C$22,E276=Sprache!$D$22),F276,0)+IF(OR(G276=Sprache!$C$22,G276=Sprache!$D$22),H276,0)","v":0},{"$f":"IF(OR(E276=Sprache!$C$23,E276=Sprache!$D$23),F276,0)+IF(OR(G276=Sprache!$C$23,G276=Sprache!$D$23),H276,0)","v":0},{"$f":"IF(OR(E276=Sprache!$C$24,E276=Sprache!$D$24),F276,0)+IF(OR(G276=Sprache!$C$24,G276=Sprache!$D$24),H276,0)","v":0},0,0,"",null,null,null,0,null,null,"",null,{"$f":"IF(B276<>\"\",HYPERLINK($AB$9&AA276,Sprache!$E$25 &\" \"&B276),\"\")","v":""},null,263,{"$f":"Eingabemeldung(Sprache!$E$18,Sprache!$E$17,'Formular C'!E276)","v":{"$error":"#VALUE!"}},{"$f":"Eingabemeldung(Sprache!$E$18,Sprache!$E$17,'Formular C'!G276)","v":{"$error":"#VALUE!"}},false,0,{"$f":"IF(W276<Parameter!$C$4,1,0)","v":0}]
[null,null,null,null,null,null,null,null,{"$f":"IF(OR(E277=Sprache!$C$19,E277=Sprache!$D$19),F277,0)+IF(OR(G277=Sprache!$C$19,G277=Sprache!$D$19),H277,0)+IF(OR(E277=Sprache!$C$20,E277=Sprache!$D$20),F277,0)+IF(OR(G277=Sprache!$C$20,G277=Sprache!$D$20),H277,0)","v":0},{"$f":"IF(OR(E277=Sprache!$C$21,E277=Sprache!$D$21),F277,0)+IF(OR(G277=Sprache!$C$21,G277=Sprache!$D$21),H277,0)","v":0},{"$f":"IF(OR(E277=Sprache!$C$22,E277=Sprache!$D$22),F277,0)+IF(OR(G277=Sprache!$C$22,G277=Sprache!$D$22),H277,0)","v":0},{"$f":"IF(OR(E277=Sprache!$C$23,E277=Sprache!$D$23),F277,0)+IF(OR(G277=Sprache!$C$23,G277=Sprache!$D$23),H277,0)","v":0},{"$f":"IF(OR(E277=Sprache!$C$24,E277=Sprache!$D$24),F277,0)+IF(OR(G277=Sprache!$C$24,G277=Sprache!$D$24),H277,0)","v":0},0,0,"",null,null,null,0,null,null,"",null,{"$f":"IF(B277<>\"\",HYPERLINK($AB$9&AA277,Sprache!$E$25 &\" \"&B277),\"\")","v":""},null,264,{"$f":"Eingabemeldung(Sprache!$E$18,Sprache!$E$17,'Formular C'!E277)","v":{"$error":"#VALUE!"}},{"$f":"Eingabemeldung(Sprache!$E$18,Sprache!$E$17,'Formular C'!G277)","v":{"$error":"#VALUE!"}},false,0,{"$f":"IF(W277<Parameter!$C$4,1,0)","v":0}]
[null,null,null,null,null,null,null,null,{"$f":"IF(OR(E278=Sprache!$C$19,E278=Sprache!$D$19),F278,0)+IF(OR(G278=Sprache!$C$19,G278=Sprache!$D$19),H278,0)+IF(OR(E278=Sprache!$C$20,E278=Sprache!$D$20),F278,0)+IF(OR(G278=Sprache!$C$20,G278=Sprache!$D$20),H278,0)","v":0},{"$f":"IF(OR(E278=Sprache!$C$21,E278=Sprache!$D$21),F278,0)+IF(OR(G278=Sprache!$C$21,G278=Sprache!$D$21),H278,0)","v":0},{"$f":"IF(OR(E278=Sprache!$C$22,E278=Sprache!$D$22),F278,0)+IF(OR(G278=Sprache!$C$22,G278=Sprache!$D$22),H278,0)","v":0},{"$f":"IF(OR(E278=Sprache!$C$23,E278=Sprache!$D$23),F278,0)+IF(OR(G278=Sprache!$C$23,G278=Sprache!$D$23),H278,0)","v":0},{"$f":"IF(OR(E278=Sprache!$C$24,E278=Sprache!$D$24),F278,0)+IF(OR(G278=Sprache!$C$24,G278=Sprache!$D$24),H278,0)","v":0},0,0,"",null,null,null,0,null,null,"",null,{"$f":"IF(B278<>\"\",HYPERLINK($AB$9&AA278,Sprache!$E$25 &\" \"&B278),\"\")","v":""},null,265,{"$f":"Eingabemeldung(Sprache!$E$18,Sprache!$E$17,'Formular C'!E278)","v":{"$error":"#VALUE!"}},{"$f":"Eingabemeldung(Sprache!$E$18,Sprache!$E$17,'Formular C'!G278)","v":{"$error":"#VALUE!"}},false,0,{"$f":"IF(W278<Parameter!$C$4,1,0)","v":0}]
[null,null,null,null,null,null,null,null,{"$f":"IF(OR(E279=Sprache!$C$19,E279=Sprache!$D$19),F279,0)+IF(OR(G279=Sprache!$C$19,G279=Sprache!$D$19),H279,0)+IF(OR(E279=Sprache!$C$20,E279=Sprache!$D$20),F279,0)+IF(OR(G279=Sprache!$C$20,G279=Sprache!$D$20),H279,0)","v":0},{"$f":"IF(OR(E279=Sprache!$C$21,E279=Sprache!$D$21),F279,0)+IF(OR(G279=Sprache!$C$21,G279=Sprache!$D$21),H279,0)","v":0},{"$f":"IF(OR(E279=Sprache!$C$22,E279=Sprache!$D$22),F279,0)+IF(OR(G279=Sprache!$C$22,G279=Sprache!$D$22),H279,0)","v":0},{"$f":"IF(OR(E279=Sprache!$C$23,E279=Sprache!$D$23),F279,0)+IF(OR(G279=Sprache!$C$23,G279=Sprache!$D$23),H279,0)","v":0},{"$f":"IF(OR(E279=Sprache!$C$24,E279=Sprache!$D$24),F279,0)+IF(OR(G279=Sprache!$C$24,G279=Sprache!$D$24),H279,0)","v":0},0,0,"",null,null,null,0,null,null,"",null,{"$f":"IF(B279<>\"\",HYPERLINK($AB$9&AA279,Sprache!$E$25 &\" \"&B279),\"\")","v":""},null,266,{"$f":"Eingabemeldung(Sprache!$E$18,Sprache!$E$17,'Formular C'!E279)","v":{"$error":"#VALUE!"}},{"$f":"Eingabemeldung(Sprache!$E$18,Sprache!$E$17,'Formular C'!G279)","v":{"$error":"#VALUE!"}},false,0,{"$f":"IF(W279<Parameter!$C$4,1,0)","v":0}]
[null,null,null,null,null,null,null,null,{"$f":"IF(OR(E280=Sprache!$C$19,E280=Sprache!$D$19),F280,0)+IF(OR(G280=Sprache!$C$19,G280=Sprache!$D$19),H280,0)+IF(OR(E280=Sprache!$C$20,E280=Sprache!$D$20),F280,0)+IF(OR(G280=Sprache!$C$20,G280=Sprache!$D$20),H280,0)","v":0},{"$f":"IF(OR(E280=Sprache!$C$21,E280=Sprache!$D$21),F280,0)+IF(OR(G280=Sprache!$C$21,G280=Sprache!$D$21),H280,0)","v":0},{"$f":"IF(OR(E280=Sprache!$C$22,E280=Sprache!$D$22),F280,0)+IF(OR(G280=Sprache!$C$22,G280=Sprache!$D$22),H280,0)","v":0},{"$f":"IF(OR(E280=Sprache!$C$23,E280=Sprache!$D$23),F280,0)+IF(OR(G280=Sprache!$C$23,G280=Sprache!$D$23),H280,0)","v":0},{"$f":"IF(OR(E280=Sprache!$C$24,E280=Sprache!$D$24),F280,0)+IF(OR(G280=Sprache!$C$24,G280=Sprache!$D$24),H280,0)","v":0},0,0,"",null,null,null,0,null,null,"",null,{"$f":"IF(B280<>\"\",HYPERLINK($AB$9&AA280,Sprache!$E$25 &\" \"&B280),\"\")","v":""},null,267,{"$f":"Eingabemeldung(Sprache!$E$18,Sprache!$E$17,'Formular C'!E280)","v":{"$error":"#VALUE!"}},{"$f":"Eingabemeldung(Sprache!$E$18,Sprache!$E$17,'Formular C'!G280)","v":{"$error":"#VALUE!"}},false,0,{"$f":"IF(W280<Parameter!$C$4,1,0)","v":0}]
[null,null,null,null,null,null,null,null,{"$f":"IF(OR(E281=Sprache!$C$19,E281=Sprache!$D$19),F281,0)+IF(OR(G281=Sprache!$C$19,G281=Sprache!$D$19),H281,0)+IF(OR(E281=Sprache!$C$20,E281=Sprache!$D$20),F281,0)+IF(OR(G281=Sprache!$C$20,G281=Sprache!$D$20),H281,0)","v":0},{"$f":"IF(OR(E281=Sprache!$C$21,E281=Sprache!$D$21),F281,0)+IF(OR(G281=Sprache!$C$21,G281=Sprache!$D$21),H281,0)","v":0},{"$f":"IF(OR(E281=Sprache!$C$22,E281=Sprache!$D$22),F281,0)+IF(OR(G281=Sprache!$C$22,G281=Sprache!$D$22),H281,0)","v":0},{"$f":"IF(OR(E281=Sprache!$C$23,E281=Sprache!$D$23),F281,0)+IF(OR(G281=Sprache!$C$23,G281=Sprache!$D$23),H281,0)","v":0},{"$f":"IF(OR(E281=Sprache!$C$24,E281=Sprache!$D$24),F281,0)+IF(OR(G281=Sprache!$C$24,G281=Sprache!$D$24),H281,0)","v":0},0,0,"",null,null,null,0,null,null,"",null,{"$f":"IF(B281<>\"\",HYPERLINK($AB$9&AA281,Sprache!$E$25 &\" \"&B281),\"\")","v":""},null,268,{"$f":"Eingabemeldung(Sprache!$E$18,Sprache!$E$17,'Formular C'!E281)","v":{"$error":"#VALUE!"}},{"$f":"Eingabemeldung(Sprache!$E$18,Sprache!$E$17,'Formular C'!G281)","v":{"$error":"#VALUE!"}},false,0,{"$f":"IF(W281<Parameter!$C$4,1,0)","v":0}]
[null,null,null,null,null,null,null,null,{"$f":"IF(OR(E282=Sprache!$C$19,E282=Sprache!$D$19),F282,0)+IF(OR(G282=Sprache!$C$19,G282=Sprache!$D$19),H282,0)+IF(OR(E282=Sprache!$C$20,E282=Sprache!$D$20),F282,0)+IF(OR(G282=Sprache!$C$20,G282=Sprache!$D$20),H282,0)","v":0},{"$f":"IF(OR(E282=Sprache!$C$21,E282=Sprache!$D$21),F282,0)+IF(OR(G282=Sprache!$C$21,G282=Sprache!$D$21),H282,0)","v":0},{"$f":"IF(OR(E282=Sprache!$C$22,E282=Sprache!$D$22),F282,0)+IF(OR(G282=Sprache!$C$22,G282=Sprache!$D$22),H282,0)","v":0},{"$f":"IF(OR(E282=Sprache!$C$23,E282=Sprache!$D$23),F282,0)+IF(OR(G282=Sprache!$C$23,G282=Sprache!$D$23),H282,0)","v":0},{"$f":"IF(OR(E282=Sprache!$C$24,E282=Sprache!$D$24),F282,0)+IF(OR(G282=Sprache!$C$24,G282=Sprache!$D$24),H282,0)","v":0},0,0,"",null,null,null,0,null,null,"",null,{"$f":"IF(B282<>\"\",HYPERLINK($AB$9&AA282,Sprache!$E$25 &\" \"&B282),\"\")","v":""},null,269,{"$f":"Eingabemeldung(Sprache!$E$18,Sprache!$E$17,'Formular C'!E282)","v":{"$error":"#VALUE!"}},{"$f":"Eingabemeldung(Sprache!$E$18,Sprache!$E$17,'Formular C'!G282)","v":{"$error":"#VALUE!"}},false,0,{"$f":"IF(W282<Parameter!$C$4,1,0)","v":0}]
[null,null,null,null,null,null,null,null,{"$f":"IF(OR(E283=Sprache!$C$19,E283=Sprache!$D$19),F283,0)+IF(OR(G283=Sprache!$C$19,G283=Sprache!$D$19),H283,0)+IF(OR(E283=Sprache!$C$20,E283=Sprache!$D$20),F283,0)+IF(OR(G283=Sprache!$C$20,G283=Sprache!$D$20),H283,0)","v":0},{"$f":"IF(OR(E283=Sprache!$C$21,E283=Sprache!$D$21),F283,0)+IF(OR(G283=Sprache!$C$21,G283=Sprache!$D$21),H283,0)","v":0},{"$f":"IF(OR(E283=Sprache!$C$22,E283=Sprache!$D$22),F283,0)+IF(OR(G283=Sprache!$C$22,G283=Sprache!$D$22),H283,0)","v":0},{"$f":"IF(OR(E283=Sprache!$C$23,E283=Sprache!$D$23),F283,0)+IF(OR(G283=Sprache!$C$23,G283=Sprache!$D$23),H283,0)","v":0},{"$f":"IF(OR(E283=Sprache!$C$24,E283=Sprache!$D$24),F283,0)+IF(OR(G283=Sprache!$C$24,G283=Sprache!$D$24),H283,0)","v":0},0,0,"",null,null,null,0,null,null,"",null,{"$f":"IF(B283<>\"\",HYPERLINK($AB$9&AA283,Sprache!$E$25 &\" \"&B283),\"\")","v":""},null,270,{"$f":"Eingabemeldung(Sprache!$E$18,Sprache!$E$17,'Formular C'!E283)","v":{"$error":"#VALUE!"}},{"$f":"Eingabemeldung(Sprache!$E$18,Sprache!$E$17,'Formular C'!G283)","v":{"$error":"#VALUE!"}},false,0,{"$f":"IF(W283<Parameter!$C$4,1,0)","v":0}]
[null,null,null,null,null,null,null,null,{"$f":"IF(OR(E284=Sprache!$C$19,E284=Sprache!$D$19),F284,0)+IF(OR(G284=Sprache!$C$19,G284=Sprache!$D$19),H284,0)+IF(OR(E284=Sprache!$C$20,E284=Sprache!$D$20),F284,0)+IF(OR(G284=Sprache!$C$20,G284=Sprache!$D$20),H284,0)","v":0},{"$f":"IF(OR(E284=Sprache!$C$21,E284=Sprache!$D$21),F284,0)+IF(OR(G284=Sprache!$C$21,G284=Sprache!$D$21),H284,0)","v":0},{"$f":"IF(OR(E284=Sprache!$C$22,E284=Sprache!$D$22),F284,0)+IF(OR(G284=Sprache!$C$22,G284=Sprache!$D$22),H284,0)","v":0},{"$f":"IF(OR(E284=Sprache!$C$23,E284=Sprache!$D$23),F284,0)+IF(OR(G284=Sprache!$C$23,G284=Sprache!$D$23),H284,0)","v":0},{"$f":"IF(OR(E284=Sprache!$C$24,E284=Sprache!$D$24),F284,0)+IF(OR(G284=Sprache!$C$24,G284=Sprache!$D$24),H284,0)","v":0},{"$f":"F284+H284","v":0},{"$f":"GFÖG*I284+GFF*J284+GFH*K284+GFW*L284+GFE*M284","v":0},"",null,null,null,{"$f":"(F284*R284)+(H284*S284)","v":0},null,null,"",null,{"$f":"IF(B284<>\"\",HYPERLINK($AB$9&AA284,Sprache!$E$25 &\" \"&B284),\"\")","v":""},null,271,{"$f":"Eingabemeldung(Sprache!$E$18,Sprache!$E$17,'Formular C'!E284)","v":{"$error":"#VALUE!"}},{"$f":"Eingabemeldung(Sprache!$E$18,Sprache!$E$17,'Formular C'!G284)","v":{"$error":"#VALUE!"}},false,0,{"$f":"IF(W284<Parameter!$C$4,1,0)","v":0}]
[null,null,null,null,null,null,null,null,{"$f":"IF(OR(E285=Sprache!$C$19,E285=Sprache!$D$19),F285,0)+IF(OR(G285=Sprache!$C$19,G285=Sprache!$D$19),H285,0)+IF(OR(E285=Sprache!$C$20,E285=Sprache!$D$20),F285,0)+IF(OR(G285=Sprache!$C$20,G285=Sprache!$D$20),H285,0)","v":0},{"$f":"IF(OR(E285=Sprache!$C$21,E285=Sprache!$D$21),F285,0)+IF(OR(G285=Sprache!$C$21,G285=Sprache!$D$21),H285,0)","v":0},{"$f":"IF(OR(E285=Sprache!$C$22,E285=Sprache!$D$22),F285,0)+IF(OR(G285=Sprache!$C$22,G285=Sprache!$D$22),H285,0)","v":0},{"$f":"IF(OR(E285=Sprache!$C$23,E285=Sprache!$D$23),F285,0)+IF(OR(G285=Sprache!$C$23,G285=Sprache!$D$23),H285,0)","v":0},{"$f":"IF(OR(E285=Sprache!$C$24,E285=Sprache!$D$24),F285,0)+IF(OR(G285=Sprache!$C$24,G285=Sprache!$D$24),H285,0)","v":0},0,0,"",null,null,null,0,null,null,"",null,{"$f":"IF(B285<>\"\",HYPERLINK($AB$9&AA285,Sprache!$E$25 &\" \"&B285),\"\")","v":""},null,{"$f":"AA284+1","v":272},{"$f":"Eingabemeldung(Sprache!$E$18,Sprache!$E$17,'Formular C'!E285)","v":{"$error":"#VALUE!"}},{"$f":"Eingabemeldung(Sprache!$E$18,Sprache!$E$17,'Formular C'!G285)","v":{"$error":"#VALUE!"}},false,0,{"$f":"IF(W285<Parameter!$C$4,1,0)","v":0}]
[null,null,null,null,null,null,null,null,{"$f":"IF(OR(E286=Sprache!$C$19,E286=Sprache!$D$19),F286,0)+IF(OR(G286=Sprache!$C$19,G286=Sprache!$D$19),H286,0)+IF(OR(E286=Sprache!$C$20,E286=Sprache!$D$20),F286,0)+IF(OR(G286=Sprache!$C$20,G286=Sprache!$D$20),H286,0)","v":0},{"$f":"IF(OR(E286=Sprache!$C$21,E286=Sprache!$D$21),F286,0)+IF(OR(G286=Sprache!$C$21,G286=Sprache!$D$21),H286,0)","v":0},{"$f":"IF(OR(E286=Sprache!$C$22,E286=Sprache!$D$22),F286,0)+IF(OR(G286=Sprache!$C$22,G286=Sprache!$D$22),H286,0)","v":0},{"$f":"IF(OR(E286=Sprache!$C$23,E286=Sprache!$D$23),F286,0)+IF(OR(G286=Sprache!$C$23,G286=Sprache!$D$23),H286,0)","v":0},{"$f":"IF(OR(E286=Sprache!$C$24,E286=Sprache!$D$24),F286,0)+IF(OR(G286=Sprache!$C$24,G286=Sprache!$D$24),H286,0)","v":0},0,0,"",null,null,null,0,null,null,"",null,{"$f":"IF(B286<>\"\",HYPERLINK($AB$9&AA286,Sprache!$E$25 &\" \"&B286),\"\")","v":""},null,273,{"$f":"Eingabemeldung(Sprache!$E$18,Sprache!$E$17,'Formular C'!E286)","v":{"$error":"#VALUE!"}},{"$f":"Eingabemeldung(Sprache!$E$18,Sprache!$E$17,'Formular C'!G286)","v":{"$error":"#VALUE!"}},false,0,{"$f":"IF(W286<Parameter!$C$4,1,0)","v":0}]
[null,null,null,null,null,null,null,null,{"$f":"IF(OR(E287=Sprache!$C$19,E287=Sprache!$D$19),F287,0)+IF(OR(G287=Sprache!$C$19,G287=Sprache!$D$19),H287,0)+IF(OR(E287=Sprache!$C$20,E287=Sprache!$D$20),F287,0)+IF(OR(G287=Sprache!$C$20,G287=Sprache!$D$20),H287,0)","v":0},{"$f":"IF(OR(E287=Sprache!$C$21,E287=Sprache!$D$21),F287,0)+IF(OR(G287=Sprache!$C$21,G287=Sprache!$D$21),H287,0)","v":0},{"$f":"IF(OR(E287=Sprache!$C$22,E287=Sprache!$D$22),F287,0)+IF(OR(G287=Sprache!$C$22,G287=Sprache!$D$22),H287,0)","v":0},{"$f":"IF(OR(E287=Sprache!$C$23,E287=Sprache!$D$23),F287,0)+IF(OR(G287=Sprache!$C$23,G287=Sprache!$D$23),H287,0)","v":0},{"$f":"IF(OR(E287=Sprache!$C$24,E287=Sprache!$D$24),F287,0)+IF(OR(G287=Sprache!$C$24,G287=Sprache!$D$24),H287,0)","v":0},0,0,"",null,null,null,0,null,null,"",null,{"$f":"IF(B287<>\"\",HYPERLINK($AB$9&AA287,Sprache!$E$25 &\" \"&B287),\"\")","v":""},null,274,{"$f":"Eingabemeldung(Sprache!$E$18,Sprache!$E$17,'Formular C'!E287)","v":{"$error":"#VALUE!"}},{"$f":"Eingabemeldung(Sprache!$E$18,Sprache!$E$17,'Formular C'!G287)","v":{"$error":"#VALUE!"}},false,0,{"$f":"IF(W287<Parameter!$C$4,1,0)","v":0}]
[null,null,null,null,null,null,null,null,{"$f":"IF(OR(E288=Sprache!$C$19,E288=Sprache!$D$19),F288,0)+IF(OR(G288=Sprache!$C$19,G288=Sprache!$D$19),H288,0)+IF(OR(E288=Sprache!$C$20,E288=Sprache!$D$20),F288,0)+IF(OR(G288=Sprache!$C$20,G288=Sprache!$D$20),H288,0)","v":0},{"$f":"IF(OR(E288=Sprache!$C$21,E288=Sprache!$D$21),F288,0)+IF(OR(G288=Sprache!$C$21,G288=Sprache!$D$21),H288,0)","v":0},{"$f":"IF(OR(E288=Sprache!$C$22,E288=Sprache!$D$22),F288,0)+IF(OR(G288=Sprache!$C$22,G288=Sprache!$D$22),H288,0)","v":0},{"$f":"IF(OR(E288=Sprache!$C$23,E288=Sprache!$D$23),F288,0)+IF(OR(G288=Sprache!$C$23,G288=Sprache!$D$23),H288,0)","v":0},{"$f":"IF(OR(E288=Sprache!$C$24,E288=Sprache!$D$24),F288,0)+IF(OR(G288=Sprache!$C$24,G288=Sprache!$D$24),H288,0)","v":0},0,0,"",null,null,null,0,null,null,"",null,{"$f":"IF(B288<>\"\",HYPERLINK($AB$9&AA288,Sprache!$E$25 &\" \"&B288),\"\")","v":""},null,275,{"$f":"Eingabemeldung(Sprache!$E$18,Sprache!$E$17,'Formular C'!E288)","v":{"$error":"#VALUE!"}},{"$f":"Eingabemeldung(Sprache!$E$18,Sprache!$E$17,'Formular C'!G288)","v":{"$error":"#VALUE!"}},false,0,{"$f":"IF(W288<Parameter!$C$4,1,0)","v":0}]
[null,null,null,null,null,null,null,null,{"$f":"IF(OR(E289=Sprache!$C$19,E289=Sprache!$D$19),F289,0)+IF(OR(G289=Sprache!$C$19,G289=Sprache!$D$19),H289,0)+IF(OR(E289=Sprache!$C$20,E289=Sprache!$D$20),F289,0)+IF(OR(G289=Sprache!$C$20,G289=Sprache!$D$20),H289,0)","v":0},{"$f":"IF(OR(E289=Sprache!$C$21,E289=Sprache!$D$21),F289,0)+IF(OR(G289=Sprache!$C$21,G289=Sprache!$D$21),H289,0)","v":0},{"$f":"IF(OR(E289=Sprache!$C$22,E289=Sprache!$D$22),F289,0)+IF(OR(G289=Sprache!$C$22,G289=Sprache!$D$22),H289,0)","v":0},{"$f":"IF(OR(E289=Sprache!$C$23,E289=Sprache!$D$23),F289,0)+IF(OR(G289=Sprache!$C$23,G289=Sprache!$D$23),H289,0)","v":0},{"$f":"IF(OR(E289=Sprache!$C$24,E289=Sprache!$D$24),F289,0)+IF(OR(G289=Sprache!$C$24,G289=Sprache!$D$24),H289,0)","v":0},0,0,"",null,null,null,0,null,null,"",null,{"$f":"IF(B289<>\"\",HYPERLINK($AB$9&AA289,Sprache!$E$25 &\" \"&B289),\"\")","v":""},null,276,{"$f":"Eingabemeldung(Sprache!$E$18,Sprache!$E$17,'Formular C'!E289)","v":{"$error":"#VALUE!"}},{"$f":"Eingabemeldung(Sprache!$E$18,Sprache!$E$17,'Formular C'!G289)","v":{"$error":"#VALUE!"}},false,0,{"$f":"IF(W289<Parameter!$C$4,1,0)","v":0}]
[null,null,null,null,null,null,null,null,{"$f":"IF(OR(E290=Sprache!$C$19,E290=Sprache!$D$19),F290,0)+IF(OR(G290=Sprache!$C$19,G290=Sprache!$D$19),H290,0)+IF(OR(E290=Sprache!$C$20,E290=Sprache!$D$20),F290,0)+IF(OR(G290=Sprache!$C$20,G290=Sprache!$D$20),H290,0)","v":0},{"$f":"IF(OR(E290=Sprache!$C$21,E290=Sprache!$D$21),F290,0)+IF(OR(G290=Sprache!$C$21,G290=Sprache!$D$21),H290,0)","v":0},{"$f":"IF(OR(E290=Sprache!$C$22,E290=Sprache!$D$22),F290,0)+IF(OR(G290=Sprache!$C$22,G290=Sprache!$D$22),H290,0)","v":0},{"$f":"IF(OR(E290=Sprache!$C$23,E290=Sprache!$D$23),F290,0)+IF(OR(G290=Sprache!$C$23,G290=Sprache!$D$23),H290,0)","v":0},{"$f":"IF(OR(E290=Sprache!$C$24,E290=Sprache!$D$24),F290,0)+IF(OR(G290=Sprache!$C$24,G290=Sprache!$D$24),H290,0)","v":0},0,0,"",null,null,null,0,null,null,"",null,{"$f":"IF(B290<>\"\",HYPERLINK($AB$9&AA290,Sprache!$E$25 &\" \"&B290),\"\")","v":""},null,277,{"$f":"Eingabemeldung(Sprache!$E$18,Sprache!$E$17,'Formular C'!E290)","v":{"$error":"#VALUE!"}},{"$f":"Eingabemeldung(Sprache!$E$18,Sprache!$E$17,'Formular C'!G290)","v":{"$error":"#VALUE!"}},false,0,{"$f":"IF(W290<Parameter!$C$4,1,0)","v":0}]
[null,null,null,null,null,null,null,null,{"$f":"IF(OR(E291=Sprache!$C$19,E291=Sprache!$D$19),F291,0)+IF(OR(G291=Sprache!$C$19,G291=Sprache!$D$19),H291,0)+IF(OR(E291=Sprache!$C$20,E291=Sprache!$D$20),F291,0)+IF(OR(G291=Sprache!$C$20,G291=Sprache!$D$20),H291,0)","v":0},{"$f":"IF(OR(E291=Sprache!$C$21,E291=Sprache!$D$21),F291,0)+IF(OR(G291=Sprache!$C$21,G291=Sprache!$D$21),H291,0)","v":0},{"$f":"IF(OR(E291=Sprache!$C$22,E291=Sprache!$D$22),F291,0)+IF(OR(G291=Sprache!$C$22,G291=Sprache!$D$22),H291,0)","v":0},{"$f":"IF(OR(E291=Sprache!$C$23,E291=Sprache!$D$23),F291,0)+IF(OR(G291=Sprache!$C$23,G291=Sprache!$D$23),H291,0)","v":0},{"$f":"IF(OR(E291=Sprache!$C$24,E291=Sprache!$D$24),F291,0)+IF(OR(G291=Sprache!$C$24,G291=Sprache!$D$24),H291,0)","v":0},0,0,"",null,null,null,0,null,null,"",null,{"$f":"IF(B291<>\"\",HYPERLINK($AB$9&AA291,Sprache!$E$25 &\" \"&B291),\"\")","v":""},null,278,{"$f":"Eingabemeldung(Sprache!$E$18,Sprache!$E$17,'Formular C'!E291)","v":{"$error":"#VALUE!"}},{"$f":"Eingabemeldung(Sprache!$E$18,Sprache!$E$17,'Formular C'!G291)","v":{"$error":"#VALUE!"}},false,0,{"$f":"IF(W291<Parameter!$C$4,1,0)","v":0}]
[null,null,null,null,null,null,null,null,{"$f":"IF(OR(E292=Sprache!$C$19,E292=Sprache!$D$19),F292,0)+IF(OR(G292=Sprache!$C$19,G292=Sprache!$D$19),H292,0)+IF(OR(E292=Sprache!$C$20,E292=Sprache!$D$20),F292,0)+IF(OR(G292=Sprache!$C$20,G292=Sprache!$D$20),H292,0)","v":0},{"$f":"IF(OR(E292=Sprache!$C$21,E292=Sprache!$D$21),F292,0)+IF(OR(G292=Sprache!$C$21,G292=Sprache!$D$21),H292,0)","v":0},{"$f":"IF(OR(E292=Sprache!$C$22,E292=Sprache!$D$22),F292,0)+IF(OR(G292=Sprache!$C$22,G292=Sprache!$D$22),H292,0)","v":0},{"$f":"IF(OR(E292=Sprache!$C$23,E292=Sprache!$D$23),F292,0)+IF(OR(G292=Sprache!$C$23,G292=Sprache!$D$23),H292,0)","v":0},{"$f":"IF(OR(E292=Sprache!$C$24,E292=Sprache!$D$24),F292,0)+IF(OR(G292=Sprache!$C$24,G292=Sprache!$D$24),H292,0)","v":0},0,0,"",null,null,null,0,null,null,"",null,{"$f":"IF(B292<>\"\",HYPERLINK($AB$9&AA292,Sprache!$E$25 &\" \"&B292),\"\")","v":""},null,279,{"$f":"Eingabemeldung(Sprache!$E$18,Sprache!$E$17,'Formular C'!E292)","v":{"$error":"#VALUE!"}},{"$f":"Eingabemeldung(Sprache!$E$18,Sprache!$E$17,'Formular C'!G292)","v":{"$error":"#VALUE!"}},false,0,{"$f":"IF(W292<Parameter!$C$4,1,0)","v":0}]
[null,null,null,null,null,null,null,null,{"$f":"IF(OR(E293=Sprache!$C$19,E293=Sprache!$D$19),F293,0)+IF(OR(G293=Sprache!$C$19,G293=Sprache!$D$19),H293,0)+IF(OR(E293=Sprache!$C$20,E293=Sprache!$D$20),F293,0)+IF(OR(G293=Sprache!$C$20,G293=Sprache!$D$20),H293,0)","v":0},{"$f":"IF(OR(E293=Sprache!$C$21,E293=Sprache!$D$21),F293,0)+IF(OR(G293=Sprache!$C$21,G293=Sprache!$D$21),H293,0)","v":0},{"$f":"IF(OR(E293=Sprache!$C$22,E293=Sprache!$D$22),F293,0)+IF(OR(G293=Sprache!$C$22,G293=Sprache!$D$22),H293,0)","v":0},{"$f":"IF(OR(E293=Sprache!$C$23,E293=Sprache!$D$23),F293,0)+IF(OR(G293=Sprache!$C$23,G293=Sprache!$D$23),H293,0)","v":0},{"$f":"IF(OR(E293=Sprache!$C$24,E293=Sprache!$D$24),F293,0)+IF(OR(G293=Sprache!$C$24,G293=Sprache!$D$24),H293,0)","v":0},0,0,"",null,null,null,0,null,null,"",null,{"$f":"IF(B293<>\"\",HYPERLINK($AB$9&AA293,Sprache!$E$25 &\" \"&B293),\"\")","v":""},null,280,{"$f":"Eingabemeldung(Sprache!$E$18,Sprache!$E$17,'Formular C'!E293)","v":{"$error":"#VALUE!"}},{"$f":"Eingabemeldung(Sprache!$E$18,Sprache!$E$17,'Formular C'!G293)","v":{"$error":"#VALUE!"}},false,0,{"$f":"IF(W293<Parameter!$C$4,1,0)","v":0}]
[null,null,null,null,null,null,null,null,{"$f":"IF(OR(E294=Sprache!$C$19,E294=Sprache!$D$19),F294,0)+IF(OR(G294=Sprache!$C$19,G294=Sprache!$D$19),H294,0)+IF(OR(E294=Sprache!$C$20,E294=Sprache!$D$20),F294,0)+IF(OR(G294=Sprache!$C$20,G294=Sprache!$D$20),H294,0)","v":0},{"$f":"IF(OR(E294=Sprache!$C$21,E294=Sprache!$D$21),F294,0)+IF(OR(G294=Sprache!$C$21,G294=Sprache!$D$21),H294,0)","v":0},{"$f":"IF(OR(E294=Sprache!$C$22,E294=Sprache!$D$22),F294,0)+IF(OR(G294=Sprache!$C$22,G294=Sprache!$D$22),H294,0)","v":0},{"$f":"IF(OR(E294=Sprache!$C$23,E294=Sprache!$D$23),F294,0)+IF(OR(G294=Sprache!$C$23,G294=Sprache!$D$23),H294,0)","v":0},{"$f":"IF(OR(E294=Sprache!$C$24,E294=Sprache!$D$24),F294,0)+IF(OR(G294=Sprache!$C$24,G294=Sprache!$D$24),H294,0)","v":0},0,0,"",null,null,null,0,null,null,"",null,{"$f":"IF(B294<>\"\",HYPERLINK($AB$9&AA294,Sprache!$E$25 &\" \"&B294),\"\")","v":""},null,281,{"$f":"Eingabemeldung(Sprache!$E$18,Sprache!$E$17,'Formular C'!E294)","v":{"$error":"#VALUE!"}},{"$f":"Eingabemeldung(Sprache!$E$18,Sprache!$E$17,'Formular C'!G294)","v":{"$error":"#VALUE!"}},false,0,{"$f":"IF(W294<Parameter!$C$4,1,0)","v":0}]
[null,null,null,null,null,null,null,null,{"$f":"IF(OR(E295=Sprache!$C$19,E295=Sprache!$D$19),F295,0)+IF(OR(G295=Sprache!$C$19,G295=Sprache!$D$19),H295,0)+IF(OR(E295=Sprache!$C$20,E295=Sprache!$D$20),F295,0)+IF(OR(G295=Sprache!$C$20,G295=Sprache!$D$20),H295,0)","v":0},{"$f":"IF(OR(E295=Sprache!$C$21,E295=Sprache!$D$21),F295,0)+IF(OR(G295=Sprache!$C$21,G295=Sprache!$D$21),H295,0)","v":0},{"$f":"IF(OR(E295=Sprache!$C$22,E295=Sprache!$D$22),F295,0)+IF(OR(G295=Sprache!$C$22,G295=Sprache!$D$22),H295,0)","v":0},{"$f":"IF(OR(E295=Sprache!$C$23,E295=Sprache!$D$23),F295,0)+IF(OR(G295=Sprache!$C$23,G295=Sprache!$D$23),H295,0)","v":0},{"$f":"IF(OR(E295=Sprache!$C$24,E295=Sprache!$D$24),F295,0)+IF(OR(G295=Sprache!$C$24,G295=Sprache!$D$24),H295,0)","v":0},0,0,"",null,null,null,0,null,null,"",null,{"$f":"IF(B295<>\"\",HYPERLINK($AB$9&AA295,Sprache!$E$25 &\" \"&B295),\"\")","v":""},null,282,{"$f":"Eingabemeldung(Sprache!$E$18,Sprache!$E$17,'Formular C'!E295)","v":{"$error":"#VALUE!"}},{"$f":"Eingabemeldung(Sprache!$E$18,Sprache!$E$17,'Formular C'!G295)","v":{"$error":"#VALUE!"}},false,0,{"$f":"IF(W295<Parameter!$C$4,1,0)","v":0}]
[null,null,null,null,null,null,null,null,{"$f":"IF(OR(E296=Sprache!$C$19,E296=Sprache!$D$19),F296,0)+IF(OR(G296=Sprache!$C$19,G296=Sprache!$D$19),H296,0)+IF(OR(E296=Sprache!$C$20,E296=Sprache!$D$20),F296,0)+IF(OR(G296=Sprache!$C$20,G296=Sprache!$D$20),H296,0)","v":0},{"$f":"IF(OR(E296=Sprache!$C$21,E296=Sprache!$D$21),F296,0)+IF(OR(G296=Sprache!$C$21,G296=Sprache!$D$21),H296,0)","v":0},{"$f":"IF(OR(E296=Sprache!$C$22,E296=Sprache!$D$22),F296,0)+IF(OR(G296=Sprache!$C$22,G296=Sprache!$D$22),H296,0)","v":0},{"$f":"IF(OR(E296=Sprache!$C$23,E296=Sprache!$D$23),F296,0)+IF(OR(G296=Sprache!$C$23,G296=Sprache!$D$23),H296,0)","v":0},{"$f":"IF(OR(E296=Sprache!$C$24,E296=Sprache!$D$24),F296,0)+IF(OR(G296=Sprache!$C$24,G296=Sprache!$D$24),H296,0)","v":0},0,0,"",null,null,null,0,null,null,"",null,{"$f":"IF(B296<>\"\",HYPERLINK($AB$9&AA296,Sprache!$E$25 &\" \"&B296),\"\")","v":""},null,283,{"$f":"Eingabemeldung(Sprache!$E$18,Sprache!$E$17,'Formular C'!E296)","v":{"$error":"#VALUE!"}},{"$f":"Eingabemeldung(Sprache!$E$18,Sprache!$E$17,'Formular C'!G296)","v":{"$error":"#VALUE!"}},false,0,{"$f":"IF(W296<Parameter!$C$4,1,0)","v":0}]
[null,null,null,null,null,null,null,null,{"$f":"IF(OR(E297=Sprache!$C$19,E297=Sprache!$D$19),F297,0)+IF(OR(G297=Sprache!$C$19,G297=Sprache!$D$19),H297,0)+IF(OR(E297=Sprache!$C$20,E297=Sprache!$D$20),F297,0)+IF(OR(G297=Sprache!$C$20,G297=Sprache!$D$20),H297,0)","v":0},{"$f":"IF(OR(E297=Sprache!$C$21,E297=Sprache!$D$21),F297,0)+IF(OR(G297=Sprache!$C$21,G297=Sprache!$D$21),H297,0)","v":0},{"$f":"IF(OR(E297=Sprache!$C$22,E297=Sprache!$D$22),F297,0)+IF(OR(G297=Sprache!$C$22,G297=Sprache!$D$22),H297,0)","v":0},{"$f":"IF(OR(E297=Sprache!$C$23,E297=Sprache!$D$23),F297,0)+IF(OR(G297=Sprache!$C$23,G297=Sprache!$D$23),H297,0)","v":0},{"$f":"IF(OR(E297=Sprache!$C$24,E297=Sprache!$D$24),F297,0)+IF(OR(G297=Sprache!$C$24,G297=Sprache!$D$24),H297,0)","v":0},0,0,"",null,null,null,0,null,null,"",null,{"$f":"IF(B297<>\"\",HYPERLINK($AB$9&AA297,Sprache!$E$25 &\" \"&B297),\"\")","v":""},null,284,{"$f":"Eingabemeldung(Sprache!$E$18,Sprache!$E$17,'Formular C'!E297)","v":{"$error":"#VALUE!"}},{"$f":"Eingabemeldung(Sprache!$E$18,Sprache!$E$17,'Formular C'!G297)","v":{"$error":"#VALUE!"}},false,0,{"$f":"IF(W297<Parameter!$C$4,1,0)","v":0}]
[null,null,null,null,null,null,null,null,{"$f":"IF(OR(E298=Sprache!$C$19,E298=Sprache!$D$19),F298,0)+IF(OR(G298=Sprache!$C$19,G298=Sprache!$D$19),H298,0)+IF(OR(E298=Sprache!$C$20,E298=Sprache!$D$20),F298,0)+IF(OR(G298=Sprache!$C$20,G298=Sprache!$D$20),H298,0)","v":0},{"$f":"IF(OR(E298=Sprache!$C$21,E298=Sprache!$D$21),F298,0)+IF(OR(G298=Sprache!$C$21,G298=Sprache!$D$21),H298,0)","v":0},{"$f":"IF(OR(E298=Sprache!$C$22,E298=Sprache!$D$22),F298,0)+IF(OR(G298=Sprache!$C$22,G298=Sprache!$D$22),H298,0)","v":0},{"$f":"IF(OR(E298=Sprache!$C$23,E298=Sprache!$D$23),F298,0)+IF(OR(G298=Sprache!$C$23,G298=Sprache!$D$23),H298,0)","v":0},{"$f":"IF(OR(E298=Sprache!$C$24,E298=Sprache!$D$24),F298,0)+IF(OR(G298=Sprache!$C$24,G298=Sprache!$D$24),H298,0)","v":0},0,0,"",null,null,null,0,null,null,"",null,{"$f":"IF(B298<>\"\",HYPERLINK($AB$9&AA298,Sprache!$E$25 &\" \"&B298),\"\")","v":""},null,285,{"$f":"Eingabemeldung(Sprache!$E$18,Sprache!$E$17,'Formular C'!E298)","v":{"$error":"#VALUE!"}},{"$f":"Eingabemeldung(Sprache!$E$18,Sprache!$E$17,'Formular C'!G298)","v":{"$error":"#VALUE!"}},false,0,{"$f":"IF(W298<Parameter!$C$4,1,0)","v":0}]
[null,null,null,null,null,null,null,null,{"$f":"IF(OR(E299=Sprache!$C$19,E299=Sprache!$D$19),F299,0)+IF(OR(G299=Sprache!$C$19,G299=Sprache!$D$19),H299,0)+IF(OR(E299=Sprache!$C$20,E299=Sprache!$D$20),F299,0)+IF(OR(G299=Sprache!$C$20,G299=Sprache!$D$20),H299,0)","v":0},{"$f":"IF(OR(E299=Sprache!$C$21,E299=Sprache!$D$21),F299,0)+IF(OR(G299=Sprache!$C$21,G299=Sprache!$D$21),H299,0)","v":0},{"$f":"IF(OR(E299=Sprache!$C$22,E299=Sprache!$D$22),F299,0)+IF(OR(G299=Sprache!$C$22,G299=Sprache!$D$22),H299,0)","v":0},{"$f":"IF(OR(E299=Sprache!$C$23,E299=Sprache!$D$23),F299,0)+IF(OR(G299=Sprache!$C$23,G299=Sprache!$D$23),H299,0)","v":0},{"$f":"IF(OR(E299=Sprache!$C$24,E299=Sprache!$D$24),F299,0)+IF(OR(G299=Sprache!$C$24,G299=Sprache!$D$24),H299,0)","v":0},0,0,"",null,null,null,0,null,null,"",null,{"$f":"IF(B299<>\"\",HYPERLINK($AB$9&AA299,Sprache!$E$25 &\" \"&B299),\"\")","v":""},null,286,{"$f":"Eingabemeldung(Sprache!$E$18,Sprache!$E$17,'Formular C'!E299)","v":{"$error":"#VALUE!"}},{"$f":"Eingabemeldung(Sprache!$E$18,Sprache!$E$17,'Formular C'!G299)","v":{"$error":"#VALUE!"}},false,0,{"$f":"IF(W299<Parameter!$C$4,1,0)","v":0}]
[null,null,null,null,null,null,null,null,{"$f":"IF(OR(E300=Sprache!$C$19,E300=Sprache!$D$19),F300,0)+IF(OR(G300=Sprache!$C$19,G300=Sprache!$D$19),H300,0)+IF(OR(E300=Sprache!$C$20,E300=Sprache!$D$20),F300,0)+IF(OR(G300=Sprache!$C$20,G300=Sprache!$D$20),H300,0)","v":0},{"$f":"IF(OR(E300=Sprache!$C$21,E300=Sprache!$D$21),F300,0)+IF(OR(G300=Sprache!$C$21,G300=Sprache!$D$21),H300,0)","v":0},{"$f":"IF(OR(E300=Sprache!$C$22,E300=Sprache!$D$22),F300,0)+IF(OR(G300=Sprache!$C$22,G300=Sprache!$D$22),H300,0)","v":0},{"$f":"IF(OR(E300=Sprache!$C$23,E300=Sprache!$D$23),F300,0)+IF(OR(G300=Sprache!$C$23,G300=Sprache!$D$23),H300,0)","v":0},{"$f":"IF(OR(E300=Sprache!$C$24,E300=Sprache!$D$24),F300,0)+IF(OR(G300=Sprache!$C$24,G300=Sprache!$D$24),H300,0)","v":0},0,0,"",null,null,null,0,null,null,"",null,{"$f":"IF(B300<>\"\",HYPERLINK($AB$9&AA300,Sprache!$E$25 &\" \"&B300),\"\")","v":""},null,287,{"$f":"Eingabemeldung(Sprache!$E$18,Sprache!$E$17,'Formular C'!E300)","v":{"$error":"#VALUE!"}},{"$f":"Eingabemeldung(Sprache!$E$18,Sprache!$E$17,'Formular C'!G300)","v":{"$error":"#VALUE!"}},false,0,{"$f":"IF(W300<Parameter!$C$4,1,0)","v":0}]
[null,null,null,null,null,null,null,null,{"$f":"IF(OR(E301=Sprache!$C$19,E301=Sprache!$D$19),F301,0)+IF(OR(G301=Sprache!$C$19,G301=Sprache!$D$19),H301,0)+IF(OR(E301=Sprache!$C$20,E301=Sprache!$D$20),F301,0)+IF(OR(G301=Sprache!$C$20,G301=Sprache!$D$20),H301,0)","v":0},{"$f":"IF(OR(E301=Sprache!$C$21,E301=Sprache!$D$21),F301,0)+IF(OR(G301=Sprache!$C$21,G301=Sprache!$D$21),H301,0)","v":0},{"$f":"IF(OR(E301=Sprache!$C$22,E301=Sprache!$D$22),F301,0)+IF(OR(G301=Sprache!$C$22,G301=Sprache!$D$22),H301,0)","v":0},{"$f":"IF(OR(E301=Sprache!$C$23,E301=Sprache!$D$23),F301,0)+IF(OR(G301=Sprache!$C$23,G301=Sprache!$D$23),H301,0)","v":0},{"$f":"IF(OR(E301=Sprache!$C$24,E301=Sprache!$D$24),F301,0)+IF(OR(G301=Sprache!$C$24,G301=Sprache!$D$24),H301,0)","v":0},0,0,"",null,null,null,0,null,null,"",null,{"$f":"IF(B301<>\"\",HYPERLINK($AB$9&AA301,Sprache!$E$25 &\" \"&B301),\"\")","v":""},null,288,{"$f":"Eingabemeldung(Sprache!$E$18,Sprache!$E$17,'Formular C'!E301)","v":{"$error":"#VALUE!"}},{"$f":"Eingabemeldung(Sprache!$E$18,Sprache!$E$17,'Formular C'!G301)","v":{"$error":"#VALUE!"}},false,0,{"$f":"IF(W301<Parameter!$C$4,1,0)","v":0}]
[null,null,null,null,null,null,null,null,{"$f":"IF(OR(E302=Sprache!$C$19,E302=Sprache!$D$19),F302,0)+IF(OR(G302=Sprache!$C$19,G302=Sprache!$D$19),H302,0)+IF(OR(E302=Sprache!$C$20,E302=Sprache!$D$20),F302,0)+IF(OR(G302=Sprache!$C$20,G302=Sprache!$D$20),H302,0)","v":0},{"$f":"IF(OR(E302=Sprache!$C$21,E302=Sprache!$D$21),F302,0)+IF(OR(G302=Sprache!$C$21,G302=Sprache!$D$21),H302,0)","v":0},{"$f":"IF(OR(E302=Sprache!$C$22,E302=Sprache!$D$22),F302,0)+IF(OR(G302=Sprache!$C$22,G302=Sprache!$D$22),H302,0)","v":0},{"$f":"IF(OR(E302=Sprache!$C$23,E302=Sprache!$D$23),F302,0)+IF(OR(G302=Sprache!$C$23,G302=Sprache!$D$23),H302,0)","v":0},{"$f":"IF(OR(E302=Sprache!$C$24,E302=Sprache!$D$24),F302,0)+IF(OR(G302=Sprache!$C$24,G302=Sprache!$D$24),H302,0)","v":0},0,0,"",null,null,null,0,null,null,"",null,{"$f":"IF(B302<>\"\",HYPERLINK($AB$9&AA302,Sprache!$E$25 &\" \"&B302),\"\")","v":""},null,289,{"$f":"Eingabemeldung(Sprache!$E$18,Sprache!$E$17,'Formular C'!E302)","v":{"$error":"#VALUE!"}},{"$f":"Eingabemeldung(Sprache!$E$18,Sprache!$E$17,'Formular C'!G302)","v":{"$error":"#VALUE!"}},false,0,{"$f":"IF(W302<Parameter!$C$4,1,0)","v":0}]
[null,null,null,null,null,null,null,null,{"$f":"IF(OR(E303=Sprache!$C$19,E303=Sprache!$D$19),F303,0)+IF(OR(G303=Sprache!$C$19,G303=Sprache!$D$19),H303,0)+IF(OR(E303=Sprache!$C$20,E303=Sprache!$D$20),F303,0)+IF(OR(G303=Sprache!$C$20,G303=Sprache!$D$20),H303,0)","v":0},{"$f":"IF(OR(E303=Sprache!$C$21,E303=Sprache!$D$21),F303,0)+IF(OR(G303=Sprache!$C$21,G303=Sprache!$D$21),H303,0)","v":0},{"$f":"IF(OR(E303=Sprache!$C$22,E303=Sprache!$D$22),F303,0)+IF(OR(G303=Sprache!$C$22,G303=Sprache!$D$22),H303,0)","v":0},{"$f":"IF(OR(E303=Sprache!$C$23,E303=Sprache!$D$23),F303,0)+IF(OR(G303=Sprache!$C$23,G303=Sprache!$D$23),H303,0)","v":0},{"$f":"IF(OR(E303=Sprache!$C$24,E303=Sprache!$D$24),F303,0)+IF(OR(G303=Sprache!$C$24,G303=Sprache!$D$24),H303,0)","v":0},0,0,"",null,null,null,0,null,null,"",null,{"$f":"IF(B303<>\"\",HYPERLINK($AB$9&AA303,Sprache!$E$25 &\" \"&B303),\"\")","v":""},null,290,{"$f":"Eingabemeldung(Sprache!$E$18,Sprache!$E$17,'Formular C'!E303)","v":{"$error":"#VALUE!"}},{"$f":"Eingabemeldung(Sprache!$E$18,Sprache!$E$17,'Formular C'!G303)","v":{"$error":"#VALUE!"}},false,0,{"$f":"IF(W303<Parameter!$C$4,1,0)","v":0}]
[null,null,null,null,null,null,null,null,{"$f":"IF(OR(E304=Sprache!$C$19,E304=Sprache!$D$19),F304,0)+IF(OR(G304=Sprache!$C$19,G304=Sprache!$D$19),H304,0)+IF(OR(E304=Sprache!$C$20,E304=Sprache!$D$20),F304,0)+IF(OR(G304=Sprache!$C$20,G304=Sprache!$D$20),H304,0)","v":0},{"$f":"IF(OR(E304=Sprache!$C$21,E304=Sprache!$D$21),F304,0)+IF(OR(G304=Sprache!$C$21,G304=Sprache!$D$21),H304,0)","v":0},{"$f":"IF(OR(E304=Sprache!$C$22,E304=Sprache!$D$22),F304,0)+IF(OR(G304=Sprache!$C$22,G304=Sprache!$D$22),H304,0)","v":0},{"$f":"IF(OR(E304=Sprache!$C$23,E304=Sprache!$D$23),F304,0)+IF(OR(G304=Sprache!$C$23,G304=Sprache!$D$23),H304,0)","v":0},{"$f":"IF(OR(E304=Sprache!$C$24,E304=Sprache!$D$24),F304,0)+IF(OR(G304=Sprache!$C$24,G304=Sprache!$D$24),H304,0)","v":0},0,0,"",null,null,null,0,null,null,"",null,{"$f":"IF(B304<>\"\",HYPERLINK($AB$9&AA304,Sprache!$E$25 &\" \"&B304),\"\")","v":""},null,291,{"$f":"Eingabemeldung(Sprache!$E$18,Sprache!$E$17,'Formular C'!E304)","v":{"$error":"#VALUE!"}},{"$f":"Eingabemeldung(Sprache!$E$18,Sprache!$E$17,'Formular C'!G304)","v":{"$error":"#VALUE!"}},false,0,{"$f":"IF(W304<Parameter!$C$4,1,0)","v":0}]
[null,null,null,null,null,null,null,null,{"$f":"IF(OR(E305=Sprache!$C$19,E305=Sprache!$D$19),F305,0)+IF(OR(G305=Sprache!$C$19,G305=Sprache!$D$19),H305,0)+IF(OR(E305=Sprache!$C$20,E305=Sprache!$D$20),F305,0)+IF(OR(G305=Sprache!$C$20,G305=Sprache!$D$20),H305,0)","v":0},{"$f":"IF(OR(E305=Sprache!$C$21,E305=Sprache!$D$21),F305,0)+IF(OR(G305=Sprache!$C$21,G305=Sprache!$D$21),H305,0)","v":0},{"$f":"IF(OR(E305=Sprache!$C$22,E305=Sprache!$D$22),F305,0)+IF(OR(G305=Sprache!$C$22,G305=Sprache!$D$22),H305,0)","v":0},{"$f":"IF(OR(E305=Sprache!$C$23,E305=Sprache!$D$23),F305,0)+IF(OR(G305=Sprache!$C$23,G305=Sprache!$D$23),H305,0)","v":0},{"$f":"IF(OR(E305=Sprache!$C$24,E305=Sprache!$D$24),F305,0)+IF(OR(G305=Sprache!$C$24,G305=Sprache!$D$24),H305,0)","v":0},0,0,"",null,null,null,0,null,null,"",null,{"$f":"IF(B305<>\"\",HYPERLINK($AB$9&AA305,Sprache!$E$25 &\" \"&B305),\"\")","v":""},null,292,{"$f":"Eingabemeldung(Sprache!$E$18,Sprache!$E$17,'Formular C'!E305)","v":{"$error":"#VALUE!"}},{"$f":"Eingabemeldung(Sprache!$E$18,Sprache!$E$17,'Formular C'!G305)","v":{"$error":"#VALUE!"}},false,0,{"$f":"IF(W305<Parameter!$C$4,1,0)","v":0}]
[null,null,null,null,null,null,null,null,{"$f":"IF(OR(E306=Sprache!$C$19,E306=Sprache!$D$19),F306,0)+IF(OR(G306=Sprache!$C$19,G306=Sprache!$D$19),H306,0)+IF(OR(E306=Sprache!$C$20,E306=Sprache!$D$20),F306,0)+IF(OR(G306=Sprache!$C$20,G306=Sprache!$D$20),H306,0)","v":0},{"$f":"IF(OR(E306=Sprache!$C$21,E306=Sprache!$D$21),F306,0)+IF(OR(G306=Sprache!$C$21,G306=Sprache!$D$21),H306,0)","v":0},{"$f":"IF(OR(E306=Sprache!$C$22,E306=Sprache!$D$22),F306,0)+IF(OR(G306=Sprache!$C$22,G306=Sprache!$D$22),H306,0)","v":0},{"$f":"IF(OR(E306=Sprache!$C$23,E306=Sprache!$D$23),F306,0)+IF(OR(G306=Sprache!$C$23,G306=Sprache!$D$23),H306,0)","v":0},{"$f":"IF(OR(E306=Sprache!$C$24,E306=Sprache!$D$24),F306,0)+IF(OR(G306=Sprache!$C$24,G306=Sprache!$D$24),H306,0)","v":0},0,0,"",null,null,null,0,null,null,"",null,{"$f":"IF(B306<>\"\",HYPERLINK($AB$9&AA306,Sprache!$E$25 &\" \"&B306),\"\")","v":""},null,293,{"$f":"Eingabemeldung(Sprache!$E$18,Sprache!$E$17,'Formular C'!E306)","v":{"$error":"#VALUE!"}},{"$f":"Eingabemeldung(Sprache!$E$18,Sprache!$E$17,'Formular C'!G306)","v":{"$error":"#VALUE!"}},false,0,{"$f":"IF(W306<Parameter!$C$4,1,0)","v":0}]
[null,null,null,null,null,null,null,null,{"$f":"IF(OR(E307=Sprache!$C$19,E307=Sprache!$D$19),F307,0)+IF(OR(G307=Sprache!$C$19,G307=Sprache!$D$19),H307,0)+IF(OR(E307=Sprache!$C$20,E307=Sprache!$D$20),F307,0)+IF(OR(G307=Sprache!$C$20,G307=Sprache!$D$20),H307,0)","v":0},{"$f":"IF(OR(E307=Sprache!$C$21,E307=Sprache!$D$21),F307,0)+IF(OR(G307=Sprache!$C$21,G307=Sprache!$D$21),H307,0)","v":0},{"$f":"IF(OR(E307=Sprache!$C$22,E307=Sprache!$D$22),F307,0)+IF(OR(G307=Sprache!$C$22,G307=Sprache!$D$22),H307,0)","v":0},{"$f":"IF(OR(E307=Sprache!$C$23,E307=Sprache!$D$23),F307,0)+IF(OR(G307=Sprache!$C$23,G307=Sprache!$D$23),H307,0)","v":0},{"$f":"IF(OR(E307=Sprache!$C$24,E307=Sprache!$D$24),F307,0)+IF(OR(G307=Sprache!$C$24,G307=Sprache!$D$24),H307,0)","v":0},0,0,"",null,null,null,0,null,null,"",null,{"$f":"IF(B307<>\"\",HYPERLINK($AB$9&AA307,Sprache!$E$25 &\" \"&B307),\"\")","v":""},null,294,{"$f":"Eingabemeldung(Sprache!$E$18,Sprache!$E$17,'Formular C'!E307)","v":{"$error":"#VALUE!"}},{"$f":"Eingabemeldung(Sprache!$E$18,Sprache!$E$17,'Formular C'!G307)","v":{"$error":"#VALUE!"}},false,0,{"$f":"IF(W307<Parameter!$C$4,1,0)","v":0}]
[null,null,null,null,null,null,null,null,{"$f":"IF(OR(E308=Sprache!$C$19,E308=Sprache!$D$19),F308,0)+IF(OR(G308=Sprache!$C$19,G308=Sprache!$D$19),H308,0)+IF(OR(E308=Sprache!$C$20,E308=Sprache!$D$20),F308,0)+IF(OR(G308=Sprache!$C$20,G308=Sprache!$D$20),H308,0)","v":0},{"$f":"IF(OR(E308=Sprache!$C$21,E308=Sprache!$D$21),F308,0)+IF(OR(G308=Sprache!$C$21,G308=Sprache!$D$21),H308,0)","v":0},{"$f":"IF(OR(E308=Sprache!$C$22,E308=Sprache!$D$22),F308,0)+IF(OR(G308=Sprache!$C$22,G308=Sprache!$D$22),H308,0)","v":0},{"$f":"IF(OR(E308=Sprache!$C$23,E308=Sprache!$D$23),F308,0)+IF(OR(G308=Sprache!$C$23,G308=Sprache!$D$23),H308,0)","v":0},{"$f":"IF(OR(E308=Sprache!$C$24,E308=Sprache!$D$24),F308,0)+IF(OR(G308=Sprache!$C$24,G308=Sprache!$D$24),H308,0)","v":0},0,0,"",null,null,null,0,null,null,"",null,{"$f":"IF(B308<>\"\",HYPERLINK($AB$9&AA308,Sprache!$E$25 &\" \"&B308),\"\")","v":""},null,295,{"$f":"Eingabemeldung(Sprache!$E$18,Sprache!$E$17,'Formular C'!E308)","v":{"$error":"#VALUE!"}},{"$f":"Eingabemeldung(Sprache!$E$18,Sprache!$E$17,'Formular C'!G308)","v":{"$error":"#VALUE!"}},false,0,{"$f":"IF(W308<Parameter!$C$4,1,0)","v":0}]
[null,null,null,null,null,null,null,null,{"$f":"IF(OR(E309=Sprache!$C$19,E309=Sprache!$D$19),F309,0)+IF(OR(G309=Sprache!$C$19,G309=Sprache!$D$19),H309,0)+IF(OR(E309=Sprache!$C$20,E309=Sprache!$D$20),F309,0)+IF(OR(G309=Sprache!$C$20,G309=Sprache!$D$20),H309,0)","v":0},{"$f":"IF(OR(E309=Sprache!$C$21,E309=Sprache!$D$21),F309,0)+IF(OR(G309=Sprache!$C$21,G309=Sprache!$D$21),H309,0)","v":0},{"$f":"IF(OR(E309=Sprache!$C$22,E309=Sprache!$D$22),F309,0)+IF(OR(G309=Sprache!$C$22,G309=Sprache!$D$22),H309,0)","v":0},{"$f":"IF(OR(E309=Sprache!$C$23,E309=Sprache!$D$23),F309,0)+IF(OR(G309=Sprache!$C$23,G309=Sprache!$D$23),H309,0)","v":0},{"$f":"IF(OR(E309=Sprache!$C$24,E309=Sprache!$D$24),F309,0)+IF(OR(G309=Sprache!$C$24,G309=Sprache!$D$24),H309,0)","v":0},0,0,"",null,null,null,0,null,null,"",null,{"$f":"IF(B309<>\"\",HYPERLINK($AB$9&AA309,Sprache!$E$25 &\" \"&B309),\"\")","v":""},null,296,{"$f":"Eingabemeldung(Sprache!$E$18,Sprache!$E$17,'Formular C'!E309)","v":{"$error":"#VALUE!"}},{"$f":"Eingabemeldung(Sprache!$E$18,Sprache!$E$17,'Formular C'!G309)","v":{"$error":"#VALUE!"}},false,0,{"$f":"IF(W309<Parameter!$C$4,1,0)","v":0}]
[null,null,null,null,null,null,null,null,{"$f":"IF(OR(E310=Sprache!$C$19,E310=Sprache!$D$19),F310,0)+IF(OR(G310=Sprache!$C$19,G310=Sprache!$D$19),H310,0)+IF(OR(E310=Sprache!$C$20,E310=Sprache!$D$20),F310,0)+IF(OR(G310=Sprache!$C$20,G310=Sprache!$D$20),H310,0)","v":0},{"$f":"IF(OR(E310=Sprache!$C$21,E310=Sprache!$D$21),F310,0)+IF(OR(G310=Sprache!$C$21,G310=Sprache!$D$21),H310,0)","v":0},{"$f":"IF(OR(E310=Sprache!$C$22,E310=Sprache!$D$22),F310,0)+IF(OR(G310=Sprache!$C$22,G310=Sprache!$D$22),H310,0)","v":0},{"$f":"IF(OR(E310=Sprache!$C$23,E310=Sprache!$D$23),F310,0)+IF(OR(G310=Sprache!$C$23,G310=Sprache!$D$23),H310,0)","v":0},{"$f":"IF(OR(E310=Sprache!$C$24,E310=Sprache!$D$24),F310,0)+IF(OR(G310=Sprache!$C$24,G310=Sprache!$D$24),H310,0)","v":0},0,0,"",null,null,null,0,null,null,"",null,{"$f":"IF(B310<>\"\",HYPERLINK($AB$9&AA310,Sprache!$E$25 &\" \"&B310),\"\")","v":""},null,297,{"$f":"Eingabemeldung(Sprache!$E$18,Sprache!$E$17,'Formular C'!E310)","v":{"$error":"#VALUE!"}},{"$f":"Eingabemeldung(Sprache!$E$18,Sprache!$E$17,'Formular C'!G310)","v":{"$error":"#VALUE!"}},false,0,{"$f":"IF(W310<Parameter!$C$4,1,0)","v":0}]
[null,null,null,null,null,null,null,null,{"$f":"IF(OR(E311=Sprache!$C$19,E311=Sprache!$D$19),F311,0)+IF(OR(G311=Sprache!$C$19,G311=Sprache!$D$19),H311,0)+IF(OR(E311=Sprache!$C$20,E311=Sprache!$D$20),F311,0)+IF(OR(G311=Sprache!$C$20,G311=Sprache!$D$20),H311,0)","v":0},{"$f":"IF(OR(E311=Sprache!$C$21,E311=Sprache!$D$21),F311,0)+IF(OR(G311=Sprache!$C$21,G311=Sprache!$D$21),H311,0)","v":0},{"$f":"IF(OR(E311=Sprache!$C$22,E311=Sprache!$D$22),F311,0)+IF(OR(G311=Sprache!$C$22,G311=Sprache!$D$22),H311,0)","v":0},{"$f":"IF(OR(E311=Sprache!$C$23,E311=Sprache!$D$23),F311,0)+IF(OR(G311=Sprache!$C$23,G311=Sprache!$D$23),H311,0)","v":0},{"$f":"IF(OR(E311=Sprache!$C$24,E311=Sprache!$D$24),F311,0)+IF(OR(G311=Sprache!$C$24,G311=Sprache!$D$24),H311,0)","v":0},0,0,"",null,null,null,0,null,null,"",null,{"$f":"IF(B311<>\"\",HYPERLINK($AB$9&AA311,Sprache!$E$25 &\" \"&B311),\"\")","v":""},null,298,{"$f":"Eingabemeldung(Sprache!$E$18,Sprache!$E$17,'Formular C'!E311)","v":{"$error":"#VALUE!"}},{"$f":"Eingabemeldung(Sprache!$E$18,Sprache!$E$17,'Formular C'!G311)","v":{"$error":"#VALUE!"}},false,0,{"$f":"IF(W311<Parameter!$C$4,1,0)","v":0}]
[null,null,null,null,null,null,null,null,{"$f":"IF(OR(E312=Sprache!$C$19,E312=Sprache!$D$19),F312,0)+IF(OR(G312=Sprache!$C$19,G312=Sprache!$D$19),H312,0)+IF(OR(E312=Sprache!$C$20,E312=Sprache!$D$20),F312,0)+IF(OR(G312=Sprache!$C$20,G312=Sprache!$D$20),H312,0)","v":0},{"$f":"IF(OR(E312=Sprache!$C$21,E312=Sprache!$D$21),F312,0)+IF(OR(G312=Sprache!$C$21,G312=Sprache!$D$21),H312,0)","v":0},{"$f":"IF(OR(E312=Sprache!$C$22,E312=Sprache!$D$22),F312,0)+IF(OR(G312=Sprache!$C$22,G312=Sprache!$D$22),H312,0)","v":0},{"$f":"IF(OR(E312=Sprache!$C$23,E312=Sprache!$D$23),F312,0)+IF(OR(G312=Sprache!$C$23,G312=Sprache!$D$23),H312,0)","v":0},{"$f":"IF(OR(E312=Sprache!$C$24,E312=Sprache!$D$24),F312,0)+IF(OR(G312=Sprache!$C$24,G312=Sprache!$D$24),H312,0)","v":0},0,0,"",null,null,null,0,null,null,"",null,{"$f":"IF(B312<>\"\",HYPERLINK($AB$9&AA312,Sprache!$E$25 &\" \"&B312),\"\")","v":""},null,299,{"$f":"Eingabemeldung(Sprache!$E$18,Sprache!$E$17,'Formular C'!E312)","v":{"$error":"#VALUE!"}},{"$f":"Eingabemeldung(Sprache!$E$18,Sprache!$E$17,'Formular C'!G312)","v":{"$error":"#VALUE!"}},false,0,{"$f":"IF(W312<Parameter!$C$4,1,0)","v":0}]
[null,null,null,null,null,null,null,null,{"$f":"IF(OR(E313=Sprache!$C$19,E313=Sprache!$D$19),F313,0)+IF(OR(G313=Sprache!$C$19,G313=Sprache!$D$19),H313,0)+IF(OR(E313=Sprache!$C$20,E313=Sprache!$D$20),F313,0)+IF(OR(G313=Sprache!$C$20,G313=Sprache!$D$20),H313,0)","v":0},{"$f":"IF(OR(E313=Sprache!$C$21,E313=Sprache!$D$21),F313,0)+IF(OR(G313=Sprache!$C$21,G313=Sprache!$D$21),H313,0)","v":0},{"$f":"IF(OR(E313=Sprache!$C$22,E313=Sprache!$D$22),F313,0)+IF(OR(G313=Sprache!$C$22,G313=Sprache!$D$22),H313,0)","v":0},{"$f":"IF(OR(E313=Sprache!$C$23,E313=Sprache!$D$23),F313,0)+IF(OR(G313=Sprache!$C$23,G313=Sprache!$D$23),H313,0)","v":0},{"$f":"IF(OR(E313=Sprache!$C$24,E313=Sprache!$D$24),F313,0)+IF(OR(G313=Sprache!$C$24,G313=Sprache!$D$24),H313,0)","v":0},0,0,"",null,null,null,0,null,null,"",null,{"$f":"IF(B313<>\"\",HYPERLINK($AB$9&AA313,Sprache!$E$25 &\" \"&B313),\"\")","v":""},null,300,{"$f":"Eingabemeldung(Sprache!$E$18,Sprache!$E$17,'Formular C'!E313)","v":{"$error":"#VALUE!"}},{"$f":"Eingabemeldung(Sprache!$E$18,Sprache!$E$17,'Formular C'!G313)","v":{"$error":"#VALUE!"}},false,0,{"$f":"IF(W313<Parameter!$C$4,1,0)","v":0}]
[null,null,null,null,null,null,null,null,{"$f":"IF(OR(E314=Sprache!$C$19,E314=Sprache!$D$19),F314,0)+IF(OR(G314=Sprache!$C$19,G314=Sprache!$D$19),H314,0)+IF(OR(E314=Sprache!$C$20,E314=Sprache!$D$20),F314,0)+IF(OR(G314=Sprache!$C$20,G314=Sprache!$D$20),H314,0)","v":0},{"$f":"IF(OR(E314=Sprache!$C$21,E314=Sprache!$D$21),F314,0)+IF(OR(G314=Sprache!$C$21,G314=Sprache!$D$21),H314,0)","v":0},{"$f":"IF(OR(E314=Sprache!$C$22,E314=Sprache!$D$22),F314,0)+IF(OR(G314=Sprache!$C$22,G314=Sprache!$D$22),H314,0)","v":0},{"$f":"IF(OR(E314=Sprache!$C$23,E314=Sprache!$D$23),F314,0)+IF(OR(G314=Sprache!$C$23,G314=Sprache!$D$23),H314,0)","v":0},{"$f":"IF(OR(E314=Sprache!$C$24,E314=Sprache!$D$24),F314,0)+IF(OR(G314=Sprache!$C$24,G314=Sprache!$D$24),H314,0)","v":0},0,0,"",null,null,null,0,null,null,"",null,{"$f":"IF(B314<>\"\",HYPERLINK($AB$9&AA314,Sprache!$E$25 &\" \"&B314),\"\")","v":""},null,301,{"$f":"Eingabemeldung(Sprache!$E$18,Sprache!$E$17,'Formular C'!E314)","v":{"$error":"#VALUE!"}},{"$f":"Eingabemeldung(Sprache!$E$18,Sprache!$E$17,'Formular C'!G314)","v":{"$error":"#VALUE!"}},false,0,{"$f":"IF(W314<Parameter!$C$4,1,0)","v":0}]
[null,null,null,null,null,null,null,null,{"$f":"IF(OR(E315=Sprache!$C$19,E315=Sprache!$D$19),F315,0)+IF(OR(G315=Sprache!$C$19,G315=Sprache!$D$19),H315,0)+IF(OR(E315=Sprache!$C$20,E315=Sprache!$D$20),F315,0)+IF(OR(G315=Sprache!$C$20,G315=Sprache!$D$20),H315,0)","v":0},{"$f":"IF(OR(E315=Sprache!$C$21,E315=Sprache!$D$21),F315,0)+IF(OR(G315=Sprache!$C$21,G315=Sprache!$D$21),H315,0)","v":0},{"$f":"IF(OR(E315=Sprache!$C$22,E315=Sprache!$D$22),F315,0)+IF(OR(G315=Sprache!$C$22,G315=Sprache!$D$22),H315,0)","v":0},{"$f":"IF(OR(E315=Sprache!$C$23,E315=Sprache!$D$23),F315,0)+IF(OR(G315=Sprache!$C$23,G315=Sprache!$D$23),H315,0)","v":0},{"$f":"IF(OR(E315=Sprache!$C$24,E315=Sprache!$D$24),F315,0)+IF(OR(G315=Sprache!$C$24,G315=Sprache!$D$24),H315,0)","v":0},0,0,"",null,null,null,0,null,null,"",null,{"$f":"IF(B315<>\"\",HYPERLINK($AB$9&AA315,Sprache!$E$25 &\" \"&B315),\"\")","v":""},null,302,{"$f":"Eingabemeldung(Sprache!$E$18,Sprache!$E$17,'Formular C'!E315)","v":{"$error":"#VALUE!"}},{"$f":"Eingabemeldung(Sprache!$E$18,Sprache!$E$17,'Formular C'!G315)","v":{"$error":"#VALUE!"}},false,0,{"$f":"IF(W315<Parameter!$C$4,1,0)","v":0}]
[null,null,null,null,null,null,null,null,{"$f":"IF(OR(E316=Sprache!$C$19,E316=Sprache!$D$19),F316,0)+IF(OR(G316=Sprache!$C$19,G316=Sprache!$D$19),H316,0)+IF(OR(E316=Sprache!$C$20,E316=Sprache!$D$20),F316,0)+IF(OR(G316=Sprache!$C$20,G316=Sprache!$D$20),H316,0)","v":0},{"$f":"IF(OR(E316=Sprache!$C$21,E316=Sprache!$D$21),F316,0)+IF(OR(G316=Sprache!$C$21,G316=Sprache!$D$21),H316,0)","v":0},{"$f":"IF(OR(E316=Sprache!$C$22,E316=Sprache!$D$22),F316,0)+IF(OR(G316=Sprache!$C$22,G316=Sprache!$D$22),H316,0)","v":0},{"$f":"IF(OR(E316=Sprache!$C$23,E316=Sprache!$D$23),F316,0)+IF(OR(G316=Sprache!$C$23,G316=Sprache!$D$23),H316,0)","v":0},{"$f":"IF(OR(E316=Sprache!$C$24,E316=Sprache!$D$24),F316,0)+IF(OR(G316=Sprache!$C$24,G316=Sprache!$D$24),H316,0)","v":0},{"$f":"F316+H316","v":0},{"$f":"GFÖG*I316+GFF*J316+GFH*K316+GFW*L316+GFE*M316","v":0},"",null,null,null,{"$f":"(F316*R316)+(H316*S316)","v":0},null,null,"",null,{"$f":"IF(B316<>\"\",HYPERLINK($AB$9&AA316,Sprache!$E$25 &\" \"&B316),\"\")","v":""},null,303,{"$f":"Eingabemeldung(Sprache!$E$18,Sprache!$E$17,'Formular C'!E316)","v":{"$error":"#VALUE!"}},{"$f":"Eingabemeldung(Sprache!$E$18,Sprache!$E$17,'Formular C'!G316)","v":{"$error":"#VALUE!"}},{"$f":"ISNUMBER(Q316)","v":false},{"$f":"IF(X316=\"X\",1,0)","v":0},{"$f":"IF(W316<Parameter!$C$4,1,0)","v":0}]
[null,null,null,null,null,null,null,null,{"$f":"IF(OR(E317=Sprache!$C$19,E317=Sprache!$D$19),F317,0)+IF(OR(G317=Sprache!$C$19,G317=Sprache!$D$19),H317,0)+IF(OR(E317=Sprache!$C$20,E317=Sprache!$D$20),F317,0)+IF(OR(G317=Sprache!$C$20,G317=Sprache!$D$20),H317,0)","v":0},{"$f":"IF(OR(E317=Sprache!$C$21,E317=Sprache!$D$21),F317,0)+IF(OR(G317=Sprache!$C$21,G317=Sprache!$D$21),H317,0)","v":0},{"$f":"IF(OR(E317=Sprache!$C$22,E317=Sprache!$D$22),F317,0)+IF(OR(G317=Sprache!$C$22,G317=Sprache!$D$22),H317,0)","v":0},{"$f":"IF(OR(E317=Sprache!$C$23,E317=Sprache!$D$23),F317,0)+IF(OR(G317=Sprache!$C$23,G317=Sprache!$D$23),H317,0)","v":0},{"$f":"IF(OR(E317=Sprache!$C$24,E317=Sprache!$D$24),F317,0)+IF(OR(G317=Sprache!$C$24,G317=Sprache!$D$24),H317,0)","v":0},0,0,{"$f":"IFERROR(O317/$H$239,\"\")","v":""},null,null,null,0,null,null,{"$f":"IF(T317=0, \"\",U317*V317/T317)","v":""},null,{"$f":"IF(B317<>\"\",HYPERLINK($AB$9&AA317,Sprache!$E$25 &\" \"&B317),\"\")","v":""},null,304,{"$f":"Eingabemeldung(Sprache!$E$18,Sprache!$E$17,'Formular C'!E317)","v":{"$error":"#VALUE!"}},{"$f":"Eingabemeldung(Sprache!$E$18,Sprache!$E$17,'Formular C'!G317)","v":{"$error":"#VALUE!"}},false,0,{"$f":"IF(W317<Parameter!$C$4,1,0)","v":0}]
[null,null,null,null,null,null,null,null,{"$f":"IF(OR(E318=Sprache!$C$19,E318=Sprache!$D$19),F318,0)+IF(OR(G318=Sprache!$C$19,G318=Sprache!$D$19),H318,0)+IF(OR(E318=Sprache!$C$20,E318=Sprache!$D$20),F318,0)+IF(OR(G318=Sprache!$C$20,G318=Sprache!$D$20),H318,0)","v":0},{"$f":"IF(OR(E318=Sprache!$C$21,E318=Sprache!$D$21),F318,0)+IF(OR(G318=Sprache!$C$21,G318=Sprache!$D$21),H318,0)","v":0},{"$f":"IF(OR(E318=Sprache!$C$22,E318=Sprache!$D$22),F318,0)+IF(OR(G318=Sprache!$C$22,G318=Sprache!$D$22),H318,0)","v":0},{"$f":"IF(OR(E318=Sprache!$C$23,E318=Sprache!$D$23),F318,0)+IF(OR(G318=Sprache!$C$23,G318=Sprache!$D$23),H318,0)","v":0},{"$f":"IF(OR(E318=Sprache!$C$24,E318=Sprache!$D$24),F318,0)+IF(OR(G318=Sprache!$C$24,G318=Sprache!$D$24),H318,0)","v":0},0,0,"",null,null,null,0,null,null,"",null,{"$f":"IF(B318<>\"\",HYPERLINK($AB$9&AA318,Sprache!$E$25 &\" \"&B318),\"\")","v":""},null,305,{"$f":"Eingabemeldung(Sprache!$E$18,Sprache!$E$17,'Formular C'!E318)","v":{"$error":"#VALUE!"}},{"$f":"Eingabemeldung(Sprache!$E$18,Sprache!$E$17,'Formular C'!G318)","v":{"$error":"#VALUE!"}},false,0,{"$f":"IF(W318<Parameter!$C$4,1,0)","v":0}]
[null,null,null,null,null,null,null,null,{"$f":"IF(OR(E319=Sprache!$C$19,E319=Sprache!$D$19),F319,0)+IF(OR(G319=Sprache!$C$19,G319=Sprache!$D$19),H319,0)+IF(OR(E319=Sprache!$C$20,E319=Sprache!$D$20),F319,0)+IF(OR(G319=Sprache!$C$20,G319=Sprache!$D$20),H319,0)","v":0},{"$f":"IF(OR(E319=Sprache!$C$21,E319=Sprache!$D$21),F319,0)+IF(OR(G319=Sprache!$C$21,G319=Sprache!$D$21),H319,0)","v":0},{"$f":"IF(OR(E319=Sprache!$C$22,E319=Sprache!$D$22),F319,0)+IF(OR(G319=Sprache!$C$22,G319=Sprache!$D$22),H319,0)","v":0},{"$f":"IF(OR(E319=Sprache!$C$23,E319=Sprache!$D$23),F319,0)+IF(OR(G319=Sprache!$C$23,G319=Sprache!$D$23),H319,0)","v":0},{"$f":"IF(OR(E319=Sprache!$C$24,E319=Sprache!$D$24),F319,0)+IF(OR(G319=Sprache!$C$24,G319=Sprache!$D$24),H319,0)","v":0},0,0,"",null,null,null,0,null,null,"",null,{"$f":"IF(B319<>\"\",HYPERLINK($AB$9&AA319,Sprache!$E$25 &\" \"&B319),\"\")","v":""},null,306,{"$f":"Eingabemeldung(Sprache!$E$18,Sprache!$E$17,'Formular C'!E319)","v":{"$error":"#VALUE!"}},{"$f":"Eingabemeldung(Sprache!$E$18,Sprache!$E$17,'Formular C'!G319)","v":{"$error":"#VALUE!"}},false,0,{"$f":"IF(W319<Parameter!$C$4,1,0)","v":0}]
[null,null,null,null,null,null,null,null,{"$f":"IF(OR(E320=Sprache!$C$19,E320=Sprache!$D$19),F320,0)+IF(OR(G320=Sprache!$C$19,G320=Sprache!$D$19),H320,0)+IF(OR(E320=Sprache!$C$20,E320=Sprache!$D$20),F320,0)+IF(OR(G320=Sprache!$C$20,G320=Sprache!$D$20),H320,0)","v":0},{"$f":"IF(OR(E320=Sprache!$C$21,E320=Sprache!$D$21),F320,0)+IF(OR(G320=Sprache!$C$21,G320=Sprache!$D$21),H320,0)","v":0},{"$f":"IF(OR(E320=Sprache!$C$22,E320=Sprache!$D$22),F320,0)+IF(OR(G320=Sprache!$C$22,G320=Sprache!$D$22),H320,0)","v":0},{"$f":"IF(OR(E320=Sprache!$C$23,E320=Sprache!$D$23),F320,0)+IF(OR(G320=Sprache!$C$23,G320=Sprache!$D$23),H320,0)","v":0},{"$f":"IF(OR(E320=Sprache!$C$24,E320=Sprache!$D$24),F320,0)+IF(OR(G320=Sprache!$C$24,G320=Sprache!$D$24),H320,0)","v":0},0,0,"",null,null,null,0,null,null,"",null,{"$f":"IF(B320<>\"\",HYPERLINK($AB$9&AA320,Sprache!$E$25 &\" \"&B320),\"\")","v":""},null,307,{"$f":"Eingabemeldung(Sprache!$E$18,Sprache!$E$17,'Formular C'!E320)","v":{"$error":"#VALUE!"}},{"$f":"Eingabemeldung(Sprache!$E$18,Sprache!$E$17,'Formular C'!G320)","v":{"$error":"#VALUE!"}},false,0,{"$f":"IF(W320<Parameter!$C$4,1,0)","v":0}]
[null,null,null,null,null,null,null,null,{"$f":"IF(OR(E321=Sprache!$C$19,E321=Sprache!$D$19),F321,0)+IF(OR(G321=Sprache!$C$19,G321=Sprache!$D$19),H321,0)+IF(OR(E321=Sprache!$C$20,E321=Sprache!$D$20),F321,0)+IF(OR(G321=Sprache!$C$20,G321=Sprache!$D$20),H321,0)","v":0},{"$f":"IF(OR(E321=Sprache!$C$21,E321=Sprache!$D$21),F321,0)+IF(OR(G321=Sprache!$C$21,G321=Sprache!$D$21),H321,0)","v":0},{"$f":"IF(OR(E321=Sprache!$C$22,E321=Sprache!$D$22),F321,0)+IF(OR(G321=Sprache!$C$22,G321=Sprache!$D$22),H321,0)","v":0},{"$f":"IF(OR(E321=Sprache!$C$23,E321=Sprache!$D$23),F321,0)+IF(OR(G321=Sprache!$C$23,G321=Sprache!$D$23),H321,0)","v":0},{"$f":"IF(OR(E321=Sprache!$C$24,E321=Sprache!$D$24),F321,0)+IF(OR(G321=Sprache!$C$24,G321=Sprache!$D$24),H321,0)","v":0},0,0,"",null,null,null,0,null,null,"",null,{"$f":"IF(B321<>\"\",HYPERLINK($AB$9&AA321,Sprache!$E$25 &\" \"&B321),\"\")","v":""},null,308,{"$f":"Eingabemeldung(Sprache!$E$18,Sprache!$E$17,'Formular C'!E321)","v":{"$error":"#VALUE!"}},{"$f":"Eingabemeldung(Sprache!$E$18,Sprache!$E$17,'Formular C'!G321)","v":{"$error":"#VALUE!"}},false,0,{"$f":"IF(W321<Parameter!$C$4,1,0)","v":0}]
[null,null,null,null,null,null,null,null,{"$f":"IF(OR(E322=Sprache!$C$19,E322=Sprache!$D$19),F322,0)+IF(OR(G322=Sprache!$C$19,G322=Sprache!$D$19),H322,0)+IF(OR(E322=Sprache!$C$20,E322=Sprache!$D$20),F322,0)+IF(OR(G322=Sprache!$C$20,G322=Sprache!$D$20),H322,0)","v":0},{"$f":"IF(OR(E322=Sprache!$C$21,E322=Sprache!$D$21),F322,0)+IF(OR(G322=Sprache!$C$21,G322=Sprache!$D$21),H322,0)","v":0},{"$f":"IF(OR(E322=Sprache!$C$22,E322=Sprache!$D$22),F322,0)+IF(OR(G322=Sprache!$C$22,G322=Sprache!$D$22),H322,0)","v":0},{"$f":"IF(OR(E322=Sprache!$C$23,E322=Sprache!$D$23),F322,0)+IF(OR(G322=Sprache!$C$23,G322=Sprache!$D$23),H322,0)","v":0},{"$f":"IF(OR(E322=Sprache!$C$24,E322=Sprache!$D$24),F322,0)+IF(OR(G322=Sprache!$C$24,G322=Sprache!$D$24),H322,0)","v":0},0,0,"",null,null,null,0,null,null,"",null,{"$f":"IF(B322<>\"\",HYPERLINK($AB$9&AA322,Sprache!$E$25 &\" \"&B322),\"\")","v":""},null,309,{"$f":"Eingabemeldung(Sprache!$E$18,Sprache!$E$17,'Formular C'!E322)","v":{"$error":"#VALUE!"}},{"$f":"Eingabemeldung(Sprache!$E$18,Sprache!$E$17,'Formular C'!G322)","v":{"$error":"#VALUE!"}},false,0,{"$f":"IF(W322<Parameter!$C$4,1,0)","v":0}]
[null,null,null,null,null,null,null,null,{"$f":"IF(OR(E323=Sprache!$C$19,E323=Sprache!$D$19),F323,0)+IF(OR(G323=Sprache!$C$19,G323=Sprache!$D$19),H323,0)+IF(OR(E323=Sprache!$C$20,E323=Sprache!$D$20),F323,0)+IF(OR(G323=Sprache!$C$20,G323=Sprache!$D$20),H323,0)","v":0},{"$f":"IF(OR(E323=Sprache!$C$21,E323=Sprache!$D$21),F323,0)+IF(OR(G323=Sprache!$C$21,G323=Sprache!$D$21),H323,0)","v":0},{"$f":"IF(OR(E323=Sprache!$C$22,E323=Sprache!$D$22),F323,0)+IF(OR(G323=Sprache!$C$22,G323=Sprache!$D$22),H323,0)","v":0},{"$f":"IF(OR(E323=Sprache!$C$23,E323=Sprache!$D$23),F323,0)+IF(OR(G323=Sprache!$C$23,G323=Sprache!$D$23),H323,0)","v":0},{"$f":"IF(OR(E323=Sprache!$C$24,E323=Sprache!$D$24),F323,0)+IF(OR(G323=Sprache!$C$24,G323=Sprache!$D$24),H323,0)","v":0},0,0,"",null,null,null,0,null,null,"",null,{"$f":"IF(B323<>\"\",HYPERLINK($AB$9&AA323,Sprache!$E$25 &\" \"&B323),\"\")","v":""},null,310,{"$f":"Eingabemeldung(Sprache!$E$18,Sprache!$E$17,'Formular C'!E323)","v":{"$error":"#VALUE!"}},{"$f":"Eingabemeldung(Sprache!$E$18,Sprache!$E$17,'Formular C'!G323)","v":{"$error":"#VALUE!"}},false,0,{"$f":"IF(W323<Parameter!$C$4,1,0)","v":0}]
[null,null,null,null,null,null,null,null,{"$f":"IF(OR(E324=Sprache!$C$19,E324=Sprache!$D$19),F324,0)+IF(OR(G324=Sprache!$C$19,G324=Sprache!$D$19),H324,0)+IF(OR(E324=Sprache!$C$20,E324=Sprache!$D$20),F324,0)+IF(OR(G324=Sprache!$C$20,G324=Sprache!$D$20),H324,0)","v":0},{"$f":"IF(OR(E324=Sprache!$C$21,E324=Sprache!$D$21),F324,0)+IF(OR(G324=Sprache!$C$21,G324=Sprache!$D$21),H324,0)","v":0},{"$f":"IF(OR(E324=Sprache!$C$22,E324=Sprache!$D$22),F324,0)+IF(OR(G324=Sprache!$C$22,G324=Sprache!$D$22),H324,0)","v":0},{"$f":"IF(OR(E324=Sprache!$C$23,E324=Sprache!$D$23),F324,0)+IF(OR(G324=Sprache!$C$23,G324=Sprache!$D$23),H324,0)","v":0},{"$f":"IF(OR(E324=Sprache!$C$24,E324=Sprache!$D$24),F324,0)+IF(OR(G324=Sprache!$C$24,G324=Sprache!$D$24),H324,0)","v":0},0,0,"",null,null,null,0,null,null,"",null,{"$f":"IF(B324<>\"\",HYPERLINK($AB$9&AA324,Sprache!$E$25 &\" \"&B324),\"\")","v":""},null,311,{"$f":"Eingabemeldung(Sprache!$E$18,Sprache!$E$17,'Formular C'!E324)","v":{"$error":"#VALUE!"}},{"$f":"Eingabemeldung(Sprache!$E$18,Sprache!$E$17,'Formular C'!G324)","v":{"$error":"#VALUE!"}},false,0,{"$f":"IF(W324<Parameter!$C$4,1,0)","v":0}]
[null,null,null,null,null,null,null,null,{"$f":"IF(OR(E325=Sprache!$C$19,E325=Sprache!$D$19),F325,0)+IF(OR(G325=Sprache!$C$19,G325=Sprache!$D$19),H325,0)+IF(OR(E325=Sprache!$C$20,E325=Sprache!$D$20),F325,0)+IF(OR(G325=Sprache!$C$20,G325=Sprache!$D$20),H325,0)","v":0},{"$f":"IF(OR(E325=Sprache!$C$21,E325=Sprache!$D$21),F325,0)+IF(OR(G325=Sprache!$C$21,G325=Sprache!$D$21),H325,0)","v":0},{"$f":"IF(OR(E325=Sprache!$C$22,E325=Sprache!$D$22),F325,0)+IF(OR(G325=Sprache!$C$22,G325=Sprache!$D$22),H325,0)","v":0},{"$f":"IF(OR(E325=Sprache!$C$23,E325=Sprache!$D$23),F325,0)+IF(OR(G325=Sprache!$C$23,G325=Sprache!$D$23),H325,0)","v":0},{"$f":"IF(OR(E325=Sprache!$C$24,E325=Sprache!$D$24),F325,0)+IF(OR(G325=Sprache!$C$24,G325=Sprache!$D$24),H325,0)","v":0},0,0,"",null,null,null,0,null,null,"",null,{"$f":"IF(B325<>\"\",HYPERLINK($AB$9&AA325,Sprache!$E$25 &\" \"&B325),\"\")","v":""},null,312,{"$f":"Eingabemeldung(Sprache!$E$18,Sprache!$E$17,'Formular C'!E325)","v":{"$error":"#VALUE!"}},{"$f":"Eingabemeldung(Sprache!$E$18,Sprache!$E$17,'Formular C'!G325)","v":{"$error":"#VALUE!"}},false,0,{"$f":"IF(W325<Parameter!$C$4,1,0)","v":0}]
[null,null,null,null,null,null,null,null,{"$f":"IF(OR(E326=Sprache!$C$19,E326=Sprache!$D$19),F326,0)+IF(OR(G326=Sprache!$C$19,G326=Sprache!$D$19),H326,0)+IF(OR(E326=Sprache!$C$20,E326=Sprache!$D$20),F326,0)+IF(OR(G326=Sprache!$C$20,G326=Sprache!$D$20),H326,0)","v":0},{"$f":"IF(OR(E326=Sprache!$C$21,E326=Sprache!$D$21),F326,0)+IF(OR(G326=Sprache!$C$21,G326=Sprache!$D$21),H326,0)","v":0},{"$f":"IF(OR(E326=Sprache!$C$22,E326=Sprache!$D$22),F326,0)+IF(OR(G326=Sprache!$C$22,G326=Sprache!$D$22),H326,0)","v":0},{"$f":"IF(OR(E326=Sprache!$C$23,E326=Sprache!$D$23),F326,0)+IF(OR(G326=Sprache!$C$23,G326=Sprache!$D$23),H326,0)","v":0},{"$f":"IF(OR(E326=Sprache!$C$24,E326=Sprache!$D$24),F326,0)+IF(OR(G326=Sprache!$C$24,G326=Sprache!$D$24),H326,0)","v":0},0,0,"",null,null,null,0,null,null,"",null,{"$f":"IF(B326<>\"\",HYPERLINK($AB$9&AA326,Sprache!$E$25 &\" \"&B326),\"\")","v":""},null,313,{"$f":"Eingabemeldung(Sprache!$E$18,Sprache!$E$17,'Formular C'!E326)","v":{"$error":"#VALUE!"}},{"$f":"Eingabemeldung(Sprache!$E$18,Sprache!$E$17,'Formular C'!G326)","v":{"$error":"#VALUE!"}},false,0,{"$f":"IF(W326<Parameter!$C$4,1,0)","v":0}]
[null,null,null,null,null,null,null,null,{"$f":"IF(OR(E327=Sprache!$C$19,E327=Sprache!$D$19),F327,0)+IF(OR(G327=Sprache!$C$19,G327=Sprache!$D$19),H327,0)+IF(OR(E327=Sprache!$C$20,E327=Sprache!$D$20),F327,0)+IF(OR(G327=Sprache!$C$20,G327=Sprache!$D$20),H327,0)","v":0},{"$f":"IF(OR(E327=Sprache!$C$21,E327=Sprache!$D$21),F327,0)+IF(OR(G327=Sprache!$C$21,G327=Sprache!$D$21),H327,0)","v":0},{"$f":"IF(OR(E327=Sprache!$C$22,E327=Sprache!$D$22),F327,0)+IF(OR(G327=Sprache!$C$22,G327=Sprache!$D$22),H327,0)","v":0},{"$f":"IF(OR(E327=Sprache!$C$23,E327=Sprache!$D$23),F327,0)+IF(OR(G327=Sprache!$C$23,G327=Sprache!$D$23),H327,0)","v":0},{"$f":"IF(OR(E327=Sprache!$C$24,E327=Sprache!$D$24),F327,0)+IF(OR(G327=Sprache!$C$24,G327=Sprache!$D$24),H327,0)","v":0},0,0,"",null,null,null,0,null,null,"",null,{"$f":"IF(B327<>\"\",HYPERLINK($AB$9&AA327,Sprache!$E$25 &\" \"&B327),\"\")","v":""},null,314,{"$f":"Eingabemeldung(Sprache!$E$18,Sprache!$E$17,'Formular C'!E327)","v":{"$error":"#VALUE!"}},{"$f":"Eingabemeldung(Sprache!$E$18,Sprache!$E$17,'Formular C'!G327)","v":{"$error":"#VALUE!"}},false,0,{"$f":"IF(W327<Parameter!$C$4,1,0)","v":0}]
[null,null,null,null,null,null,null,null,{"$f":"IF(OR(E328=Sprache!$C$19,E328=Sprache!$D$19),F328,0)+IF(OR(G328=Sprache!$C$19,G328=Sprache!$D$19),H328,0)+IF(OR(E328=Sprache!$C$20,E328=Sprache!$D$20),F328,0)+IF(OR(G328=Sprache!$C$20,G328=Sprache!$D$20),H328,0)","v":0},{"$f":"IF(OR(E328=Sprache!$C$21,E328=Sprache!$D$21),F328,0)+IF(OR(G328=Sprache!$C$21,G328=Sprache!$D$21),H328,0)","v":0},{"$f":"IF(OR(E328=Sprache!$C$22,E328=Sprache!$D$22),F328,0)+IF(OR(G328=Sprache!$C$22,G328=Sprache!$D$22),H328,0)","v":0},{"$f":"IF(OR(E328=Sprache!$C$23,E328=Sprache!$D$23),F328,0)+IF(OR(G328=Sprache!$C$23,G328=Sprache!$D$23),H328,0)","v":0},{"$f":"IF(OR(E328=Sprache!$C$24,E328=Sprache!$D$24),F328,0)+IF(OR(G328=Sprache!$C$24,G328=Sprache!$D$24),H328,0)","v":0},0,0,"",null,null,null,0,null,null,"",null,{"$f":"IF(B328<>\"\",HYPERLINK($AB$9&AA328,Sprache!$E$25 &\" \"&B328),\"\")","v":""},null,315,{"$f":"Eingabemeldung(Sprache!$E$18,Sprache!$E$17,'Formular C'!E328)","v":{"$error":"#VALUE!"}},{"$f":"Eingabemeldung(Sprache!$E$18,Sprache!$E$17,'Formular C'!G328)","v":{"$error":"#VALUE!"}},false,0,{"$f":"IF(W328<Parameter!$C$4,1,0)","v":0}]
[null,null,null,null,null,null,null,null,{"$f":"IF(OR(E329=Sprache!$C$19,E329=Sprache!$D$19),F329,0)+IF(OR(G329=Sprache!$C$19,G329=Sprache!$D$19),H329,0)+IF(OR(E329=Sprache!$C$20,E329=Sprache!$D$20),F329,0)+IF(OR(G329=Sprache!$C$20,G329=Sprache!$D$20),H329,0)","v":0},{"$f":"IF(OR(E329=Sprache!$C$21,E329=Sprache!$D$21),F329,0)+IF(OR(G329=Sprache!$C$21,G329=Sprache!$D$21),H329,0)","v":0},{"$f":"IF(OR(E329=Sprache!$C$22,E329=Sprache!$D$22),F329,0)+IF(OR(G329=Sprache!$C$22,G329=Sprache!$D$22),H329,0)","v":0},{"$f":"IF(OR(E329=Sprache!$C$23,E329=Sprache!$D$23),F329,0)+IF(OR(G329=Sprache!$C$23,G329=Sprache!$D$23),H329,0)","v":0},{"$f":"IF(OR(E329=Sprache!$C$24,E329=Sprache!$D$24),F329,0)+IF(OR(G329=Sprache!$C$24,G329=Sprache!$D$24),H329,0)","v":0},0,0,"",null,null,null,0,null,null,"",null,{"$f":"IF(B329<>\"\",HYPERLINK($AB$9&AA329,Sprache!$E$25 &\" \"&B329),\"\")","v":""},null,316,{"$f":"Eingabemeldung(Sprache!$E$18,Sprache!$E$17,'Formular C'!E329)","v":{"$error":"#VALUE!"}},{"$f":"Eingabemeldung(Sprache!$E$18,Sprache!$E$17,'Formular C'!G329)","v":{"$error":"#VALUE!"}},false,0,{"$f":"IF(W329<Parameter!$C$4,1,0)","v":0}]
[null,null,null,null,null,null,null,null,{"$f":"IF(OR(E330=Sprache!$C$19,E330=Sprache!$D$19),F330,0)+IF(OR(G330=Sprache!$C$19,G330=Sprache!$D$19),H330,0)+IF(OR(E330=Sprache!$C$20,E330=Sprache!$D$20),F330,0)+IF(OR(G330=Sprache!$C$20,G330=Sprache!$D$20),H330,0)","v":0},{"$f":"IF(OR(E330=Sprache!$C$21,E330=Sprache!$D$21),F330,0)+IF(OR(G330=Sprache!$C$21,G330=Sprache!$D$21),H330,0)","v":0},{"$f":"IF(OR(E330=Sprache!$C$22,E330=Sprache!$D$22),F330,0)+IF(OR(G330=Sprache!$C$22,G330=Sprache!$D$22),H330,0)","v":0},{"$f":"IF(OR(E330=Sprache!$C$23,E330=Sprache!$D$23),F330,0)+IF(OR(G330=Sprache!$C$23,G330=Sprache!$D$23),H330,0)","v":0},{"$f":"IF(OR(E330=Sprache!$C$24,E330=Sprache!$D$24),F330,0)+IF(OR(G330=Sprache!$C$24,G330=Sprache!$D$24),H330,0)","v":0},0,0,"",null,null,null,0,null,null,"",null,{"$f":"IF(B330<>\"\",HYPERLINK($AB$9&AA330,Sprache!$E$25 &\" \"&B330),\"\")","v":""},null,317,{"$f":"Eingabemeldung(Sprache!$E$18,Sprache!$E$17,'Formular C'!E330)","v":{"$error":"#VALUE!"}},{"$f":"Eingabemeldung(Sprache!$E$18,Sprache!$E$17,'Formular C'!G330)","v":{"$error":"#VALUE!"}},false,0,{"$f":"IF(W330<Parameter!$C$4,1,0)","v":0}]
[null,null,null,null,null,null,null,null,{"$f":"IF(OR(E331=Sprache!$C$19,E331=Sprache!$D$19),F331,0)+IF(OR(G331=Sprache!$C$19,G331=Sprache!$D$19),H331,0)+IF(OR(E331=Sprache!$C$20,E331=Sprache!$D$20),F331,0)+IF(OR(G331=Sprache!$C$20,G331=Sprache!$D$20),H331,0)","v":0},{"$f":"IF(OR(E331=Sprache!$C$21,E331=Sprache!$D$21),F331,0)+IF(OR(G331=Sprache!$C$21,G331=Sprache!$D$21),H331,0)","v":0},{"$f":"IF(OR(E331=Sprache!$C$22,E331=Sprache!$D$22),F331,0)+IF(OR(G331=Sprache!$C$22,G331=Sprache!$D$22),H331,0)","v":0},{"$f":"IF(OR(E331=Sprache!$C$23,E331=Sprache!$D$23),F331,0)+IF(OR(G331=Sprache!$C$23,G331=Sprache!$D$23),H331,0)","v":0},{"$f":"IF(OR(E331=Sprache!$C$24,E331=Sprache!$D$24),F331,0)+IF(OR(G331=Sprache!$C$24,G331=Sprache!$D$24),H331,0)","v":0},0,0,"",null,null,null,0,null,null,"",null,{"$f":"IF(B331<>\"\",HYPERLINK($AB$9&AA331,Sprache!$E$25 &\" \"&B331),\"\")","v":""},null,318,{"$f":"Eingabemeldung(Sprache!$E$18,Sprache!$E$17,'Formular C'!E331)","v":{"$error":"#VALUE!"}},{"$f":"Eingabemeldung(Sprache!$E$18,Sprache!$E$17,'Formular C'!G331)","v":{"$error":"#VALUE!"}},false,0,{"$f":"IF(W331<Parameter!$C$4,1,0)","v":0}]
[null,null,null,null,null,null,null,null,{"$f":"IF(OR(E332=Sprache!$C$19,E332=Sprache!$D$19),F332,0)+IF(OR(G332=Sprache!$C$19,G332=Sprache!$D$19),H332,0)+IF(OR(E332=Sprache!$C$20,E332=Sprache!$D$20),F332,0)+IF(OR(G332=Sprache!$C$20,G332=Sprache!$D$20),H332,0)","v":0},{"$f":"IF(OR(E332=Sprache!$C$21,E332=Sprache!$D$21),F332,0)+IF(OR(G332=Sprache!$C$21,G332=Sprache!$D$21),H332,0)","v":0},{"$f":"IF(OR(E332=Sprache!$C$22,E332=Sprache!$D$22),F332,0)+IF(OR(G332=Sprache!$C$22,G332=Sprache!$D$22),H332,0)","v":0},{"$f":"IF(OR(E332=Sprache!$C$23,E332=Sprache!$D$23),F332,0)+IF(OR(G332=Sprache!$C$23,G332=Sprache!$D$23),H332,0)","v":0},{"$f":"IF(OR(E332=Sprache!$C$24,E332=Sprache!$D$24),F332,0)+IF(OR(G332=Sprache!$C$24,G332=Sprache!$D$24),H332,0)","v":0},0,0,"",null,null,null,0,null,null,"",null,{"$f":"IF(B332<>\"\",HYPERLINK($AB$9&AA332,Sprache!$E$25 &\" \"&B332),\"\")","v":""},null,319,{"$f":"Eingabemeldung(Sprache!$E$18,Sprache!$E$17,'Formular C'!E332)","v":{"$error":"#VALUE!"}},{"$f":"Eingabemeldung(Sprache!$E$18,Sprache!$E$17,'Formular C'!G332)","v":{"$error":"#VALUE!"}},false,0,{"$f":"IF(W332<Parameter!$C$4,1,0)","v":0}]
[null,null,null,null,null,null,null,null,{"$f":"IF(OR(E333=Sprache!$C$19,E333=Sprache!$D$19),F333,0)+IF(OR(G333=Sprache!$C$19,G333=Sprache!$D$19),H333,0)+IF(OR(E333=Sprache!$C$20,E333=Sprache!$D$20),F333,0)+IF(OR(G333=Sprache!$C$20,G333=Sprache!$D$20),H333,0)","v":0},{"$f":"IF(OR(E333=Sprache!$C$21,E333=Sprache!$D$21),F333,0)+IF(OR(G333=Sprache!$C$21,G333=Sprache!$D$21),H333,0)","v":0},{"$f":"IF(OR(E333=Sprache!$C$22,E333=Sprache!$D$22),F333,0)+IF(OR(G333=Sprache!$C$22,G333=Sprache!$D$22),H333,0)","v":0},{"$f":"IF(OR(E333=Sprache!$C$23,E333=Sprache!$D$23),F333,0)+IF(OR(G333=Sprache!$C$23,G333=Sprache!$D$23),H333,0)","v":0},{"$f":"IF(OR(E333=Sprache!$C$24,E333=Sprache!$D$24),F333,0)+IF(OR(G333=Sprache!$C$24,G333=Sprache!$D$24),H333,0)","v":0},0,0,"",null,null,null,0,null,null,"",null,{"$f":"IF(B333<>\"\",HYPERLINK($AB$9&AA333,Sprache!$E$25 &\" \"&B333),\"\")","v":""},null,320,{"$f":"Eingabemeldung(Sprache!$E$18,Sprache!$E$17,'Formular C'!E333)","v":{"$error":"#VALUE!"}},{"$f":"Eingabemeldung(Sprache!$E$18,Sprache!$E$17,'Formular C'!G333)","v":{"$error":"#VALUE!"}},false,0,{"$f":"IF(W333<Parameter!$C$4,1,0)","v":0}]
[null,null,null,null,null,null,null,null,{"$f":"IF(OR(E334=Sprache!$C$19,E334=Sprache!$D$19),F334,0)+IF(OR(G334=Sprache!$C$19,G334=Sprache!$D$19),H334,0)+IF(OR(E334=Sprache!$C$20,E334=Sprache!$D$20),F334,0)+IF(OR(G334=Sprache!$C$20,G334=Sprache!$D$20),H334,0)","v":0},{"$f":"IF(OR(E334=Sprache!$C$21,E334=Sprache!$D$21),F334,0)+IF(OR(G334=Sprache!$C$21,G334=Sprache!$D$21),H334,0)","v":0},{"$f":"IF(OR(E334=Sprache!$C$22,E334=Sprache!$D$22),F334,0)+IF(OR(G334=Sprache!$C$22,G334=Sprache!$D$22),H334,0)","v":0},{"$f":"IF(OR(E334=Sprache!$C$23,E334=Sprache!$D$23),F334,0)+IF(OR(G334=Sprache!$C$23,G334=Sprache!$D$23),H334,0)","v":0},{"$f":"IF(OR(E334=Sprache!$C$24,E334=Sprache!$D$24),F334,0)+IF(OR(G334=Sprache!$C$24,G334=Sprache!$D$24),H334,0)","v":0},0,0,"",null,null,null,0,null,null,"",null,{"$f":"IF(B334<>\"\",HYPERLINK($AB$9&AA334,Sprache!$E$25 &\" \"&B334),\"\")","v":""},null,321,{"$f":"Eingabemeldung(Sprache!$E$18,Sprache!$E$17,'Formular C'!E334)","v":{"$error":"#VALUE!"}},{"$f":"Eingabemeldung(Sprache!$E$18,Sprache!$E$17,'Formular C'!G334)","v":{"$error":"#VALUE!"}},false,0,{"$f":"IF(W334<Parameter!$C$4,1,0)","v":0}]
[null,null,null,null,null,null,null,null,{"$f":"IF(OR(E335=Sprache!$C$19,E335=Sprache!$D$19),F335,0)+IF(OR(G335=Sprache!$C$19,G335=Sprache!$D$19),H335,0)+IF(OR(E335=Sprache!$C$20,E335=Sprache!$D$20),F335,0)+IF(OR(G335=Sprache!$C$20,G335=Sprache!$D$20),H335,0)","v":0},{"$f":"IF(OR(E335=Sprache!$C$21,E335=Sprache!$D$21),F335,0)+IF(OR(G335=Sprache!$C$21,G335=Sprache!$D$21),H335,0)","v":0},{"$f":"IF(OR(E335=Sprache!$C$22,E335=Sprache!$D$22),F335,0)+IF(OR(G335=Sprache!$C$22,G335=Sprache!$D$22),H335,0)","v":0},{"$f":"IF(OR(E335=Sprache!$C$23,E335=Sprache!$D$23),F335,0)+IF(OR(G335=Sprache!$C$23,G335=Sprache!$D$23),H335,0)","v":0},{"$f":"IF(OR(E335=Sprache!$C$24,E335=Sprache!$D$24),F335,0)+IF(OR(G335=Sprache!$C$24,G335=Sprache!$D$24),H335,0)","v":0},0,0,"",null,null,null,0,null,null,"",null,{"$f":"IF(B335<>\"\",HYPERLINK($AB$9&AA335,Sprache!$E$25 &\" \"&B335),\"\")","v":""},null,322,{"$f":"Eingabemeldung(Sprache!$E$18,Sprache!$E$17,'Formular C'!E335)","v":{"$error":"#VALUE!"}},{"$f":"Eingabemeldung(Sprache!$E$18,Sprache!$E$17,'Formular C'!G335)","v":{"$error":"#VALUE!"}},false,0,{"$f":"IF(W335<Parameter!$C$4,1,0)","v":0}]
[null,null,null,null,null,null,null,null,{"$f":"IF(OR(E336=Sprache!$C$19,E336=Sprache!$D$19),F336,0)+IF(OR(G336=Sprache!$C$19,G336=Sprache!$D$19),H336,0)+IF(OR(E336=Sprache!$C$20,E336=Sprache!$D$20),F336,0)+IF(OR(G336=Sprache!$C$20,G336=Sprache!$D$20),H336,0)","v":0},{"$f":"IF(OR(E336=Sprache!$C$21,E336=Sprache!$D$21),F336,0)+IF(OR(G336=Sprache!$C$21,G336=Sprache!$D$21),H336,0)","v":0},{"$f":"IF(OR(E336=Sprache!$C$22,E336=Sprache!$D$22),F336,0)+IF(OR(G336=Sprache!$C$22,G336=Sprache!$D$22),H336,0)","v":0},{"$f":"IF(OR(E336=Sprache!$C$23,E336=Sprache!$D$23),F336,0)+IF(OR(G336=Sprache!$C$23,G336=Sprache!$D$23),H336,0)","v":0},{"$f":"IF(OR(E336=Sprache!$C$24,E336=Sprache!$D$24),F336,0)+IF(OR(G336=Sprache!$C$24,G336=Sprache!$D$24),H336,0)","v":0},0,0,"",null,null,null,0,null,null,"",null,{"$f":"IF(B336<>\"\",HYPERLINK($AB$9&AA336,Sprache!$E$25 &\" \"&B336),\"\")","v":""},null,323,{"$f":"Eingabemeldung(Sprache!$E$18,Sprache!$E$17,'Formular C'!E336)","v":{"$error":"#VALUE!"}},{"$f":"Eingabemeldung(Sprache!$E$18,Sprache!$E$17,'Formular C'!G336)","v":{"$error":"#VALUE!"}},false,0,{"$f":"IF(W336<Parameter!$C$4,1,0)","v":0}]
[null,null,null,null,null,null,null,null,{"$f":"IF(OR(E337=Sprache!$C$19,E337=Sprache!$D$19),F337,0)+IF(OR(G337=Sprache!$C$19,G337=Sprache!$D$19),H337,0)+IF(OR(E337=Sprache!$C$20,E337=Sprache!$D$20),F337,0)+IF(OR(G337=Sprache!$C$20,G337=Sprache!$D$20),H337,0)","v":0},{"$f":"IF(OR(E337=Sprache!$C$21,E337=Sprache!$D$21),F337,0)+IF(OR(G337=Sprache!$C$21,G337=Sprache!$D$21),H337,0)","v":0},{"$f":"IF(OR(E337=Sprache!$C$22,E337=Sprache!$D$22),F337,0)+IF(OR(G337=Sprache!$C$22,G337=Sprache!$D$22),H337,0)","v":0},{"$f":"IF(OR(E337=Sprache!$C$23,E337=Sprache!$D$23),F337,0)+IF(OR(G337=Sprache!$C$23,G337=Sprache!$D$23),H337,0)","v":0},{"$f":"IF(OR(E337=Sprache!$C$24,E337=Sprache!$D$24),F337,0)+IF(OR(G337=Sprache!$C$24,G337=Sprache!$D$24),H337,0)","v":0},0,0,"",null,null,null,0,null,null,"",null,{"$f":"IF(B337<>\"\",HYPERLINK($AB$9&AA337,Sprache!$E$25 &\" \"&B337),\"\")","v":""},null,324,{"$f":"Eingabemeldung(Sprache!$E$18,Sprache!$E$17,'Formular C'!E337)","v":{"$error":"#VALUE!"}},{"$f":"Eingabemeldung(Sprache!$E$18,Sprache!$E$17,'Formular C'!G337)","v":{"$error":"#VALUE!"}},false,0,{"$f":"IF(W337<Parameter!$C$4,1,0)","v":0}]
[null,null,null,null,null,null,null,null,{"$f":"IF(OR(E338=Sprache!$C$19,E338=Sprache!$D$19),F338,0)+IF(OR(G338=Sprache!$C$19,G338=Sprache!$D$19),H338,0)+IF(OR(E338=Sprache!$C$20,E338=Sprache!$D$20),F338,0)+IF(OR(G338=Sprache!$C$20,G338=Sprache!$D$20),H338,0)","v":0},{"$f":"IF(OR(E338=Sprache!$C$21,E338=Sprache!$D$21),F338,0)+IF(OR(G338=Sprache!$C$21,G338=Sprache!$D$21),H338,0)","v":0},{"$f":"IF(OR(E338=Sprache!$C$22,E338=Sprache!$D$22),F338,0)+IF(OR(G338=Sprache!$C$22,G338=Sprache!$D$22),H338,0)","v":0},{"$f":"IF(OR(E338=Sprache!$C$23,E338=Sprache!$D$23),F338,0)+IF(OR(G338=Sprache!$C$23,G338=Sprache!$D$23),H338,0)","v":0},{"$f":"IF(OR(E338=Sprache!$C$24,E338=Sprache!$D$24),F338,0)+IF(OR(G338=Sprache!$C$24,G338=Sprache!$D$24),H338,0)","v":0},0,0,"",null,null,null,0,null,null,"",null,{"$f":"IF(B338<>\"\",HYPERLINK($AB$9&AA338,Sprache!$E$25 &\" \"&B338),\"\")","v":""},null,325,{"$f":"Eingabemeldung(Sprache!$E$18,Sprache!$E$17,'Formular C'!E338)","v":{"$error":"#VALUE!"}},{"$f":"Eingabemeldung(Sprache!$E$18,Sprache!$E$17,'Formular C'!G338)","v":{"$error":"#VALUE!"}},false,0,{"$f":"IF(W338<Parameter!$C$4,1,0)","v":0}]
[null,null,null,null,null,null,null,null,{"$f":"IF(OR(E339=Sprache!$C$19,E339=Sprache!$D$19),F339,0)+IF(OR(G339=Sprache!$C$19,G339=Sprache!$D$19),H339,0)+IF(OR(E339=Sprache!$C$20,E339=Sprache!$D$20),F339,0)+IF(OR(G339=Sprache!$C$20,G339=Sprache!$D$20),H339,0)","v":0},{"$f":"IF(OR(E339=Sprache!$C$21,E339=Sprache!$D$21),F339,0)+IF(OR(G339=Sprache!$C$21,G339=Sprache!$D$21),H339,0)","v":0},{"$f":"IF(OR(E339=Sprache!$C$22,E339=Sprache!$D$22),F339,0)+IF(OR(G339=Sprache!$C$22,G339=Sprache!$D$22),H339,0)","v":0},{"$f":"IF(OR(E339=Sprache!$C$23,E339=Sprache!$D$23),F339,0)+IF(OR(G339=Sprache!$C$23,G339=Sprache!$D$23),H339,0)","v":0},{"$f":"IF(OR(E339=Sprache!$C$24,E339=Sprache!$D$24),F339,0)+IF(OR(G339=Sprache!$C$24,G339=Sprache!$D$24),H339,0)","v":0},0,0,"",null,null,null,0,null,null,"",null,{"$f":"IF(B339<>\"\",HYPERLINK($AB$9&AA339,Sprache!$E$25 &\" \"&B339),\"\")","v":""},null,326,{"$f":"Eingabemeldung(Sprache!$E$18,Sprache!$E$17,'Formular C'!E339)","v":{"$error":"#VALUE!"}},{"$f":"Eingabemeldung(Sprache!$E$18,Sprache!$E$17,'Formular C'!G339)","v":{"$error":"#VALUE!"}},false,0,{"$f":"IF(W339<Parameter!$C$4,1,0)","v":0}]
[null,null,null,null,null,null,null,null,{"$f":"IF(OR(E340=Sprache!$C$19,E340=Sprache!$D$19),F340,0)+IF(OR(G340=Sprache!$C$19,G340=Sprache!$D$19),H340,0)+IF(OR(E340=Sprache!$C$20,E340=Sprache!$D$20),F340,0)+IF(OR(G340=Sprache!$C$20,G340=Sprache!$D$20),H340,0)","v":0},{"$f":"IF(OR(E340=Sprache!$C$21,E340=Sprache!$D$21),F340,0)+IF(OR(G340=Sprache!$C$21,G340=Sprache!$D$21),H340,0)","v":0},{"$f":"IF(OR(E340=Sprache!$C$22,E340=Sprache!$D$22),F340,0)+IF(OR(G340=Sprache!$C$22,G340=Sprache!$D$22),H340,0)","v":0},{"$f":"IF(OR(E340=Sprache!$C$23,E340=Sprache!$D$23),F340,0)+IF(OR(G340=Sprache!$C$23,G340=Sprache!$D$23),H340,0)","v":0},{"$f":"IF(OR(E340=Sprache!$C$24,E340=Sprache!$D$24),F340,0)+IF(OR(G340=Sprache!$C$24,G340=Sprache!$D$24),H340,0)","v":0},0,0,"",null,null,null,0,null,null,"",null,{"$f":"IF(B340<>\"\",HYPERLINK($AB$9&AA340,Sprache!$E$25 &\" \"&B340),\"\")","v":""},null,327,{"$f":"Eingabemeldung(Sprache!$E$18,Sprache!$E$17,'Formular C'!E340)","v":{"$error":"#VALUE!"}},{"$f":"Eingabemeldung(Sprache!$E$18,Sprache!$E$17,'Formular C'!G340)","v":{"$error":"#VALUE!"}},false,0,{"$f":"IF(W340<Parameter!$C$4,1,0)","v":0}]
[null,null,null,null,null,null,null,null,{"$f":"IF(OR(E341=Sprache!$C$19,E341=Sprache!$D$19),F341,0)+IF(OR(G341=Sprache!$C$19,G341=Sprache!$D$19),H341,0)+IF(OR(E341=Sprache!$C$20,E341=Sprache!$D$20),F341,0)+IF(OR(G341=Sprache!$C$20,G341=Sprache!$D$20),H341,0)","v":0},{"$f":"IF(OR(E341=Sprache!$C$21,E341=Sprache!$D$21),F341,0)+IF(OR(G341=Sprache!$C$21,G341=Sprache!$D$21),H341,0)","v":0},{"$f":"IF(OR(E341=Sprache!$C$22,E341=Sprache!$D$22),F341,0)+IF(OR(G341=Sprache!$C$22,G341=Sprache!$D$22),H341,0)","v":0},{"$f":"IF(OR(E341=Sprache!$C$23,E341=Sprache!$D$23),F341,0)+IF(OR(G341=Sprache!$C$23,G341=Sprache!$D$23),H341,0)","v":0},{"$f":"IF(OR(E341=Sprache!$C$24,E341=Sprache!$D$24),F341,0)+IF(OR(G341=Sprache!$C$24,G341=Sprache!$D$24),H341,0)","v":0},0,0,"",null,null,null,0,null,null,"",null,{"$f":"IF(B341<>\"\",HYPERLINK($AB$9&AA341,Sprache!$E$25 &\" \"&B341),\"\")","v":""},null,328,{"$f":"Eingabemeldung(Sprache!$E$18,Sprache!$E$17,'Formular C'!E341)","v":{"$error":"#VALUE!"}},{"$f":"Eingabemeldung(Sprache!$E$18,Sprache!$E$17,'Formular C'!G341)","v":{"$error":"#VALUE!"}},false,0,{"$f":"IF(W341<Parameter!$C$4,1,0)","v":0}]
[null,null,null,null,null,null,null,null,{"$f":"IF(OR(E342=Sprache!$C$19,E342=Sprache!$D$19),F342,0)+IF(OR(G342=Sprache!$C$19,G342=Sprache!$D$19),H342,0)+IF(OR(E342=Sprache!$C$20,E342=Sprache!$D$20),F342,0)+IF(OR(G342=Sprache!$C$20,G342=Sprache!$D$20),H342,0)","v":0},{"$f":"IF(OR(E342=Sprache!$C$21,E342=Sprache!$D$21),F342,0)+IF(OR(G342=Sprache!$C$21,G342=Sprache!$D$21),H342,0)","v":0},{"$f":"IF(OR(E342=Sprache!$C$22,E342=Sprache!$D$22),F342,0)+IF(OR(G342=Sprache!$C$22,G342=Sprache!$D$22),H342,0)","v":0},{"$f":"IF(OR(E342=Sprache!$C$23,E342=Sprache!$D$23),F342,0)+IF(OR(G342=Sprache!$C$23,G342=Sprache!$D$23),H342,0)","v":0},{"$f":"IF(OR(E342=Sprache!$C$24,E342=Sprache!$D$24),F342,0)+IF(OR(G342=Sprache!$C$24,G342=Sprache!$D$24),H342,0)","v":0},0,0,"",null,null,null,0,null,null,"",null,{"$f":"IF(B342<>\"\",HYPERLINK($AB$9&AA342,Sprache!$E$25 &\" \"&B342),\"\")","v":""},null,329,{"$f":"Eingabemeldung(Sprache!$E$18,Sprache!$E$17,'Formular C'!E342)","v":{"$error":"#VALUE!"}},{"$f":"Eingabemeldung(Sprache!$E$18,Sprache!$E$17,'Formular C'!G342)","v":{"$error":"#VALUE!"}},false,0,{"$f":"IF(W342<Parameter!$C$4,1,0)","v":0}]
[null,null,null,null,null,null,null,null,{"$f":"IF(OR(E343=Sprache!$C$19,E343=Sprache!$D$19),F343,0)+IF(OR(G343=Sprache!$C$19,G343=Sprache!$D$19),H343,0)+IF(OR(E343=Sprache!$C$20,E343=Sprache!$D$20),F343,0)+IF(OR(G343=Sprache!$C$20,G343=Sprache!$D$20),H343,0)","v":0},{"$f":"IF(OR(E343=Sprache!$C$21,E343=Sprache!$D$21),F343,0)+IF(OR(G343=Sprache!$C$21,G343=Sprache!$D$21),H343,0)","v":0},{"$f":"IF(OR(E343=Sprache!$C$22,E343=Sprache!$D$22),F343,0)+IF(OR(G343=Sprache!$C$22,G343=Sprache!$D$22),H343,0)","v":0},{"$f":"IF(OR(E343=Sprache!$C$23,E343=Sprache!$D$23),F343,0)+IF(OR(G343=Sprache!$C$23,G343=Sprache!$D$23),H343,0)","v":0},{"$f":"IF(OR(E343=Sprache!$C$24,E343=Sprache!$D$24),F343,0)+IF(OR(G343=Sprache!$C$24,G343=Sprache!$D$24),H343,0)","v":0},0,0,"",null,null,null,0,null,null,"",null,{"$f":"IF(B343<>\"\",HYPERLINK($AB$9&AA343,Sprache!$E$25 &\" \"&B343),\"\")","v":""},null,330,{"$f":"Eingabemeldung(Sprache!$E$18,Sprache!$E$17,'Formular C'!E343)","v":{"$error":"#VALUE!"}},{"$f":"Eingabemeldung(Sprache!$E$18,Sprache!$E$17,'Formular C'!G343)","v":{"$error":"#VALUE!"}},false,0,{"$f":"IF(W343<Parameter!$C$4,1,0)","v":0}]
[null,null,null,null,null,null,null,null,{"$f":"IF(OR(E344=Sprache!$C$19,E344=Sprache!$D$19),F344,0)+IF(OR(G344=Sprache!$C$19,G344=Sprache!$D$19),H344,0)+IF(OR(E344=Sprache!$C$20,E344=Sprache!$D$20),F344,0)+IF(OR(G344=Sprache!$C$20,G344=Sprache!$D$20),H344,0)","v":0},{"$f":"IF(OR(E344=Sprache!$C$21,E344=Sprache!$D$21),F344,0)+IF(OR(G344=Sprache!$C$21,G344=Sprache!$D$21),H344,0)","v":0},{"$f":"IF(OR(E344=Sprache!$C$22,E344=Sprache!$D$22),F344,0)+IF(OR(G344=Sprache!$C$22,G344=Sprache!$D$22),H344,0)","v":0},{"$f":"IF(OR(E344=Sprache!$C$23,E344=Sprache!$D$23),F344,0)+IF(OR(G344=Sprache!$C$23,G344=Sprache!$D$23),H344,0)","v":0},{"$f":"IF(OR(E344=Sprache!$C$24,E344=Sprache!$D$24),F344,0)+IF(OR(G344=Sprache!$C$24,G344=Sprache!$D$24),H344,0)","v":0},0,0,"",null,null,null,0,null,null,"",null,{"$f":"IF(B344<>\"\",HYPERLINK($AB$9&AA344,Sprache!$E$25 &\" \"&B344),\"\")","v":""},null,331,{"$f":"Eingabemeldung(Sprache!$E$18,Sprache!$E$17,'Formular C'!E344)","v":{"$error":"#VALUE!"}},{"$f":"Eingabemeldung(Sprache!$E$18,Sprache!$E$17,'Formular C'!G344)","v":{"$error":"#VALUE!"}},false,0,{"$f":"IF(W344<Parameter!$C$4,1,0)","v":0}]
[null,null,null,null,null,null,null,null,{"$f":"IF(OR(E345=Sprache!$C$19,E345=Sprache!$D$19),F345,0)+IF(OR(G345=Sprache!$C$19,G345=Sprache!$D$19),H345,0)+IF(OR(E345=Sprache!$C$20,E345=Sprache!$D$20),F345,0)+IF(OR(G345=Sprache!$C$20,G345=Sprache!$D$20),H345,0)","v":0},{"$f":"IF(OR(E345=Sprache!$C$21,E345=Sprache!$D$21),F345,0)+IF(OR(G345=Sprache!$C$21,G345=Sprache!$D$21),H345,0)","v":0},{"$f":"IF(OR(E345=Sprache!$C$22,E345=Sprache!$D$22),F345,0)+IF(OR(G345=Sprache!$C$22,G345=Sprache!$D$22),H345,0)","v":0},{"$f":"IF(OR(E345=Sprache!$C$23,E345=Sprache!$D$23),F345,0)+IF(OR(G345=Sprache!$C$23,G345=Sprache!$D$23),H345,0)","v":0},{"$f":"IF(OR(E345=Sprache!$C$24,E345=Sprache!$D$24),F345,0)+IF(OR(G345=Sprache!$C$24,G345=Sprache!$D$24),H345,0)","v":0},0,0,"",null,null,null,0,null,null,"",null,{"$f":"IF(B345<>\"\",HYPERLINK($AB$9&AA345,Sprache!$E$25 &\" \"&B345),\"\")","v":""},null,332,{"$f":"Eingabemeldung(Sprache!$E$18,Sprache!$E$17,'Formular C'!E345)","v":{"$error":"#VALUE!"}},{"$f":"Eingabemeldung(Sprache!$E$18,Sprache!$E$17,'Formular C'!G345)","v":{"$error":"#VALUE!"}},false,0,{"$f":"IF(W345<Parameter!$C$4,1,0)","v":0}]
[null,null,null,null,null,null,null,null,{"$f":"IF(OR(E346=Sprache!$C$19,E346=Sprache!$D$19),F346,0)+IF(OR(G346=Sprache!$C$19,G346=Sprache!$D$19),H346,0)+IF(OR(E346=Sprache!$C$20,E346=Sprache!$D$20),F346,0)+IF(OR(G346=Sprache!$C$20,G346=Sprache!$D$20),H346,0)","v":0},{"$f":"IF(OR(E346=Sprache!$C$21,E346=Sprache!$D$21),F346,0)+IF(OR(G346=Sprache!$C$21,G346=Sprache!$D$21),H346,0)","v":0},{"$f":"IF(OR(E346=Sprache!$C$22,E346=Sprache!$D$22),F346,0)+IF(OR(G346=Sprache!$C$22,G346=Sprache!$D$22),H346,0)","v":0},{"$f":"IF(OR(E346=Sprache!$C$23,E346=Sprache!$D$23),F346,0)+IF(OR(G346=Sprache!$C$23,G346=Sprache!$D$23),H346,0)","v":0},{"$f":"IF(OR(E346=Sprache!$C$24,E346=Sprache!$D$24),F346,0)+IF(OR(G346=Sprache!$C$24,G346=Sprache!$D$24),H346,0)","v":0},0,0,"",null,null,null,0,null,null,"",null,{"$f":"IF(B346<>\"\",HYPERLINK($AB$9&AA346,Sprache!$E$25 &\" \"&B346),\"\")","v":""},null,333,{"$f":"Eingabemeldung(Sprache!$E$18,Sprache!$E$17,'Formular C'!E346)","v":{"$error":"#VALUE!"}},{"$f":"Eingabemeldung(Sprache!$E$18,Sprache!$E$17,'Formular C'!G346)","v":{"$error":"#VALUE!"}},false,0,{"$f":"IF(W346<Parameter!$C$4,1,0)","v":0}]
[null,null,null,null,null,null,null,null,{"$f":"IF(OR(E347=Sprache!$C$19,E347=Sprache!$D$19),F347,0)+IF(OR(G347=Sprache!$C$19,G347=Sprache!$D$19),H347,0)+IF(OR(E347=Sprache!$C$20,E347=Sprache!$D$20),F347,0)+IF(OR(G347=Sprache!$C$20,G347=Sprache!$D$20),H347,0)","v":0},{"$f":"IF(OR(E347=Sprache!$C$21,E347=Sprache!$D$21),F347,0)+IF(OR(G347=Sprache!$C$21,G347=Sprache!$D$21),H347,0)","v":0},{"$f":"IF(OR(E347=Sprache!$C$22,E347=Sprache!$D$22),F347,0)+IF(OR(G347=Sprache!$C$22,G347=Sprache!$D$22),H347,0)","v":0},{"$f":"IF(OR(E347=Sprache!$C$23,E347=Sprache!$D$23),F347,0)+IF(OR(G347=Sprache!$C$23,G347=Sprache!$D$23),H347,0)","v":0},{"$f":"IF(OR(E347=Sprache!$C$24,E347=Sprache!$D$24),F347,0)+IF(OR(G347=Sprache!$C$24,G347=Sprache!$D$24),H347,0)","v":0},0,0,"",null,null,null,0,null,null,"",null,{"$f":"IF(B347<>\"\",HYPERLINK($AB$9&AA347,Sprache!$E$25 &\" \"&B347),\"\")","v":""},null,334,{"$f":"Eingabemeldung(Sprache!$E$18,Sprache!$E$17,'Formular C'!E347)","v":{"$error":"#VALUE!"}},{"$f":"Eingabemeldung(Sprache!$E$18,Sprache!$E$17,'Formular C'!G347)","v":{"$error":"#VALUE!"}},false,0,{"$f":"IF(W347<Parameter!$C$4,1,0)","v":0}]
[null,null,null,null,null,null,null,null,{"$f":"IF(OR(E348=Sprache!$C$19,E348=Sprache!$D$19),F348,0)+IF(OR(G348=Sprache!$C$19,G348=Sprache!$D$19),H348,0)+IF(OR(E348=Sprache!$C$20,E348=Sprache!$D$20),F348,0)+IF(OR(G348=Sprache!$C$20,G348=Sprache!$D$20),H348,0)","v":0},{"$f":"IF(OR(E348=Sprache!$C$21,E348=Sprache!$D$21),F348,0)+IF(OR(G348=Sprache!$C$21,G348=Sprache!$D$21),H348,0)","v":0},{"$f":"IF(OR(E348=Sprache!$C$22,E348=Sprache!$D$22),F348,0)+IF(OR(G348=Sprache!$C$22,G348=Sprache!$D$22),H348,0)","v":0},{"$f":"IF(OR(E348=Sprache!$C$23,E348=Sprache!$D$23),F348,0)+IF(OR(G348=Sprache!$C$23,G348=Sprache!$D$23),H348,0)","v":0},{"$f":"IF(OR(E348=Sprache!$C$24,E348=Sprache!$D$24),F348,0)+IF(OR(G348=Sprache!$C$24,G348=Sprache!$D$24),H348,0)","v":0},0,0,"",null,null,null,{"$f":"(F348*R348)+(H348*S348)","v":0},null,null,"",null,{"$f":"IF(B348<>\"\",HYPERLINK($AB$9&AA348,Sprache!$E$25 &\" \"&B348),\"\")","v":""},null,335,{"$f":"Eingabemeldung(Sprache!$E$18,Sprache!$E$17,'Formular C'!E348)","v":{"$error":"#VALUE!"}},{"$f":"Eingabemeldung(Sprache!$E$18,Sprache!$E$17,'Formular C'!G348)","v":{"$error":"#VALUE!"}},false,0,{"$f":"IF(W348<Parameter!$C$4,1,0)","v":0}]
[null,null,null,null,null,null,null,null,{"$f":"IF(OR(E349=Sprache!$C$19,E349=Sprache!$D$19),F349,0)+IF(OR(G349=Sprache!$C$19,G349=Sprache!$D$19),H349,0)+IF(OR(E349=Sprache!$C$20,E349=Sprache!$D$20),F349,0)+IF(OR(G349=Sprache!$C$20,G349=Sprache!$D$20),H349,0)","v":0},{"$f":"IF(OR(E349=Sprache!$C$21,E349=Sprache!$D$21),F349,0)+IF(OR(G349=Sprache!$C$21,G349=Sprache!$D$21),H349,0)","v":0},{"$f":"IF(OR(E349=Sprache!$C$22,E349=Sprache!$D$22),F349,0)+IF(OR(G349=Sprache!$C$22,G349=Sprache!$D$22),H349,0)","v":0},{"$f":"IF(OR(E349=Sprache!$C$23,E349=Sprache!$D$23),F349,0)+IF(OR(G349=Sprache!$C$23,G349=Sprache!$D$23),H349,0)","v":0},{"$f":"IF(OR(E349=Sprache!$C$24,E349=Sprache!$D$24),F349,0)+IF(OR(G349=Sprache!$C$24,G349=Sprache!$D$24),H349,0)","v":0},0,0,"",null,null,null,0,null,null,"",null,{"$f":"IF(B349<>\"\",HYPERLINK($AB$9&AA349,Sprache!$E$25 &\" \"&B349),\"\")","v":""},null,{"$f":"AA348+1","v":336},{"$f":"Eingabemeldung(Sprache!$E$18,Sprache!$E$17,'Formular C'!E349)","v":{"$error":"#VALUE!"}},{"$f":"Eingabemeldung(Sprache!$E$18,Sprache!$E$17,'Formular C'!G349)","v":{"$error":"#VALUE!"}},false,0,{"$f":"IF(W349<Parameter!$C$4,1,0)","v":0}]
[null,null,null,null,null,null,null,null,{"$f":"IF(OR(E350=Sprache!$C$19,E350=Sprache!$D$19),F350,0)+IF(OR(G350=Sprache!$C$19,G350=Sprache!$D$19),H350,0)+IF(OR(E350=Sprache!$C$20,E350=Sprache!$D$20),F350,0)+IF(OR(G350=Sprache!$C$20,G350=Sprache!$D$20),H350,0)","v":0},{"$f":"IF(OR(E350=Sprache!$C$21,E350=Sprache!$D$21),F350,0)+IF(OR(G350=Sprache!$C$21,G350=Sprache!$D$21),H350,0)","v":0},{"$f":"IF(OR(E350=Sprache!$C$22,E350=Sprache!$D$22),F350,0)+IF(OR(G350=Sprache!$C$22,G350=Sprache!$D$22),H350,0)","v":0},{"$f":"IF(OR(E350=Sprache!$C$23,E350=Sprache!$D$23),F350,0)+IF(OR(G350=Sprache!$C$23,G350=Sprache!$D$23),H350,0)","v":0},{"$f":"IF(OR(E350=Sprache!$C$24,E350=Sprache!$D$24),F350,0)+IF(OR(G350=Sprache!$C$24,G350=Sprache!$D$24),H350,0)","v":0},0,0,"",null,null,null,0,null,null,"",null,{"$f":"IF(B350<>\"\",HYPERLINK($AB$9&AA350,Sprache!$E$25 &\" \"&B350),\"\")","v":""},null,337,{"$f":"Eingabemeldung(Sprache!$E$18,Sprache!$E$17,'Formular C'!E350)","v":{"$error":"#VALUE!"}},{"$f":"Eingabemeldung(Sprache!$E$18,Sprache!$E$17,'Formular C'!G350)","v":{"$error":"#VALUE!"}},false,0,{"$f":"IF(W350<Parameter!$C$4,1,0)","v":0}]
[null,null,null,null,null,null,null,null,{"$f":"IF(OR(E351=Sprache!$C$19,E351=Sprache!$D$19),F351,0)+IF(OR(G351=Sprache!$C$19,G351=Sprache!$D$19),H351,0)+IF(OR(E351=Sprache!$C$20,E351=Sprache!$D$20),F351,0)+IF(OR(G351=Sprache!$C$20,G351=Sprache!$D$20),H351,0)","v":0},{"$f":"IF(OR(E351=Sprache!$C$21,E351=Sprache!$D$21),F351,0)+IF(OR(G351=Sprache!$C$21,G351=Sprache!$D$21),H351,0)","v":0},{"$f":"IF(OR(E351=Sprache!$C$22,E351=Sprache!$D$22),F351,0)+IF(OR(G351=Sprache!$C$22,G351=Sprache!$D$22),H351,0)","v":0},{"$f":"IF(OR(E351=Sprache!$C$23,E351=Sprache!$D$23),F351,0)+IF(OR(G351=Sprache!$C$23,G351=Sprache!$D$23),H351,0)","v":0},{"$f":"IF(OR(E351=Sprache!$C$24,E351=Sprache!$D$24),F351,0)+IF(OR(G351=Sprache!$C$24,G351=Sprache!$D$24),H351,0)","v":0},0,0,"",null,null,null,0,null,null,"",null,{"$f":"IF(B351<>\"\",HYPERLINK($AB$9&AA351,Sprache!$E$25 &\" \"&B351),\"\")","v":""},null,338,{"$f":"Eingabemeldung(Sprache!$E$18,Sprache!$E$17,'Formular C'!E351)","v":{"$error":"#VALUE!"}},{"$f":"Eingabemeldung(Sprache!$E$18,Sprache!$E$17,'Formular C'!G351)","v":{"$error":"#VALUE!"}},false,0,{"$f":"IF(W351<Parameter!$C$4,1,0)","v":0}]
[null,null,null,null,null,null,null,null,{"$f":"IF(OR(E352=Sprache!$C$19,E352=Sprache!$D$19),F352,0)+IF(OR(G352=Sprache!$C$19,G352=Sprache!$D$19),H352,0)+IF(OR(E352=Sprache!$C$20,E352=Sprache!$D$20),F352,0)+IF(OR(G352=Sprache!$C$20,G352=Sprache!$D$20),H352,0)","v":0},{"$f":"IF(OR(E352=Sprache!$C$21,E352=Sprache!$D$21),F352,0)+IF(OR(G352=Sprache!$C$21,G352=Sprache!$D$21),H352,0)","v":0},{"$f":"IF(OR(E352=Sprache!$C$22,E352=Sprache!$D$22),F352,0)+IF(OR(G352=Sprache!$C$22,G352=Sprache!$D$22),H352,0)","v":0},{"$f":"IF(OR(E352=Sprache!$C$23,E352=Sprache!$D$23),F352,0)+IF(OR(G352=Sprache!$C$23,G352=Sprache!$D$23),H352,0)","v":0},{"$f":"IF(OR(E352=Sprache!$C$24,E352=Sprache!$D$24),F352,0)+IF(OR(G352=Sprache!$C$24,G352=Sprache!$D$24),H352,0)","v":0},0,0,"",null,null,null,0,null,null,"",null,{"$f":"IF(B352<>\"\",HYPERLINK($AB$9&AA352,Sprache!$E$25 &\" \"&B352),\"\")","v":""},null,339,{"$f":"Eingabemeldung(Sprache!$E$18,Sprache!$E$17,'Formular C'!E352)","v":{"$error":"#VALUE!"}},{"$f":"Eingabemeldung(Sprache!$E$18,Sprache!$E$17,'Formular C'!G352)","v":{"$error":"#VALUE!"}},false,0,{"$f":"IF(W352<Parameter!$C$4,1,0)","v":0}]
[null,null,null,null,null,null,null,null,null,null,null,null,null,null,null,null,null,null,null,null,null,null,"",null,null,null,340]
[null,{"$f":"Sprache!E191","v":"Summe aller realisierten Massnahmen der letzen 5 Jahre"},null,null,null,null,null,null,{"$f":"SUM(($AD$252:$AD$352)*(I252:I352))","v":0},{"$f":"SUM(($AD$252:$AD$352)*(J252:J352))","v":0},{"$f":"SUM(($AD$252:$AD$352)*(K252:K352))","v":0},{"$f":"SUM(($AD$252:$AD$352)*(L252:L352))","v":0},{"$f":"SUM(($AD$252:$AD$352)*(M252:M352))","v":0},{"$f":"SUM(($AD$252:$AD$352)*(N252:N352))","v":0},{"$f":"SUM(($AD$252:$AD$352)*(O252:O352))","v":0},{"$f":"IFERROR(SUM(($AD$252:$AD$352)*(P252:P352)),\"\")","v":""},null,null,null,null,null,null,null,null,null,null,341]
[null,{"$f":"Sprache!E192","v":"Summe aller berücksichtigten, geplanten Massnahmen bis und mit Zieljahr"},null,null,null,null,null,null,{"$f":"SUM(($AE$23:$AE$225)*($AD$23:$AD$225)*(($Q$23:$Q$225)<='Formular D'!$G$25)*(I23:I225))","v":0},{"$f":"SUM(($AE$23:$AE$225)*($AD$23:$AD$225)*(($Q$23:$Q$225)<='Formular D'!$G$25)*(J23:J225))","v":0},{"$f":"SUM(($AE$23:$AE$225)*($AD$23:$AD$225)*(($Q$23:$Q$225)<='Formular D'!$G$25)*(K23:K225))","v":0},{"$f":"SUM(($AE$23:$AE$225)*($AD$23:$AD$225)*(($Q$23:$Q$225)<='Formular D'!$G$25)*(L23:L225))","v":0},{"$f":"SUM(($AE$23:$AE$225)*($AD$23:$AD$225)*(($Q$23:$Q$225)<='Formular D'!$G$25)*(M23:M225))","v":0},{"$f":"SUM(($AE$23:$AE$225)*($AD$23:$AD$225)*(($Q$23:$Q$225)<='Formular D'!$G$25)*(N23:N225))","v":0},{"$f":"SUM(($AE$23:$AE$225)*($AD$23:$AD$225)*(($Q$23:$Q$225)<='Formular D'!$G$25)*(O23:O225))","v":0},{"$f":"IFERROR(O355/(H240-O355),\"\")","v":""}]
[null,{"$f":"Sprache!E193","v":"Summe aller realisierten und geplanten, neuen Massnahmen"},null,null,null,null,null,null,null,null,null,null,null,{"$f":"N355+N354","v":0},{"$f":"O355+O354","v":0},{"$f":"IFERROR(P355+P354,\"\")","v":""},null,null,null,null,null,null,null,null,null,null,null,null,"Richtwert erreicht?",null,null,{"$f":"IF(ROUND(P356*100,1)>=Parameter!C6,1,0)","v":{"$error":"#VALUE!"}}]
[null,null,null,null,null,null,null,null,null,null,null,null,null,null,null,null,null,null,null,null,null,null,null,null,null,null,null,null,"Alles ok und Richtwert erreicht?",null,null,{"$f":"AF356","v":{"$error":"#VALUE!"}}]
[null,{"$f":"IF(AND(AF229=0,B233=\"\"),Sprache!E194,IF(AF356=1,Sprache!E195,Sprache!E196))","v":"Eingabefeld gesperrt: Bitte zuerst Punkt C.1 komplett ausfüllen!"}]

{"sheet":"Beschreibung Massnahmen","index":10,"n_rows":341,"n_cols":9,"rows_kept":341,"cut":false,"hidden":false,"merged":[[11,1,11,5],[7,1,7,5]]}
[]
[null,{"$f":"Sprache!E197","v":"Beschreibung Massnahmen"},null,null,null,{"$f":"IF(Titelblatt!$F$7=\"\",\"\",Titelblatt!$F$7)","v":""}]
[null,null,null,null,null,{"$f":"IF(Titelblatt!$F$32=\"\",\"\",Titelblatt!$F$32)","v":""}]
[]
[]
[null,{"$f":"Sprache!E198","v":"Hinweise:"}]
[null,{"$f":"Sprache!E199","v":"- Die im Formular C aufgeführten Massnahmen müssen* in diesem Arbeitsblatt detailliert und nachvollziehbar beschrieben werden."},null,null,null,null,null,null,"Pfad auf Formular C"]
[null,"- Unter dem Punkt \"Beschreibung der Kostenberechung\" soll unter anderem erklärt werden, wie der Kostenanteil Energie KE gewählt worden ist. Als Begründung kann z.B. der Jahrgang resp. das Alter der betroffenen Anlage angegeben werden."]
[null,{"$f":"Sprache!E200","v":"- Die Beschreibungsfelder werden erst angezeigt, wenn die Massnahmennummer in Formular C eingetragen wurde."},null,null,null,null,null,null,{"$f":"MID(CELL(\"filename\",A1),FIND(\"[\",CELL(\"filename\",A1)),FIND(\"]\",CELL(\"filename\",A1))-FIND(\"[\",CELL(\"filename\",A1))+1)&\"'\"&blattname_formular_c&\"'!B\"","v":"[kzv_bs_v2.xlsm]'Formular C'!B"}]
[null,{"$f":"Sprache!E201","v":"- Wird für die Massnahmenbeschreibung mehr Platz benötigt, kann die Zeilenhöhe manuell angepasst werden."}]
[null,{"$f":"Sprache!E202","v":"- Zeilenumbrüche können durch die Tastenkombination \"Alt\" + \"Enter\" eingefügt werden."}]
[null,{"$f":"Sprache!E203","v":"* Alternativ können die Massnahmen auch in einer Beilage beschrieben werden. Auch dort müssen Einspar- und Kostenberechnungen nachvollziehbar aufzeigt werden."}]
[]
[null,{"$f":"'Formular C'!B17","v":"Nr."},{"$f":"'Formular C'!C17","v":"Kurzbeschreibung"},{"$f":"Sprache!E204","v":"Detaillierte Beschreibung der Massnahme:"},{"$f":"Sprache!E205","v":"Beschreibung der Einsparberechung:"},{"$f":"Sprache!E206","v":"Beschreibung der Kostenberechnung:"},null,null,"Zeile für Link"]
[" \n \n \n \n \n",{"$f":"IF('Formular C'!$B23<>\"\",'Formular C'!B23,\"\")","v":""},{"$f":"IF('Formular C'!$B23<>\"\",'Formular C'!C23,\"\")","v":""},null,null,null,{"$f":"IF('Formular C'!B23<>\"\",HYPERLINK($I$9&I15,Sprache!$E$26&\" \"&blattname_formular_c&\", \"&B15),\"\")","v":""},null,{"$f":"ROW(formular_c_erste_zeile_massnahmen)","v":23}]
[" \n \n \n \n \n",{"$f":"IF('Formular C'!$B24<>\"\",'Formular C'!B24,\"\")","v":""},{"$f":"IF('Formular C'!$B24<>\"\",'Formular C'!C24,\"\")","v":""},"",null,null,{"$f":"IF('Formular C'!B24<>\"\",HYPERLINK($I$9&I16,Sprache!$E$26&\" \"&blattname_formular_c&\", \"&B16),\"\")","v":""},null,{"$f":"I15+1","v":24}]
[" \n \n \n \n \n",{"$f":"IF('Formular C'!$B25<>\"\",'Formular C'!B25,\"\")","v":""},{"$f":"IF('Formular C'!$B25<>\"\",'Formular C'!C25,\"\")","v":""},"",null,null,{"$f":"IF('Formular C'!B25<>\"\",HYPERLINK($I$9&I17,Sprache!$E$26&\" \"&blattname_formular_c&\", \"&B17),\"\")","v":""},null,{"$f":"I16+1","v":25}]
[" \n \n \n \n \n",{"$f":"IF('Formular C'!$B26<>\"\",'Formular C'!B26,\"\")","v":""},{"$f":"IF('Formular C'!$B26<>\"\",'Formular C'!C26,\"\")","v":""},"",null,null,{"$f":"IF('Formular C'!B26<>\"\",HYPERLINK($I$9&I18,Sprache!$E$26&\" \"&blattname_formular_c&\", \"&B18),\"\")","v":""},null,26]
[" \n \n \n \n \n",{"$f":"IF('Formular C'!$B27<>\"\",'Formular C'!B27,\"\")","v":""},{"$f":"IF('Formular C'!$B27<>\"\",'Formular C'!C27,\"\")","v":""},"",null,null,{"$f":"IF('Formular C'!B27<>\"\",HYPERLINK($I$9&I19,Sprache!$E$26&\" \"&blattname_formular_c&\", \"&B19),\"\")","v":""},null,27]
[" \n \n \n \n \n",{"$f":"IF('Formular C'!$B28<>\"\",'Formular C'!B28,\"\")","v":""},{"$f":"IF('Formular C'!$B28<>\"\",'Formular C'!C28,\"\")","v":""},"",null,null,{"$f":"IF('Formular C'!B28<>\"\",HYPERLINK($I$9&I20,Sprache!$E$26&\" \"&blattname_formular_c&\", \"&B20),\"\")","v":""},null,28]
[" \n \n \n \n \n",{"$f":"IF('Formular C'!$B29<>\"\",'Formular C'!B29,\"\")","v":""},{"$f":"IF('Formular C'!$B29<>\"\",'Formular C'!C29,\"\")","v":""},"",null,null,{"$f":"IF('Formular C'!B29<>\"\",HYPERLINK($I$9&I21,Sprache!$E$26&\" \"&blattname_formular_c&\", \"&B21),\"\")","v":""},null,29]
[" \n \n \n \n \n",{"$f":"IF('Formular C'!$B30<>\"\",'Formular C'!B30,\"\")","v":""},{"$f":"IF('Formular C'!$B30<>\"\",'Formular C'!C30,\"\")","v":""},"",null,null,{"$f":"IF('Formular C'!B30<>\"\",HYPERLINK($I$9&I22,Sprache!$E$26&\" \"&blattname_formular_c&\", \"&B22),\"\")","v":""},null,30]
[" \n \n \n \n \n",{"$f":"IF('Formular C'!$B31<>\"\",'Formular C'!B31,\"\")","v":""},{"$f":"IF('Formular C'!$B31<>\"\",'Formular C'!C31,\"\")","v":""},"",null,null,{"$f":"IF('Formular C'!B31<>\"\",HYPERLINK($I$9&I23,Sprache!$E$26&\" \"&blattname_formular_c&\", \"&B23),\"\")","v":""},null,31]
[" \n \n \n \n \n",{"$f":"IF('Formular C'!$B32<>\"\",'Formular C'!B32,\"\")","v":""},{"$f":"IF('Formular C'!$B32<>\"\",'Formular C'!C32,\"\")","v":""},"",null,null,{"$f":"IF('Formular C'!B32<>\"\",HYPERLINK($I$9&I24,Sprache!$E$26&\" \"&blattname_formular_c&\", \"&B24),\"\")","v":""},null,32]
[" \n \n \n \n \n",{"$f":"IF('Formular C'!$B33<>\"\",'Formular C'!B33,\"\")","v":""},{"$f":"IF('Formular C'!$B33<>\"\",'Formular C'!C33,\"\")","v":""},"",null,null,{"$f":"IF('Formular C'!B33<>\"\",HYPERLINK($I$9&I25,Sprache!$E$26&\" \"&blattname_formular_c&\", \"&B25),\"\")","v":""},null,33]
[" \n \n \n \n \n",{"$f":"IF('Formular C'!$B34<>\"\",'Formular C'!B34,\"\")","v":""},{"$f":"IF('Formular C'!$B34<>\"\",'Formular C'!C34,\"\")","v":""},"",null,null,{"$f":"IF('Formular C'!B34<>\"\",HYPERLINK($I$9&I26,Sprache!$E$26&\" \"&blattname_formular_c&\", \"&B26),\"\")","v":""},null,34]
[" \n \n \n \n \n",{"$f":"IF('Formular C'!$B35<>\"\",'Formular C'!B35,\"\")","v":""},{"$f":"IF('Formular C'!$B35<>\"\",'Formular C'!C35,\"\")","v":""},"",null,null,{"$f":"IF('Formular C'!B35<>\"\",HYPERLINK($I$9&I27,Sprache!$E$26&\" \"&blattname_formular_c&\", \"&B27),\"\")","v":""},null,35]
[" \n \n \n \n \n",{"$f":"IF('Formular C'!$B36<>\"\",'Formular C'!B36,\"\")","v":""},{"$f":"IF('Formular C'!$B36<>\"\",'Formular C'!C36,\"\")","v":""},"",null,null,{"$f":"IF('Formular C'!B36<>\"\",HYPERLINK($I$9&I28,Sprache!$E$26&\" \"&blattname_formular_c&\", \"&B28),\"\")","v":""},null,36]
[" \n \n \n \n \n",{"$f":"IF('Formular C'!$B37<>\"\",'Formular C'!B37,\"\")","v":""},{"$f":"IF('Formular C'!$B37<>\"\",'Formular C'!C37,\"\")","v":""},"",null,null,{"$f":"IF('Formular C'!B37<>\"\",HYPERLINK($I$9&I29,Sprache!$E$26&\" \"&blattname_formular_c&\", \"&B29),\"\")","v":""},null,37]
[" \n \n \n \n \n",{"$f":"IF('Formular C'!$B38<>\"\",'Formular C'!B38,\"\")","v":""},{"$f":"IF('Formular C'!$B38<>\"\",'Formular C'!C38,\"\")","v":""},"",null,null,{"$f":"IF('Formular C'!B38<>\"\",HYPERLINK($I$9&I30,Sprache!$E$26&\" \"&blattname_formular_c&\", \"&B30),\"\")","v":""},null,38]
[" \n \n \n \n \n",{"$f":"IF('Formular C'!$B39<>\"\",'Formular C'!B39,\"\")","v":""},{"$f":"IF('Formular C'!$B39<>\"\",'Formular C'!C39,\"\")","v":""},"",null,null,{"$f":"IF('Formular C'!B39<>\"\",HYPERLINK($I$9&I31,Sprache!$E$26&\" \"&blattname_formular_c&\", \"&B31),\"\")","v":""},null,39]
[" \n \n \n \n \n",{"$f":"IF('Formular C'!$B40<>\"\",'Formular C'!B40,\"\")","v":""},{"$f":"IF('Formular C'!$B40<>\"\",'Formular C'!C40,\"\")","v":""},"",null,null,{"$f":"IF('Formular C'!B40<>\"\",HYPERLINK($I$9&I32,Sprache!$E$26&\" \"&blattname_formular_c&\", \"&B32),\"\")","v":""},null,40]
[" \n \n \n \n \n",{"$f":"IF('Formular C'!$B41<>\"\",'Formular C'!B41,\"\")","v":""},{"$f":"IF('Formular C'!$B41<>\"\",'Formular C'!C41,\"\")","v":""},"",null,null,{"$f":"IF('Formular C'!B41<>\"\",HYPERLINK($I$9&I33,Sprache!$E$26&\" \"&blattname_formular_c&\", \"&B33),\"\")","v":""},null,41]
[" \n \n \n \n \n",{"$f":"IF('Formular C'!$B42<>\"\",'Formular C'!B42,\"\")","v":""},{"$f":"IF('Formular C'!$B42<>\"\",'Formular C'!C42,\"\")","v":""},"",null,null,{"$f":"IF('Formular C'!B42<>\"\",HYPERLINK($I$9&I34,Sprache!$E$26&\" \"&blattname_formular_c&\", \"&B34),\"\")","v":""},null,42]
[" \n \n \n \n \n",{"$f":"IF('Formular C'!$B43<>\"\",'Formular C'!B43,\"\")","v":""},{"$f":"IF('Formular C'!$B43<>\"\",'Formular C'!C43,\"\")","v":""},"",null,null,{"$f":"IF('Formular C'!B43<>\"\",HYPERLINK($I$9&I35,Sprache!$E$26&\" \"&blattname_formular_c&\", \"&B35),\"\")","v":""},null,43]
[" \n \n \n \n \n",{"$f":"IF('Formular C'!$B44<>\"\",'Formular C'!B44,\"\")","v":""},{"$f":"IF('Formular C'!$B44<>\"\",'Formular C'!C44,\"\")","v":""},"",null,null,{"$f":"IF('Formular C'!B44<>\"\",HYPERLINK($I$9&I36,Sprache!$E$26&\" \"&blattname_formular_c&\", \"&B36),\"\")","v":""},null,44]
[" \n \n \n \n \n",{"$f":"IF('Formular C'!$B45<>\"\",'Formular C'!B45,\"\")","v":""},{"$f":"IF('Formular C'!$B45<>\"\",'Formular C'!C45,\"\")","v":""},"",null,null,{"$f":"IF('Formular C'!B45<>\"\",HYPERLINK($I$9&I37,Sprache!$E$26&\" \"&blattname_formular_c&\", \"&B37),\"\")","v":""},null,45]
[" \n \n \n \n \n",{"$f":"IF('Formular C'!$B46<>\"\",'Formular C'!B46,\"\")","v":""},{"$f":"IF('Formular C'!$B46<>\"\",'Formular C'!C46,\"\")","v":""},"",null,null,{"$f":"IF('Formular C'!B46<>\"\",HYPERLINK($I$9&I38,Sprache!$E$26&\" \"&blattname_formular_c&\", \"&B38),\"\")","v":""},null,46]
[" \n \n \n \n \n",{"$f":"IF('Formular C'!$B47<>\"\",'Formular C'!B47,\"\")","v":""},{"$f":"IF('Formular C'!$B47<>\"\",'Formular C'!C47,\"\")","v":""},"",null,null,{"$f":"IF('Formular C'!B47<>\"\",HYPERLINK($I$9&I39,Sprache!$E$26&\" \"&blattname_formular_c&\", \"&B39),\"\")","v":""},null,47]
[" \n \n \n \n \n",{"$f":"IF('Formular C'!$B48<>\"\",'Formular C'!B48,\"\")","v":""},{"$f":"IF('Formular C'!$B48<>\"\",'Formular C'!C48,\"\")","v":""},"",null,null,{"$f":"IF('Formular C'!B48<>\"\",HYPERLINK($I$9&I40,Sprache!$E$26&\" \"&blattname_formular_c&\", \"&B40),\"\")","v":""},null,48]
[" \n \n \n \n \n",{"$f":"IF('Formular C'!$B49<>\"\",'Formular C'!B49,\"\")","v":""},{"$f":"IF('Formular C'!$B49<>\"\",'Formular C'!C49,\"\")","v":""},"",null,null,{"$f":"IF('Formular C'!B49<>\"\",HYPERLINK($I$9&I41,Sprache!$E$26&\" \"&blattname_formular_c&\", \"&B41),\"\")","v":""},null,49]
[" \n \n \n \n \n",{"$f":"IF('Formular C'!$B50<>\"\",'Formular C'!B50,\"\")","v":""},{"$f":"IF('Formular C'!$B50<>\"\",'Formular C'!C50,\"\")","v":""},"",null,null,{"$f":"IF('Formular C'!B50<>\"\",HYPERLINK($I$9&I42,Sprache!$E$26&\" \"&blattname_formular_c&\", \"&B42),\"\")","v":""},null,50]
[" \n \n \n \n \n",{"$f":"IF('Formular C'!$B51<>\"\",'Formular C'!B51,\"\")","v":""},{"$f":"IF('Formular C'!$B51<>\"\",'Formular C'!C51,\"\")","v":""},"",null,null,{"$f":"IF('Formular C'!B51<>\"\",HYPERLINK($I$9&I43,Sprache!$E$26&\" \"&blattname_formular_c&\", \"&B43),\"\")","v":""},null,51]
[" \n \n \n \n \n",{"$f":"IF('Formular C'!$B52<>\"\",'Formular C'!B52,\"\")","v":""},{"$f":"IF('Formular C'!$B52<>\"\",'Formular C'!C52,\"\")","v":""},"",null,null,{"$f":"IF('Formular C'!B52<>\"\",HYPERLINK($I$9&I44,Sprache!$E$26&\" \"&blattname_formular_c&\", \"&B44),\"\")","v":""},null,52]
[" \n \n \n \n \n",{"$f":"IF('Formular C'!$B53<>\"\",'Formular C'!B53,\"\")","v":""},{"$f":"IF('Formular C'!$B53<>\"\",'Formular C'!C53,\"\")","v":""},"",null,null,{"$f":"IF('Formular C'!B53<>\"\",HYPERLINK($I$9&I45,Sprache!$E$26&\" \"&blattname_formular_c&\", \"&B45),\"\")","v":""},null,53]
[" \n \n \n \n \n",{"$f":"IF('Formular C'!$B54<>\"\",'Formular C'!B54,\"\")","v":""},{"$f":"IF('Formular C'!$B54<>\"\",'Formular C'!C54,\"\")","v":""},"",null,null,{"$f":"IF('Formular C'!B54<>\"\",HYPERLINK($I$9&I46,Sprache!$E$26&\" \"&blattname_formular_c&\", \"&B46),\"\")","v":""},null,54]
[" \n \n \n \n \n",{"$f":"IF('Formular C'!$B55<>\"\",'Formular C'!B55,\"\")","v":""},{"$f":"IF('Formular C'!$B55<>\"\",'Formular C'!C55,\"\")","v":""},"",null,null,{"$f":"IF('Formular C'!B55<>\"\",HYPERLINK($I$9&I47,Sprache!$E$26&\" \"&blattname_formular_c&\", \"&B47),\"\")","v":""},null,55]
[" \n \n \n \n \n",{"$f":"IF('Formular C'!$B56<>\"\",'Formular C'!B56,\"\")","v":""},{"$f":"IF('Formular C'!$B56<>\"\",'Formular C'!C56,\"\")","v":""},"",null,null,{"$f":"IF('Formular C'!B56<>\"\",HYPERLINK($I$9&I48,Sprache!$E$26&\" \"&blattname_formular_c&\", \"&B48),\"\")","v":""},null,56]
[" \n \n \n \n \n",{"$f":"IF('Formular C'!$B57<>\"\",'Formular C'!B57,\"\")","v":""},{"$f":"IF('Formular C'!$B57<>\"\",'Formular C'!C57,\"\")","v":""},"",null,null,{"$f":"IF('Formular C'!B57<>\"\",HYPERLINK($I$9&I49,Sprache!$E$26&\" \"&blattname_formular_c&\", \"&B49),\"\")","v":""},null,57]
[" \n \n \n \n \n",{"$f":"IF('Formular C'!$B58<>\"\",'Formular C'!B58,\"\")","v":""},{"$f":"IF('Formular C'!$B58<>\"\",'Formular C'!C58,\"\")","v":""},"",null,null,{"$f":"IF('Formular C'!B58<>\"\",HYPERLINK($I$9&I50,Sprache!$E$26&\" \"&blattname_formular_c&\", \"&B50),\"\")","v":""},null,58]
[" \n \n \n \n \n",{"$f":"IF('Formular C'!$B59<>\"\",'Formular C'!B59,\"\")","v":""},{"$f":"IF('Formular C'!$B59<>\"\",'Formular C'!C59,\"\")","v":""},"",null,null,{"$f":"IF('Formular C'!B59<>\"\",HYPERLINK($I$9&I51,Sprache!$E$26&\" \"&blattname_formular_c&\", \"&B51),\"\")","v":""},null,59]
[" \n \n \n \n \n",{"$f":"IF('Formular C'!$B60<>\"\",'Formular C'!B60,\"\")","v":""},{"$f":"IF('Formular C'!$B60<>\"\",'Formular C'!C60,\"\")","v":""},"",null,null,{"$f":"IF('Formular C'!B60<>\"\",HYPERLINK($I$9&I52,Sprache!$E$26&\" \"&blattname_formular_c&\", \"&B52),\"\")","v":""},null,60]
[" \n \n \n \n \n",{"$f":"IF('Formular C'!$B61<>\"\",'Formular C'!B61,\"\")","v":""},{"$f":"IF('Formular C'!$B61<>\"\",'Formular C'!C61,\"\")","v":""},"",null,null,{"$f":"IF('Formular C'!B61<>\"\",HYPERLINK($I$9&I53,Sprache!$E$26&\" \"&blattname_formular_c&\", \"&B53),\"\")","v":""},null,61]
[" \n \n \n \n \n",{"$f":"IF('Formular C'!$B62<>\"\",'Formular C'!B62,\"\")","v":""},{"$f":"IF('Formular C'!$B62<>\"\",'Formular C'!C62,\"\")","v":""},"",null,null,{"$f":"IF('Formular C'!B62<>\"\",HYPERLINK($I$9&I54,Sprache!$E$26&\" \"&blattname_formular_c&\", \"&B54),\"\")","v":""},null,62]
[" \n \n \n \n \n",{"$f":"IF('Formular C'!$B63<>\"\",'Formular C'!B63,\"\")","v":""},{"$f":"IF('Formular C'!$B63<>\"\",'Formular C'!C63,\"\")","v":""},"",null,null,{"$f":"IF('Formular C'!B63<>\"\",HYPERLINK($I$9&I55,Sprache!$E$26&\" \"&blattname_formular_c&\", \"&B55),\"\")","v":""},null,63]
[" \n \n \n \n \n",{"$f":"IF('Formular C'!$B64<>\"\",'Formular C'!B64,\"\")","v":""},{"$f":"IF('Formular C'!$B64<>\"\",'Formular C'!C64,\"\")","v":""},"",null,null,{"$f":"IF('Formular C'!B64<>\"\",HYPERLINK($I$9&I56,Sprache!$E$26&\" \"&blattname_formular_c&\", \"&B56),\"\")","v":""},null,64]
[" \n \n \n \n \n",{"$f":"IF('Formular C'!$B65<>\"\",'Formular C'!B65,\"\")","v":""},{"$f":"IF('Formular C'!$B65<>\"\",'Formular C'!C65,\"\")","v":""},"",null,null,{"$f":"IF('Formular C'!B65<>\"\",HYPERLINK($I$9&I57,Sprache!$E$26&\" \"&blattname_formular_c&\", \"&B57),\"\")","v":""},null,65]
[" \n \n \n \n \n",{"$f":"IF('Formular C'!$B66<>\"\",'Formular C'!B66,\"\")","v":""},{"$f":"IF('Formular C'!$B66<>\"\",'Formular C'!C66,\"\")","v":""},"",null,null,{"$f":"IF('Formular C'!B66<>\"\",HYPERLINK($I$9&I58,Sprache!$E$26&\" \"&blattname_formular_c&\", \"&B58),\"\")","v":""},null,66]
[" \n \n \n \n \n",{"$f":"IF('Formular C'!$B67<>\"\",'Formular C'!B67,\"\")","v":""},{"$f":"IF('Formular C'!$B67<>\"\",'Formular C'!C67,\"\")","v":""},"",null,null,{"$f":"IF('Formular C'!B67<>\"\",HYPERLINK($I$9&I59,Sprache!$E$26&\" \"&blattname_formular_c&\", \"&B59),\"\")","v":""},null,67]
[" \n \n \n \n \n",{"$f":"IF('Formular C'!$B68<>\"\",'Formular C'!B68,\"\")","v":""},{"$f":"IF('Formular C'!$B68<>\"\",'Formular C'!C68,\"\")","v":""},"",null,null,{"$f":"IF('Formular C'!B68<>\"\",HYPERLINK($I$9&I60,Sprache!$E$26&\" \"&blattname_formular_c&\", \"&B60),\"\")","v":""},null,68]
[" \n \n \n \n \n",{"$f":"IF('Formular C'!$B69<>\"\",'Formular C'!B69,\"\")","v":""},{"$f":"IF('Formular C'!$B69<>\"\",'Formular C'!C69,\"\")","v":""},"",null,null,{"$f":"IF('Formular C'!B69<>\"\",HYPERLINK($I$9&I61,Sprache!$E$26&\" \"&blattname_formular_c&\", \"&B61),\"\")","v":""},null,69]
[" \n \n \n \n \n",{"$f":"IF('Formular C'!$B70<>\"\",'Formular C'!B70,\"\")","v":""},{"$f":"IF('Formular C'!$B70<>\"\",'Formular C'!C70,\"\")","v":""},"",null,null,{"$f":"IF('Formular C'!B70<>\"\",HYPERLINK($I$9&I62,Sprache!$E$26&\" \"&blattname_formular_c&\", \"&B62),\"\")","v":""},null,70]
[" \n \n \n \n \n",{"$f":"IF('Formular C'!$B71<>\"\",'Formular C'!B71,\"\")","v":""},{"$f":"IF('Formular C'!$B71<>\"\",'Formular C'!C71,\"\")","v":""},"",null,null,{"$f":"IF('Formular C'!B71<>\"\",HYPERLINK($I$9&I63,Sprache!$E$26&\" \"&blattname_formular_c&\", \"&B63),\"\")","v":""},null,71]
[" \n \n \n \n \n",{"$f":"IF('Formular C'!$B72<>\"\",'Formular C'!B72,\"\")","v":""},{"$f":"IF('Formular C'!$B72<>\"\",'Formular C'!C72,\"\")","v":""},"",null,null,{"$f":"IF('Formular C'!B72<>\"\",HYPERLINK($I$9&I64,Sprache!$E$26&\" \"&blattname_formular_c&\", \"&B64),\"\")","v":""},null,72]
[" \n \n \n \n \n",{"$f":"IF('Formular C'!$B73<>\"\",'Formular C'!B73,\"\")","v":""},{"$f":"IF('Formular C'!$B73<>\"\",'Formular C'!C73,\"\")","v":""},"",null,null,{"$f":"IF('Formular C'!B73<>\"\",HYPERLINK($I$9&I65,Sprache!$E$26&\" \"&blattname_formular_c&\", \"&B65),\"\")","v":""},null,73]
[" \n \n \n \n \n",{"$f":"IF('Formular C'!$B74<>\"\",'Formular C'!B74,\"\")","v":""},{"$f":"IF('Formular C'!$B74<>\"\",'Formular C'!C74,\"\")","v":""},"",null,null,{"$f":"IF('Formular C'!B74<>\"\",HYPERLINK($I$9&I66,Sprache!$E$26&\" \"&blattname_formular_c&\", \"&B66),\"\")","v":""},null,74]
[" \n \n \n \n \n",{"$f":"IF('Formular C'!$B75<>\"\",'Formular C'!B75,\"\")","v":""},{"$f":"IF('Formular C'!$B75<>\"\",'Formular C'!C75,\"\")","v":""},"",null,null,{"$f":"IF('Formular C'!B75<>\"\",HYPERLINK($I$9&I67,Sprache!$E$26&\" \"&blattname_formular_c&\", \"&B67),\"\")","v":""},null,75]
[" \n \n \n \n \n",{"$f":"IF('Formular C'!$B76<>\"\",'Formular C'!B76,\"\")","v":""},{"$f":"IF('Formular C'!$B76<>\"\",'Formular C'!C76,\"\")","v":""},"",null,null,{"$f":"IF('Formular C'!B76<>\"\",HYPERLINK($I$9&I68,Sprache!$E$26&\" \"&blattname_formular_c&\", \"&B68),\"\")","v":""},null,76]
[" \n \n \n \n \n",{"$f":"IF('Formular C'!$B77<>\"\",'Formular C'!B77,\"\")","v":""},{"$f":"IF('Formular C'!$B77<>\"\",'Formular C'!C77,\"\")","v":""},"",null,null,{"$f":"IF('Formular C'!B77<>\"\",HYPERLINK($I$9&I69,Sprache!$E$26&\" \"&blattname_formular_c&\", \"&B69),\"\")","v":""},null,77]
[" \n \n \n \n \n",{"$f":"IF('Formular C'!$B78<>\"\",'Formular C'!B78,\"\")","v":""},{"$f":"IF('Formular C'!$B78<>\"\",'Formular C'!C78,\"\")","v":""},"",null,null,{"$f":"IF('Formular C'!B78<>\"\",HYPERLINK($I$9&I70,Sprache!$E$26&\" \"&blattname_formular_c&\", \"&B70),\"\")","v":""},null,78]
[" \n \n \n \n \n",{"$f":"IF('Formular C'!$B79<>\"\",'Formular C'!B79,\"\")","v":""},{"$f":"IF('Formular C'!$B79<>\"\",'Formular C'!C79,\"\")","v":""},"",null,null,{"$f":"IF('Formular C'!B79<>\"\",HYPERLINK($I$9&I71,Sprache!$E$26&\" \"&blattname_formular_c&\", \"&B71),\"\")","v":""},null,79]
[" \n \n \n \n \n",{"$f":"IF('Formular C'!$B80<>\"\",'Formular C'!B80,\"\")","v":""},{"$f":"IF('Formular C'!$B80<>\"\",'Formular C'!C80,\"\")","v":""},"",null,null,{"$f":"IF('Formular C'!B80<>\"\",HYPERLINK($I$9&I72,Sprache!$E$26&\" \"&blattname_formular_c&\", \"&B72),\"\")","v":""},null,80]
[" \n \n \n \n \n",{"$f":"IF('Formular C'!$B81<>\"\",'Formular C'!B81,\"\")","v":""},{"$f":"IF('Formular C'!$B81<>\"\",'Formular C'!C81,\"\")","v":""},"",null,null,{"$f":"IF('Formular C'!B81<>\"\",HYPERLINK($I$9&I73,Sprache!$E$26&\" \"&blattname_formular_c&\", \"&B73),\"\")","v":""},null,81]
[" \n \n \n \n \n",{"$f":"IF('Formular C'!$B82<>\"\",'Formular C'!B82,\"\")","v":""},{"$f":"IF('Formular C'!$B82<>\"\",'Formular C'!C82,\"\")","v":""},"",null,null,{"$f":"IF('Formular C'!B82<>\"\",HYPERLINK($I$9&I74,Sprache!$E$26&\" \"&blattname_formular_c&\", \"&B74),\"\")","v":""},null,82]
[" \n \n \n \n \n",{"$f":"IF('Formular C'!$B83<>\"\",'Formular C'!B83,\"\")","v":""},{"$f":"IF('Formular C'!$B83<>\"\",'Formular C'!C83,\"\")","v":""},"",null,null,{"$f":"IF('Formular C'!B83<>\"\",HYPERLINK($I$9&I75,Sprache!$E$26&\" \"&blattname_formular_c&\", \"&B75),\"\")","v":""},null,83]
[" \n \n \n \n \n",{"$f":"IF('Formular C'!$B84<>\"\",'Formular C'!B84,\"\")","v":""},{"$f":"IF('Formular C'!$B84<>\"\",'Formular C'!C84,\"\")","v":""},"",null,null,{"$f":"IF('Formular C'!B84<>\"\",HYPERLINK($I$9&I76,Sprache!$E$26&\" \"&blattname_formular_c&\", \"&B76),\"\")","v":""},null,84]
[" \n \n \n \n \n",{"$f":"IF('Formular C'!$B85<>\"\",'Formular C'!B85,\"\")","v":""},{"$f":"IF('Formular C'!$B85<>\"\",'Formular C'!C85,\"\")","v":""},"",null,null,{"$f":"IF('Formular C'!B85<>\"\",HYPERLINK($I$9&I77,Sprache!$E$26&\" \"&blattname_formular_c&\", \"&B77),\"\")","v":""},null,85]
[" \n \n \n \n \n",{"$f":"IF('Formular C'!$B86<>\"\",'Formular C'!B86,\"\")","v":""},{"$f":"IF('Formular C'!$B86<>\"\",'Formular C'!C86,\"\")","v":""},"",null,null,{"$f":"IF('Formular C'!B86<>\"\",HYPERLINK($I$9&I78,Sprache!$E$26&\" \"&blattname_formular_c&\", \"&B78),\"\")","v":""},null,86]
[" \n \n \n \n \n",{"$f":"IF('Formular C'!$B87<>\"\",'Formular C'!B87,\"\")","v":""},{"$f":"IF('Formular C'!$B87<>\"\",'Formular C'!C87,\"\")","v":""},"",null,null,{"$f":"IF('Formular C'!B87<>\"\",HYPERLINK($I$9&I79,Sprache!$E$26&\" \"&blattname_formular_c&\", \"&B79),\"\")","v":""},null,87]
[" \n \n \n \n \n",{"$f":"IF('Formular C'!$B88<>\"\",'Formular C'!B88,\"\")","v":""},{"$f":"IF('Formular C'!$B88<>\"\",'Formular C'!C88,\"\")","v":""},"",null,null,{"$f":"IF('Formular C'!B88<>\"\",HYPERLINK($I$9&I80,Sprache!$E$26&\" \"&blattname_formular_c&\", \"&B80),\"\")","v":""},null,88]
[" \n \n \n \n \n",{"$f":"IF('Formular C'!$B89<>\"\",'Formular C'!B89,\"\")","v":""},{"$f":"IF('Formular C'!$B89<>\"\",'Formular C'!C89,\"\")","v":""},"",null,null,{"$f":"IF('Formular C'!B89<>\"\",HYPERLINK($I$9&I81,Sprache!$E$26&\" \"&blattname_formular_c&\", \"&B81),\"\")","v":""},null,{"$f":"I80+1","v":89}]
[" \n \n \n \n \n",{"$f":"IF('Formular C'!$B90<>\"\",'Formular C'!B90,\"\")","v":""},{"$f":"IF('Formular C'!$B90<>\"\",'Formular C'!C90,\"\")","v":""},"",null,null,{"$f":"IF('Formular C'!B90<>\"\",HYPERLINK($I$9&I82,Sprache!$E$26&\" \"&blattname_formular_c&\", \"&B82),\"\")","v":""},null,90]
[" \n \n \n \n \n",{"$f":"IF('Formular C'!$B91<>\"\",'Formular C'!B91,\"\")","v":""},{"$f":"IF('Formular C'!$B91<>\"\",'Formular C'!C91,\"\")","v":""},"",null,null,{"$f":"IF('Formular C'!B91<>\"\",HYPERLINK($I$9&I83,Sprache!$E$26&\" \"&blattname_formular_c&\", \"&B83),\"\")","v":""},null,91]
[" \n \n \n \n \n",{"$f":"IF('Formular C'!$B92<>\"\",'Formular C'!B92,\"\")","v":""},{"$f":"IF('Formular C'!$B92<>\"\",'Formular C'!C92,\"\")","v":""},"",null,null,{"$f":"IF('Formular C'!B92<>\"\",HYPERLINK($I$9&I84,Sprache!$E$26&\" \"&blattname_formular_c&\", \"&B84),\"\")","v":""},null,92]
[" \n \n \n \n \n",{"$f":"IF('Formular C'!$B93<>\"\",'Formular C'!B93,\"\")","v":""},{"$f":"IF('Formular C'!$B93<>\"\",'Formular C'!C93,\"\")","v":""},"",null,null,{"$f":"IF('Formular C'!B93<>\"\",HYPERLINK($I$9&I85,Sprache!$E$26&\" \"&blattname_formular_c&\", \"&B85),\"\")","v":""},null,93]
[" \n \n \n \n \n",{"$f":"IF('Formular C'!$B94<>\"\",'Formular C'!B94,\"\")","v":""},{"$f":"IF('Formular C'!$B94<>\"\",'Formular C'!C94,\"\")","v":""},"",null,null,{"$f":"IF('Formular C'!B94<>\"\",HYPERLINK($I$9&I86,Sprache!$E$26&\" \"&blattname_formular_c&\", \"&B86),\"\")","v":""},null,94]
[" \n \n \n \n \n",{"$f":"IF('Formular C'!$B95<>\"\",'Formular C'!B95,\"\")","v":""},{"$f":"IF('Formular C'!$B95<>\"\",'Formular C'!C95,\"\")","v":""},"",null,null,{"$f":"IF('Formular C'!B95<>\"\",HYPERLINK($I$9&I87,Sprache!$E$26&\" \"&blattname_formular_c&\", \"&B87),\"\")","v":""},null,95]
[" \n \n \n \n \n",{"$f":"IF('Formular C'!$B96<>\"\",'Formular C'!B96,\"\")","v":""},{"$f":"IF('Formular C'!$B96<>\"\",'Formular C'!C96,\"\")","v":""},"",null,null,{"$f":"IF('Formular C'!B96<>\"\",HYPERLINK($I$9&I88,Sprache!$E$26&\" \"&blattname_formular_c&\", \"&B88),\"\")","v":""},null,96]
[" \n \n \n \n \n",{"$f":"IF('Formular C'!$B97<>\"\",'Formular C'!B97,\"\")","v":""},{"$f":"IF('Formular C'!$B97<>\"\",'Formular C'!C97,\"\")","v":""},"",null,null,{"$f":"IF('Formular C'!B97<>\"\",HYPERLINK($I$9&I89,Sprache!$E$26&\" \"&blattname_formular_c&\", \"&B89),\"\")","v":""},null,97]
[" \n \n \n \n \n",{"$f":"IF('Formular C'!$B98<>\"\",'Formular C'!B98,\"\")","v":""},{"$f":"IF('Formular C'!$B98<>\"\",'Formular C'!C98,\"\")","v":""},"",null,null,{"$f":"IF('Formular C'!B98<>\"\",HYPERLINK($I$9&I90,Sprache!$E$26&\" \"&blattname_formular_c&\", \"&B90),\"\")","v":""},null,98]
[" \n \n \n \n \n",{"$f":"IF('Formular C'!$B99<>\"\",'Formular C'!B99,\"\")","v":""},{"$f":"IF('Formular C'!$B99<>\"\",'Formular C'!C99,\"\")","v":""},"",null,null,{"$f":"IF('Formular C'!B99<>\"\",HYPERLINK($I$9&I91,Sprache!$E$26&\" \"&blattname_formular_c&\", \"&B91),\"\")","v":""},null,99]
[" \n \n \n \n \n",{"$f":"IF('Formular C'!$B100<>\"\",'Formular C'!B100,\"\")","v":""},{"$f":"IF('Formular C'!$B100<>\"\",'Formular C'!C100,\"\")","v":""},"",null,null,{"$f":"IF('Formular C'!B100<>\"\",HYPERLINK($I$9&I92,Sprache!$E$26&\" \"&blattname_formular_c&\", \"&B92),\"\")","v":""},null,100]
[" \n \n \n \n \n",{"$f":"IF('Formular C'!$B101<>\"\",'Formular C'!B101,\"\")","v":""},{"$f":"IF('Formular C'!$B101<>\"\",'Formular C'!C101,\"\")","v":""},"",null,null,{"$f":"IF('Formular C'!B101<>\"\",HYPERLINK($I$9&I93,Sprache!$E$26&\" \"&blattname_formular_c&\", \"&B93),\"\")","v":""},null,101]
[" \n \n \n \n \n",{"$f":"IF('Formular C'!$B102<>\"\",'Formular C'!B102,\"\")","v":""},{"$f":"IF('Formular C'!$B102<>\"\",'Formular C'!C102,\"\")","v":""},"",null,null,{"$f":"IF('Formular C'!B102<>\"\",HYPERLINK($I$9&I94,Sprache!$E$26&\" \"&blattname_formular_c&\", \"&B94),\"\")","v":""},null,102]
[" \n \n \n \n \n",{"$f":"IF('Formular C'!$B103<>\"\",'Formular C'!B103,\"\")","v":""},{"$f":"IF('Formular C'!$B103<>\"\",'Formular C'!C103,\"\")","v":""},"",null,null,{"$f":"IF('Formular C'!B103<>\"\",HYPERLINK($I$9&I95,Sprache!$E$26&\" \"&blattname_formular_c&\", \"&B95),\"\")","v":""},null,103]
[" \n \n \n \n \n",{"$f":"IF('Formular C'!$B104<>\"\",'Formular C'!B104,\"\")","v":""},{"$f":"IF('Formular C'!$B104<>\"\",'Formular C'!C104,\"\")","v":""},"",null,null,{"$f":"IF('Formular C'!B104<>\"\",HYPERLINK($I$9&I96,Sprache!$E$26&\" \"&blattname_formular_c&\", \"&B96),\"\")","v":""},null,104]
[" \n \n \n \n \n",{"$f":"IF('Formular C'!$B105<>\"\",'Formular C'!B105,\"\")","v":""},{"$f":"IF('Formular C'!$B105<>\"\",'Formular C'!C105,\"\")","v":""},"",null,null,{"$f":"IF('Formular C'!B105<>\"\",HYPERLINK($I$9&I97,Sprache!$E$26&\" \"&blattname_formular_c&\", \"&B97),\"\")","v":""},null,105]
[" \n \n \n \n \n",{"$f":"IF('Formular C'!$B106<>\"\",'Formular C'!B106,\"\")","v":""},{"$f":"IF('Formular C'!$B106<>\"\",'Formular C'!C106,\"\")","v":""},"",null,null,{"$f":"IF('Formular C'!B106<>\"\",HYPERLINK($I$9&I98,Sprache!$E$26&\" \"&blattname_formular_c&\", \"&B98),\"\")","v":""},null,106]
[" \n \n \n \n \n",{"$f":"IF('Formular C'!$B107<>\"\",'Formular C'!B107,\"\")","v":""},{"$f":"IF('Formular C'!$B107<>\"\",'Formular C'!C107,\"\")","v":""},"",null,null,{"$f":"IF('Formular C'!B107<>\"\",HYPERLINK($I$9&I99,Sprache!$E$26&\" \"&blattname_formular_c&\", \"&B99),\"\")","v":""},null,107]
[" \n \n \n \n \n",{"$f":"IF('Formular C'!$B108<>\"\",'Formular C'!B108,\"\")","v":""},{"$f":"IF('Formular C'!$B108<>\"\",'Formular C'!C108,\"\")","v":""},"",null,null,{"$f":"IF('Formular C'!B108<>\"\",HYPERLINK($I$9&I100,Sprache!$E$26&\" \"&blattname_formular_c&\", \"&B100),\"\")","v":""},null,108]
[" \n \n \n \n \n",{"$f":"IF('Formular C'!$B109<>\"\",'Formular C'!B109,\"\")","v":""},{"$f":"IF('Formular C'!$B109<>\"\",'Formular C'!C109,\"\")","v":""},"",null,null,{"$f":"IF('Formular C'!B109<>\"\",HYPERLINK($I$9&I101,Sprache!$E$26&\" \"&blattname_formular_c&\", \"&B101),\"\")","v":""},null,109]
[" \n \n \n \n \n",{"$f":"IF('Formular C'!$B110<>\"\",'Formular C'!B110,\"\")","v":""},{"$f":"IF('Formular C'!$B110<>\"\",'Formular C'!C110,\"\")","v":""},"",null,null,{"$f":"IF('Formular C'!B110<>\"\",HYPERLINK($I$9&I102,Sprache!$E$26&\" \"&blattname_formular_c&\", \"&B102),\"\")","v":""},null,110]
[" \n \n \n \n \n",{"$f":"IF('Formular C'!$B111<>\"\",'Formular C'!B111,\"\")","v":""},{"$f":"IF('Formular C'!$B111<>\"\",'Formular C'!C111,\"\")","v":""},"",null,null,{"$f":"IF('Formular C'!B111<>\"\",HYPERLINK($I$9&I103,Sprache!$E$26&\" \"&blattname_formular_c&\", \"&B103),\"\")","v":""},null,111]
[" \n \n \n \n \n",{"$f":"IF('Formular C'!$B112<>\"\",'Formular C'!B112,\"\")","v":""},{"$f":"IF('Formular C'!$B112<>\"\",'Formular C'!C112,\"\")","v":""},"",null,null,{"$f":"IF('Formular C'!B112<>\"\",HYPERLINK($I$9&I104,Sprache!$E$26&\" \"&blattname_formular_c&\", \"&B104),\"\")","v":""},null,112]
[" \n \n \n \n \n",{"$f":"IF('Formular C'!$B113<>\"\",'Formular C'!B113,\"\")","v":""},{"$f":"IF('Formular C'!$B113<>\"\",'Formular C'!C113,\"\")","v":""},"",null,null,{"$f":"IF('Formular C'!B113<>\"\",HYPERLINK($I$9&I105,Sprache!$E$26&\" \"&blattname_formular_c&\", \"&B105),\"\")","v":""},null,113]
[" \n \n \n \n \n",{"$f":"IF('Formular C'!$B114<>\"\",'Formular C'!B114,\"\")","v":""},{"$f":"IF('Formular C'!$B114<>\"\",'Formular C'!C114,\"\")","v":""},"",null,null,{"$f":"IF('Formular C'!B114<>\"\",HYPERLINK($I$9&I106,Sprache!$E$26&\" \"&blattname_formular_c&\", \"&B106),\"\")","v":""},null,114]
[" \n \n \n \n \n",{"$f":"IF('Formular C'!$B115<>\"\",'Formular C'!B115,\"\")","v":""},{"$f":"IF('Formular C'!$B115<>\"\",'Formular C'!C115,\"\")","v":""},"",null,null,{"$f":"IF('Formular C'!B115<>\"\",HYPERLINK($I$9&I107,Sprache!$E$26&\" \"&blattname_formular_c&\", \"&B107),\"\")","v":""},null,115]
[" \n \n \n \n \n",{"$f":"IF('Formular C'!$B116<>\"\",'Formular C'!B116,\"\")","v":""},{"$f":"IF('Formular C'!$B116<>\"\",'Formular C'!C116,\"\")","v":""},"",null,null,{"$f":"IF('Formular C'!B116<>\"\",HYPERLINK($I$9&I108,Sprache!$E$26&\" \"&blattname_formular_c&\", \"&B108),\"\")","v":""},null,116]
[" \n \n \n \n \n",{"$f":"IF('Formular C'!$B117<>\"\",'Formular C'!B117,\"\")","v":""},{"$f":"IF('Formular C'!$B117<>\"\",'Formular C'!C117,\"\")","v":""},"",null,null,{"$f":"IF('Formular C'!B117<>\"\",HYPERLINK($I$9&I109,Sprache!$E$26&\" \"&blattname_formular_c&\", \"&B109),\"\")","v":""},null,117]
[" \n \n \n \n \n",{"$f":"IF('Formular C'!$B118<>\"\",'Formular C'!B118,\"\")","v":""},{"$f":"IF('Formular C'!$B118<>\"\",'Formular C'!C118,\"\")","v":""},"",null,null,{"$f":"IF('Formular C'!B118<>\"\",HYPERLINK($I$9&I110,Sprache!$E$26&\" \"&blattname_formular_c&\", \"&B110),\"\")","v":""},null,118]
[" \n \n \n \n \n",{"$f":"IF('Formular C'!$B119<>\"\",'Formular C'!B119,\"\")","v":""},{"$f":"IF('Formular C'!$B119<>\"\",'Formular C'!C119,\"\")","v":""},"",null,null,{"$f":"IF('Formular C'!B119<>\"\",HYPERLINK($I$9&I111,Sprache!$E$26&\" \"&blattname_formular_c&\", \"&B111),\"\")","v":""},null,119]
[" \n \n \n \n \n",{"$f":"IF('Formular C'!$B120<>\"\",'Formular C'!B120,\"\")","v":""},{"$f":"IF('Formular C'!$B120<>\"\",'Formular C'!C120,\"\")","v":""},"",null,null,{"$f":"IF('Formular C'!B120<>\"\",HYPERLINK($I$9&I112,Sprache!$E$26&\" \"&blattname_formular_c&\", \"&B112),\"\")","v":""},null,120]
[" \n \n \n \n \n",{"$f":"IF('Formular C'!$B121<>\"\",'Formular C'!B121,\"\")","v":""},{"$f":"IF('Formular C'!$B121<>\"\",'Formular C'!C121,\"\")","v":""},"",null,null,{"$f":"IF('Formular C'!B121<>\"\",HYPERLINK($I$9&I113,Sprache!$E$26&\" \"&blattname_formular_c&\", \"&B113),\"\")","v":""},null,121]
[" \n \n \n \n \n",{"$f":"IF('Formular C'!$B122<>\"\",'Formular C'!B122,\"\")","v":""},{"$f":"IF('Formular C'!$B122<>\"\",'Formular C'!C122,\"\")","v":""},"",null,null,{"$f":"IF('Formular C'!B122<>\"\",HYPERLINK($I$9&I114,Sprache!$E$26&\" \"&blattname_formular_c&\", \"&B114),\"\")","v":""},null,122]
[" \n \n \n \n \n",{"$f":"IF('Formular C'!$B123<>\"\",'Formular C'!B123,\"\")","v":""},{"$f":"IF('Formular C'!$B123<>\"\",'Formular C'!C123,\"\")","v":""},"",null,null,{"$f":"IF('Formular C'!B123<>\"\",HYPERLINK($I$9&I115,Sprache!$E$26&\" \"&blattname_formular_c&\", \"&B115),\"\")","v":""},null,123]
[" \n \n \n \n \n",null,null,null,null,null,null,null,124]
[" \n \n \n \n \n",{"$f":"IF('Formular C'!$B125<>\"\",'Formular C'!B125,\"\")","v":""},{"$f":"IF('Formular C'!$B125<>\"\",'Formular C'!C125,\"\")","v":""},"",null,null,{"$f":"IF('Formular C'!B125<>\"\",HYPERLINK($I$9&I117,Sprache!$E$26&\" \"&blattname_formular_c&\", \"&B117),\"\")","v":""},null,125]
[" \n \n \n \n \n",{"$f":"IF('Formular C'!$B126<>\"\",'Formular C'!B126,\"\")","v":""},{"$f":"IF('Formular C'!$B126<>\"\",'Formular C'!C126,\"\")","v":""},"",null,null,{"$f":"IF('Formular C'!B126<>\"\",HYPERLINK($I$9&I118,Sprache!$E$26&\" \"&blattname_formular_c&\", \"&B118),\"\")","v":""},null,126]
[" \n \n \n \n \n",{"$f":"IF('Formular C'!$B127<>\"\",'Formular C'!B127,\"\")","v":""},{"$f":"IF('Formular C'!$B127<>\"\",'Formular C'!C127,\"\")","v":""},"",null,null,{"$f":"IF('Formular C'!B127<>\"\",HYPERLINK($I$9&I119,Sprache!$E$26&\" \"&blattname_formular_c&\", \"&B119),\"\")","v":""},null,127]
[" \n \n \n \n \n",{"$f":"IF('Formular C'!$B128<>\"\",'Formular C'!B128,\"\")","v":""},{"$f":"IF('Formular C'!$B128<>\"\",'Formular C'!C128,\"\")","v":""},"",null,null,{"$f":"IF('Formular C'!B128<>\"\",HYPERLINK($I$9&I120,Sprache!$E$26&\" \"&blattname_formular_c&\", \"&B120),\"\")","v":""},null,128]
[" \n \n \n \n \n",{"$f":"IF('Formular C'!$B129<>\"\",'Formular C'!B129,\"\")","v":""},{"$f":"IF('Formular C'!$B129<>\"\",'Formular C'!C129,\"\")","v":""},"",null,null,{"$f":"IF('Formular C'!B129<>\"\",HYPERLINK($I$9&I121,Sprache!$E$26&\" \"&blattname_formular_c&\", \"&B121),\"\")","v":""},null,129]
[" \n \n \n \n \n",{"$f":"IF('Formular C'!$B130<>\"\",'Formular C'!B130,\"\")","v":""},{"$f":"IF('Formular C'!$B130<>\"\",'Formular C'!C130,\"\")","v":""},"",null,null,{"$f":"IF('Formular C'!B130<>\"\",HYPERLINK($I$9&I122,Sprache!$E$26&\" \"&blattname_formular_c&\", \"&B122),\"\")","v":""},null,130]
[" \n \n \n \n \n",{"$f":"IF('Formular C'!$B131<>\"\",'Formular C'!B131,\"\")","v":""},{"$f":"IF('Formular C'!$B131<>\"\",'Formular C'!C131,\"\")","v":""},"",null,null,{"$f":"IF('Formular C'!B131<>\"\",HYPERLINK($I$9&I123,Sprache!$E$26&\" \"&blattname_formular_c&\", \"&B123),\"\")","v":""},null,131]
[" \n \n \n \n \n",{"$f":"IF('Formular C'!$B132<>\"\",'Formular C'!B132,\"\")","v":""},{"$f":"IF('Formular C'!$B132<>\"\",'Formular C'!C132,\"\")","v":""},"",null,null,{"$f":"IF('Formular C'!B132<>\"\",HYPERLINK($I$9&I124,Sprache!$E$26&\" \"&blattname_formular_c&\", \"&B124),\"\")","v":""},null,132]
[" \n \n \n \n \n",{"$f":"IF('Formular C'!$B133<>\"\",'Formular C'!B133,\"\")","v":""},{"$f":"IF('Formular C'!$B133<>\"\",'Formular C'!C133,\"\")","v":""},"",null,null,{"$f":"IF('Formular C'!B133<>\"\",HYPERLINK($I$9&I125,Sprache!$E$26&\" \"&blattname_formular_c&\", \"&B125),\"\")","v":""},null,133]
[" \n \n \n \n \n",{"$f":"IF('Formular C'!$B134<>\"\",'Formular C'!B134,\"\")","v":""},{"$f":"IF('Formular C'!$B134<>\"\",'Formular C'!C134,\"\")","v":""},"",null,null,{"$f":"IF('Formular C'!B134<>\"\",HYPERLINK($I$9&I126,Sprache!$E$26&\" \"&blattname_formular_c&\", \"&B126),\"\")","v":""},null,134]
[" \n \n \n \n \n",{"$f":"IF('Formular C'!$B135<>\"\",'Formular C'!B135,\"\")","v":""},{"$f":"IF('Formular C'!$B135<>\"\",'Formular C'!C135,\"\")","v":""},"",null,null,{"$f":"IF('Formular C'!B135<>\"\",HYPERLINK($I$9&I127,Sprache!$E$26&\" \"&blattname_formular_c&\", \"&B127),\"\")","v":""},null,135]
[" \n \n \n \n \n",{"$f":"IF('Formular C'!$B136<>\"\",'Formular C'!B136,\"\")","v":""},{"$f":"IF('Formular C'!$B136<>\"\",'Formular C'!C136,\"\")","v":""},"",null,null,{"$f":"IF('Formular C'!B136<>\"\",HYPERLINK($I$9&I128,Sprache!$E$26&\" \"&blattname_formular_c&\", \"&B128),\"\")","v":""},null,136]
[" \n \n \n \n \n",{"$f":"IF('Formular C'!$B137<>\"\",'Formular C'!B137,\"\")","v":""},{"$f":"IF('Formular C'!$B137<>\"\",'Formular C'!C137,\"\")","v":""},"",null,null,{"$f":"IF('Formular C'!B137<>\"\",HYPERLINK($I$9&I129,Sprache!$E$26&\" \"&blattname_formular_c&\", \"&B129),\"\")","v":""},null,137]
[" \n \n \n \n \n",{"$f":"IF('Formular C'!$B138<>\"\",'Formular C'!B138,\"\")","v":""},{"$f":"IF('Formular C'!$B138<>\"\",'Formular C'!C138,\"\")","v":""},"",null,null,{"$f":"IF('Formular C'!B138<>\"\",HYPERLINK($I$9&I130,Sprache!$E$26&\" \"&blattname_formular_c&\", \"&B130),\"\")","v":""},null,138]
[" \n \n \n \n \n",{"$f":"IF('Formular C'!$B139<>\"\",'Formular C'!B139,\"\")","v":""},{"$f":"IF('Formular C'!$B139<>\"\",'Formular C'!C139,\"\")","v":""},"",null,null,{"$f":"IF('Formular C'!B139<>\"\",HYPERLINK($I$9&I131,Sprache!$E$26&\" \"&blattname_formular_c&\", \"&B131),\"\")","v":""},null,139]
[" \n \n \n \n \n",{"$f":"IF('Formular C'!$B140<>\"\",'Formular C'!B140,\"\")","v":""},{"$f":"IF('Formular C'!$B140<>\"\",'Formular C'!C140,\"\")","v":""},"",null,null,{"$f":"IF('Formular C'!B140<>\"\",HYPERLINK($I$9&I132,Sprache!$E$26&\" \"&blattname_formular_c&\", \"&B132),\"\")","v":""},null,140]
[" \n \n \n \n \n",{"$f":"IF('Formular C'!$B141<>\"\",'Formular C'!B141,\"\")","v":""},{"$f":"IF('Formular C'!$B141<>\"\",'Formular C'!C141,\"\")","v":""},"",null,null,{"$f":"IF('Formular C'!B141<>\"\",HYPERLINK($I$9&I133,Sprache!$E$26&\" \"&blattname_formular_c&\", \"&B133),\"\")","v":""},null,141]
[" \n \n \n \n \n",{"$f":"IF('Formular C'!$B142<>\"\",'Formular C'!B142,\"\")","v":""},{"$f":"IF('Formular C'!$B142<>\"\",'Formular C'!C142,\"\")","v":""},"",null,null,{"$f":"IF('Formular C'!B142<>\"\",HYPERLINK($I$9&I134,Sprache!$E$26&\" \"&blattname_formular_c&\", \"&B134),\"\")","v":""},null,142]
[" \n \n \n \n \n",{"$f":"IF('Formular C'!$B143<>\"\",'Formular C'!B143,\"\")","v":""},{"$f":"IF('Formular C'!$B143<>\"\",'Formular C'!C143,\"\")","v":""},"",null,null,{"$f":"IF('Formular C'!B143<>\"\",HYPERLINK($I$9&I135,Sprache!$E$26&\" \"&blattname_formular_c&\", \"&B135),\"\")","v":""},null,143]
[" \n \n \n \n \n",{"$f":"IF('Formular C'!$B144<>\"\",'Formular C'!B144,\"\")","v":""},{"$f":"IF('Formular C'!$B144<>\"\",'Formular C'!C144,\"\")","v":""},"",null,null,{"$f":"IF('Formular C'!B144<>\"\",HYPERLINK($I$9&I136,Sprache!$E$26&\" \"&blattname_formular_c&\", \"&B136),\"\")","v":""},null,144]
[" \n \n \n \n \n",{"$f":"IF('Formular C'!$B145<>\"\",'Formular C'!B145,\"\")","v":""},{"$f":"IF('Formular C'!$B145<>\"\",'Formular C'!C145,\"\")","v":""},"",null,null,{"$f":"IF('Formular C'!B145<>\"\",HYPERLINK($I$9&I137,Sprache!$E$26&\" \"&blattname_formular_c&\", \"&B137),\"\")","v":""},null,145]
[" \n \n \n \n \n",{"$f":"IF('Formular C'!$B146<>\"\",'Formular C'!B146,\"\")","v":""},{"$f":"IF('Formular C'!$B146<>\"\",'Formular C'!C146,\"\")","v":""},"",null,null,{"$f":"IF('Formular C'!B146<>\"\",HYPERLINK($I$9&I138,Sprache!$E$26&\" \"&blattname_formular_c&\", \"&B138),\"\")","v":""},null,146]
[" \n \n \n \n \n",{"$f":"IF('Formular C'!$B147<>\"\",'Formular C'!B147,\"\")","v":""},{"$f":"IF('Formular C'!$B147<>\"\",'Formular C'!C147,\"\")","v":""},"",null,null,{"$f":"IF('Formular C'!B147<>\"\",HYPERLINK($I$9&I139,Sprache!$E$26&\" \"&blattname_formular_c&\", \"&B139),\"\")","v":""},null,147]
[" \n \n \n \n \n",{"$f":"IF('Formular C'!$B148<>\"\",'Formular C'!B148,\"\")","v":""},{"$f":"IF('Formular C'!$B148<>\"\",'Formular C'!C148,\"\")","v":""},"",null,null,{"$f":"IF('Formular C'!B148<>\"\",HYPERLINK($I$9&I140,Sprache!$E$26&\" \"&blattname_formular_c&\", \"&B140),\"\")","v":""},null,148]
[" \n \n \n \n \n",{"$f":"IF('Formular C'!$B149<>\"\",'Formular C'!B149,\"\")","v":""},{"$f":"IF('Formular C'!$B149<>\"\",'Formular C'!C149,\"\")","v":""},"",null,null,{"$f":"IF('Formular C'!B149<>\"\",HYPERLINK($I$9&I141,Sprache!$E$26&\" \"&blattname_formular_c&\", \"&B141),\"\")","v":""},null,149]
[" \n \n \n \n \n",{"$f":"IF('Formular C'!$B150<>\"\",'Formular C'!B150,\"\")","v":""},{"$f":"IF('Formular C'!$B150<>\"\",'Formular C'!C150,\"\")","v":""},"",null,null,{"$f":"IF('Formular C'!B150<>\"\",HYPERLINK($I$9&I142,Sprache!$E$26&\" \"&blattname_formular_c&\", \"&B142),\"\")","v":""},null,150]
[" \n \n \n \n \n",{"$f":"IF('Formular C'!$B151<>\"\",'Formular C'!B151,\"\")","v":""},{"$f":"IF('Formular C'!$B151<>\"\",'Formular C'!C151,\"\")","v":""},"",null,null,{"$f":"IF('Formular C'!B151<>\"\",HYPERLINK($I$9&I143,Sprache!$E$26&\" \"&blattname_formular_c&\", \"&B143),\"\")","v":""},null,151]
[" \n \n \n \n \n",{"$f":"IF('Formular C'!$B152<>\"\",'Formular C'!B152,\"\")","v":""},{"$f":"IF('Formular C'!$B152<>\"\",'Formular C'!C152,\"\")","v":""},"",null,null,{"$f":"IF('Formular C'!B152<>\"\",HYPERLINK($I$9&I144,Sprache!$E$26&\" \"&blattname_formular_c&\", \"&B144),\"\")","v":""},null,152]
[" \n \n \n \n \n",{"$f":"IF('Formular C'!$B153<>\"\",'Formular C'!B153,\"\")","v":""},{"$f":"IF('Formular C'!$B153<>\"\",'Formular C'!C153,\"\")","v":""},"",null,null,{"$f":"IF('Formular C'!B153<>\"\",HYPERLINK($I$9&I145,Sprache!$E$26&\" \"&blattname_formular_c&\", \"&B145),\"\")","v":""},null,{"$f":"I144+1","v":153}]
[" \n \n \n \n \n",{"$f":"IF('Formular C'!$B154<>\"\",'Formular C'!B154,\"\")","v":""},{"$f":"IF('Formular C'!$B154<>\"\",'Formular C'!C154,\"\")","v":""},"",null,null,{"$f":"IF('Formular C'!B154<>\"\",HYPERLINK($I$9&I146,Sprache!$E$26&\" \"&blattname_formular_c&\", \"&B146),\"\")","v":""},null,154]
[" \n \n \n \n \n",{"$f":"IF('Formular C'!$B155<>\"\",'Formular C'!B155,\"\")","v":""},{"$f":"IF('Formular C'!$B155<>\"\",'Formular C'!C155,\"\")","v":""},"",null,null,{"$f":"IF('Formular C'!B155<>\"\",HYPERLINK($I$9&I147,Sprache!$E$26&\" \"&blattname_formular_c&\", \"&B147),\"\")","v":""},null,155]
[" \n \n \n \n \n",{"$f":"IF('Formular C'!$B156<>\"\",'Formular C'!B156,\"\")","v":""},{"$f":"IF('Formular C'!$B156<>\"\",'Formular C'!C156,\"\")","v":""},"",null,null,{"$f":"IF('Formular C'!B156<>\"\",HYPERLINK($I$9&I148,Sprache!$E$26&\" \"&blattname_formular_c&\", \"&B148),\"\")","v":""},null,156]
[" \n \n \n \n \n",{"$f":"IF('Formular C'!$B157<>\"\",'Formular C'!B157,\"\")","v":""},{"$f":"IF('Formular C'!$B157<>\"\",'Formular C'!C157,\"\")","v":""},"",null,null,{"$f":"IF('Formular C'!B157<>\"\",HYPERLINK($I$9&I149,Sprache!$E$26&\" \"&blattname_formular_c&\", \"&B149),\"\")","v":""},null,157]
[" \n \n \n \n \n",{"$f":"IF('Formular C'!$B158<>\"\",'Formular C'!B158,\"\")","v":""},{"$f":"IF('Formular C'!$B158<>\"\",'Formular C'!C158,\"\")","v":""},"",null,null,{"$f":"IF('Formular C'!B158<>\"\",HYPERLINK($I$9&I150,Sprache!$E$26&\" \"&blattname_formular_c&\", \"&B150),\"\")","v":""},null,158]
[" \n \n \n \n \n",{"$f":"IF('Formular C'!$B159<>\"\",'Formular C'!B159,\"\")","v":""},{"$f":"IF('Formular C'!$B159<>\"\",'Formular C'!C159,\"\")","v":""},"",null,null,{"$f":"IF('Formular C'!B159<>\"\",HYPERLINK($I$9&I151,Sprache!$E$26&\" \"&blattname_formular_c&\", \"&B151),\"\")","v":""},null,159]
[" \n \n \n \n \n",{"$f":"IF('Formular C'!$B160<>\"\",'Formular C'!B160,\"\")","v":""},{"$f":"IF('Formular C'!$B160<>\"\",'Formular C'!C160,\"\")","v":""},"",null,null,{"$f":"IF('Formular C'!B160<>\"\",HYPERLINK($I$9&I152,Sprache!$E$26&\" \"&blattname_formular_c&\", \"&B152),\"\")","v":""},null,160]
[" \n \n \n \n \n",{"$f":"IF('Formular C'!$B161<>\"\",'Formular C'!B161,\"\")","v":""},{"$f":"IF('Formular C'!$B161<>\"\",'Formular C'!C161,\"\")","v":""},"",null,null,{"$f":"IF('Formular C'!B161<>\"\",HYPERLINK($I$9&I153,Sprache!$E$26&\" \"&blattname_formular_c&\", \"&B153),\"\")","v":""},null,161]
[" \n \n \n \n \n",{"$f":"IF('Formular C'!$B162<>\"\",'Formular C'!B162,\"\")","v":""},{"$f":"IF('Formular C'!$B162<>\"\",'Formular C'!C162,\"\")","v":""},"",null,null,{"$f":"IF('Formular C'!B162<>\"\",HYPERLINK($I$9&I154,Sprache!$E$26&\" \"&blattname_formular_c&\", \"&B154),\"\")","v":""},null,162]
[" \n \n \n \n \n",{"$f":"IF('Formular C'!$B163<>\"\",'Formular C'!B163,\"\")","v":""},{"$f":"IF('Formular C'!$B163<>\"\",'Formular C'!C163,\"\")","v":""},"",null,null,{"$f":"IF('Formular C'!B163<>\"\",HYPERLINK($I$9&I155,Sprache!$E$26&\" \"&blattname_formular_c&\", \"&B155),\"\")","v":""},null,163]
[" \n \n \n \n \n",{"$f":"IF('Formular C'!$B164<>\"\",'Formular C'!B164,\"\")","v":""},{"$f":"IF('Formular C'!$B164<>\"\",'Formular C'!C164,\"\")","v":""},"",null,null,{"$f":"IF('Formular C'!B164<>\"\",HYPERLINK($I$9&I156,Sprache!$E$26&\" \"&blattname_formular_c&\", \"&B156),\"\")","v":""},null,164]
[" \n \n \n \n \n",{"$f":"IF('Formular C'!$B165<>\"\",'Formular C'!B165,\"\")","v":""},{"$f":"IF('Formular C'!$B165<>\"\",'Formular C'!C165,\"\")","v":""},"",null,null,{"$f":"IF('Formular C'!B165<>\"\",HYPERLINK($I$9&I157,Sprache!$E$26&\" \"&blattname_formular_c&\", \"&B157),\"\")","v":""},null,165]
[" \n \n \n \n \n",{"$f":"IF('Formular C'!$B166<>\"\",'Formular C'!B166,\"\")","v":""},{"$f":"IF('Formular C'!$B166<>\"\",'Formular C'!C166,\"\")","v":""},"",null,null,{"$f":"IF('Formular C'!B166<>\"\",HYPERLINK($I$9&I158,Sprache!$E$26&\" \"&blattname_formular_c&\", \"&B158),\"\")","v":""},null,166]
[" \n \n \n \n \n",{"$f":"IF('Formular C'!$B167<>\"\",'Formular C'!B167,\"\")","v":""},{"$f":"IF('Formular C'!$B167<>\"\",'Formular C'!C167,\"\")","v":""},"",null,null,{"$f":"IF('Formular C'!B167<>\"\",HYPERLINK($I$9&I159,Sprache!$E$26&\" \"&blattname_formular_c&\", \"&B159),\"\")","v":""},null,167]
[" \n \n \n \n \n",{"$f":"IF('Formular C'!$B168<>\"\",'Formular C'!B168,\"\")","v":""},{"$f":"IF('Formular C'!$B168<>\"\",'Formular C'!C168,\"\")","v":""},"",null,null,{"$f":"IF('Formular C'!B168<>\"\",HYPERLINK($I$9&I160,Sprache!$E$26&\" \"&blattname_formular_c&\", \"&B160),\"\")","v":""},null,168]
[" \n \n \n \n \n",{"$f":"IF('Formular C'!$B169<>\"\",'Formular C'!B169,\"\")","v":""},{"$f":"IF('Formular C'!$B169<>\"\",'Formular C'!C169,\"\")","v":""},"",null,null,{"$f":"IF('Formular C'!B169<>\"\",HYPERLINK($I$9&I161,Sprache!$E$26&\" \"&blattname_formular_c&\", \"&B161),\"\")","v":""},null,169]
[" \n \n \n \n \n",{"$f":"IF('Formular C'!$B170<>\"\",'Formular C'!B170,\"\")","v":""},{"$f":"IF('Formular C'!$B170<>\"\",'Formular C'!C170,\"\")","v":""},"",null,null,{"$f":"IF('Formular C'!B170<>\"\",HYPERLINK($I$9&I162,Sprache!$E$26&\" \"&blattname_formular_c&\", \"&B162),\"\")","v":""},null,170]
[" \n \n \n \n \n",{"$f":"IF('Formular C'!$B171<>\"\",'Formular C'!B171,\"\")","v":""},{"$f":"IF('Formular C'!$B171<>\"\",'Formular C'!C171,\"\")","v":""},"",null,null,{"$f":"IF('Formular C'!B171<>\"\",HYPERLINK($I$9&I163,Sprache!$E$26&\" \"&blattname_formular_c&\", \"&B163),\"\")","v":""},null,171]
[" \n \n \n \n \n",{"$f":"IF('Formular C'!$B172<>\"\",'Formular C'!B172,\"\")","v":""},{"$f":"IF('Formular C'!$B172<>\"\",'Formular C'!C172,\"\")","v":""},"",null,null,{"$f":"IF('Formular C'!B172<>\"\",HYPERLINK($I$9&I164,Sprache!$E$26&\" \"&blattname_formular_c&\", \"&B164),\"\")","v":""},null,172]
[" \n \n \n \n \n",{"$f":"IF('Formular C'!$B173<>\"\",'Formular C'!B173,\"\")","v":""},{"$f":"IF('Formular C'!$B173<>\"\",'Formular C'!C173,\"\")","v":""},"",null,null,{"$f":"IF('Formular C'!B173<>\"\",HYPERLINK($I$9&I165,Sprache!$E$26&\" \"&blattname_formular_c&\", \"&B165),\"\")","v":""},null,173]
[" \n \n \n \n \n",{"$f":"IF('Formular C'!$B174<>\"\",'Formular C'!B174,\"\")","v":""},{"$f":"IF('Formular C'!$B174<>\"\",'Formular C'!C174,\"\")","v":""},"",null,null,{"$f":"IF('Formular C'!B174<>\"\",HYPERLINK($I$9&I166,Sprache!$E$26&\" \"&blattname_formular_c&\", \"&B166),\"\")","v":""},null,174]
[" \n \n \n \n \n",{"$f":"IF('Formular C'!$B175<>\"\",'Formular C'!B175,\"\")","v":""},{"$f":"IF('Formular C'!$B175<>\"\",'Formular C'!C175,\"\")","v":""},"",null,null,{"$f":"IF('Formular C'!B175<>\"\",HYPERLINK($I$9&I167,Sprache!$E$26&\" \"&blattname_formular_c&\", \"&B167),\"\")","v":""},null,175]
[" \n \n \n \n \n",{"$f":"IF('Formular C'!$B176<>\"\",'Formular C'!B176,\"\")","v":""},{"$f":"IF('Formular C'!$B176<>\"\",'Formular C'!C176,\"\")","v":""},"",null,null,{"$f":"IF('Formular C'!B176<>\"\",HYPERLINK($I$9&I168,Sprache!$E$26&\" \"&blattname_formular_c&\", \"&B168),\"\")","v":""},null,176]
[" \n \n \n \n \n",{"$f":"IF('Formular C'!$B177<>\"\",'Formular C'!B177,\"\")","v":""},{"$f":"IF('Formular C'!$B177<>\"\",'Formular C'!C177,\"\")","v":""},"",null,null,{"$f":"IF('Formular C'!B177<>\"\",HYPERLINK($I$9&I169,Sprache!$E$26&\" \"&blattname_formular_c&\", \"&B169),\"\")","v":""},null,177]
[" \n \n \n \n \n",{"$f":"IF('Formular C'!$B178<>\"\",'Formular C'!B178,\"\")","v":""},{"$f":"IF('Formular C'!$B178<>\"\",'Formular C'!C178,\"\")","v":""},"",null,null,{"$f":"IF('Formular C'!B178<>\"\",HYPERLINK($I$9&I170,Sprache!$E$26&\" \"&blattname_formular_c&\", \"&B170),\"\")","v":""},null,178]
[" \n \n \n \n \n",{"$f":"IF('Formular C'!$B179<>\"\",'Formular C'!B179,\"\")","v":""},{"$f":"IF('Formular C'!$B179<>\"\",'Formular C'!C179,\"\")","v":""},"",null,null,{"$f":"IF('Formular C'!B179<>\"\",HYPERLINK($I$9&I171,Sprache!$E$26&\" \"&blattname_formular_c&\", \"&B171),\"\")","v":""},null,179]
[" \n \n \n \n \n",{"$f":"IF('Formular C'!$B180<>\"\",'Formular C'!B180,\"\")","v":""},{"$f":"IF('Formular C'!$B180<>\"\",'Formular C'!C180,\"\")","v":""},"",null,null,{"$f":"IF('Formular C'!B180<>\"\",HYPERLINK($I$9&I172,Sprache!$E$26&\" \"&blattname_formular_c&\", \"&B172),\"\")","v":""},null,180]
[" \n \n \n \n \n",{"$f":"IF('Formular C'!$B181<>\"\",'Formular C'!B181,\"\")","v":""},{"$f":"IF('Formular C'!$B181<>\"\",'Formular C'!C181,\"\")","v":""},"",null,null,{"$f":"IF('Formular C'!B181<>\"\",HYPERLINK($I$9&I173,Sprache!$E$26&\" \"&blattname_formular_c&\", \"&B173),\"\")","v":""},null,181]
[" \n \n \n \n \n",{"$f":"IF('Formular C'!$B182<>\"\",'Formular C'!B182,\"\")","v":""},{"$f":"IF('Formular C'!$B182<>\"\",'Formular C'!C182,\"\")","v":""},"",null,null,{"$f":"IF('Formular C'!B182<>\"\",HYPERLINK($I$9&I174,Sprache!$E$26&\" \"&blattname_formular_c&\", \"&B174),\"\")","v":""},null,182]
[" \n \n \n \n \n",{"$f":"IF('Formular C'!$B183<>\"\",'Formular C'!B183,\"\")","v":""},{"$f":"IF('Formular C'!$B183<>\"\",'Formular C'!C183,\"\")","v":""},"",null,null,{"$f":"IF('Formular C'!B183<>\"\",HYPERLINK($I$9&I175,Sprache!$E$26&\" \"&blattname_formular_c&\", \"&B175),\"\")","v":""},null,183]
[" \n \n \n \n \n",{"$f":"IF('Formular C'!$B184<>\"\",'Formular C'!B184,\"\")","v":""},{"$f":"IF('Formular C'!$B184<>\"\",'Formular C'!C184,\"\")","v":""},"",null,null,{"$f":"IF('Formular C'!B184<>\"\",HYPERLINK($I$9&I176,Sprache!$E$26&\" \"&blattname_formular_c&\", \"&B176),\"\")","v":""},null,184]
[" \n \n \n \n \n",{"$f":"IF('Formular C'!$B185<>\"\",'Formular C'!B185,\"\")","v":""},{"$f":"IF('Formular C'!$B185<>\"\",'Formular C'!C185,\"\")","v":""},"",null,null,{"$f":"IF('Formular C'!B185<>\"\",HYPERLINK($I$9&I177,Sprache!$E$26&\" \"&blattname_formular_c&\", \"&B177),\"\")","v":""},null,185]
[" \n \n \n \n \n",{"$f":"IF('Formular C'!$B186<>\"\",'Formular C'!B186,\"\")","v":""},{"$f":"IF('Formular C'!$B186<>\"\",'Formular C'!C186,\"\")","v":""},"",null,null,{"$f":"IF('Formular C'!B186<>\"\",HYPERLINK($I$9&I178,Sprache!$E$26&\" \"&blattname_formular_c&\", \"&B178),\"\")","v":""},null,186]
[" \n \n \n \n \n",{"$f":"IF('Formular C'!$B187<>\"\",'Formular C'!B187,\"\")","v":""},{"$f":"IF('Formular C'!$B187<>\"\",'Formular C'!C187,\"\")","v":""},"",null,null,{"$f":"IF('Formular C'!B187<>\"\",HYPERLINK($I$9&I179,Sprache!$E$26&\" \"&blattname_formular_c&\", \"&B179),\"\")","v":""},null,187]
[" \n \n \n \n \n",{"$f":"IF('Formular C'!$B188<>\"\",'Formular C'!B188,\"\")","v":""},{"$f":"IF('Formular C'!$B188<>\"\",'Formular C'!C188,\"\")","v":""},"",null,null,{"$f":"IF('Formular C'!B188<>\"\",HYPERLINK($I$9&I180,Sprache!$E$26&\" \"&blattname_formular_c&\", \"&B180),\"\")","v":""},null,188]
[" \n \n \n \n \n",{"$f":"IF('Formular C'!$B189<>\"\",'Formular C'!B189,\"\")","v":""},{"$f":"IF('Formular C'!$B189<>\"\",'Formular C'!C189,\"\")","v":""},"",null,null,{"$f":"IF('Formular C'!B189<>\"\",HYPERLINK($I$9&I181,Sprache!$E$26&\" \"&blattname_formular_c&\", \"&B181),\"\")","v":""},null,189]
[" \n \n \n \n \n",{"$f":"IF('Formular C'!$B190<>\"\",'Formular C'!B190,\"\")","v":""},{"$f":"IF('Formular C'!$B190<>\"\",'Formular C'!C190,\"\")","v":""},"",null,null,{"$f":"IF('Formular C'!B190<>\"\",HYPERLINK($I$9&I182,Sprache!$E$26&\" \"&blattname_formular_c&\", \"&B182),\"\")","v":""},null,190]
[" \n \n \n \n \n",{"$f":"IF('Formular C'!$B191<>\"\",'Formular C'!B191,\"\")","v":""},{"$f":"IF('Formular C'!$B191<>\"\",'Formular C'!C191,\"\")","v":""},"",null,null,{"$f":"IF('Formular C'!B191<>\"\",HYPERLINK($I$9&I183,Sprache!$E$26&\" \"&blattname_formular_c&\", \"&B183),\"\")","v":""},null,191]
[" \n \n \n \n \n",{"$f":"IF('Formular C'!$B192<>\"\",'Formular C'!B192,\"\")","v":""},{"$f":"IF('Formular C'!$B192<>\"\",'Formular C'!C192,\"\")","v":""},"",null,null,{"$f":"IF('Formular C'!B192<>\"\",HYPERLINK($I$9&I184,Sprache!$E$26&\" \"&blattname_formular_c&\", \"&B184),\"\")","v":""},null,192]
[" \n \n \n \n \n",{"$f":"IF('Formular C'!$B193<>\"\",'Formular C'!B193,\"\")","v":""},{"$f":"IF('Formular C'!$B193<>\"\",'Formular C'!C193,\"\")","v":""},"",null,null,{"$f":"IF('Formular C'!B193<>\"\",HYPERLINK($I$9&I185,Sprache!$E$26&\" \"&blattname_formular_c&\", \"&B185),\"\")","v":""},null,193]
[" \n \n \n \n \n",{"$f":"IF('Formular C'!$B194<>\"\",'Formular C'!B194,\"\")","v":""},{"$f":"IF('Formular C'!$B194<>\"\",'Formular C'!C194,\"\")","v":""},"",null,null,{"$f":"IF('Formular C'!B194<>\"\",HYPERLINK($I$9&I186,Sprache!$E$26&\" \"&blattname_formular_c&\", \"&B186),\"\")","v":""},null,194]
[" \n \n \n \n \n",{"$f":"IF('Formular C'!$B195<>\"\",'Formular C'!B195,\"\")","v":""},{"$f":"IF('Formular C'!$B195<>\"\",'Formular C'!C195,\"\")","v":""},"",null,null,{"$f":"IF('Formular C'!B195<>\"\",HYPERLINK($I$9&I187,Sprache!$E$26&\" \"&blattname_formular_c&\", \"&B187),\"\")","v":""},null,195]
[" \n \n \n \n \n",{"$f":"IF('Formular C'!$B196<>\"\",'Formular C'!B196,\"\")","v":""},{"$f":"IF('Formular C'!$B196<>\"\",'Formular C'!C196,\"\")","v":""},"",null,null,{"$f":"IF('Formular C'!B196<>\"\",HYPERLINK($I$9&I188,Sprache!$E$26&\" \"&blattname_formular_c&\", \"&B188),\"\")","v":""},null,196]
[" \n \n \n \n \n",{"$f":"IF('Formular C'!$B197<>\"\",'Formular C'!B197,\"\")","v":""},{"$f":"IF('Formular C'!$B197<>\"\",'Formular C'!C197,\"\")","v":""},"",null,null,{"$f":"IF('Formular C'!B197<>\"\",HYPERLINK($I$9&I189,Sprache!$E$26&\" \"&blattname_formular_c&\", \"&B189),\"\")","v":""},null,197]
[" \n \n \n \n \n",{"$f":"IF('Formular C'!$B198<>\"\",'Formular C'!B198,\"\")","v":""},{"$f":"IF('Formular C'!$B198<>\"\",'Formular C'!C198,\"\")","v":""},"",null,null,{"$f":"IF('Formular C'!B198<>\"\",HYPERLINK($I$9&I190,Sprache!$E$26&\" \"&blattname_formular_c&\", \"&B190),\"\")","v":""},null,198]
[" \n \n \n \n \n",{"$f":"IF('Formular C'!$B199<>\"\",'Formular C'!B199,\"\")","v":""},{"$f":"IF('Formular C'!$B199<>\"\",'Formular C'!C199,\"\")","v":""},"",null,null,{"$f":"IF('Formular C'!B199<>\"\",HYPERLINK($I$9&I191,Sprache!$E$26&\" \"&blattname_formular_c&\", \"&B191),\"\")","v":""},null,199]
[" \n \n \n \n \n",{"$f":"IF('Formular C'!$B200<>\"\",'Formular C'!B200,\"\")","v":""},{"$f":"IF('Formular C'!$B200<>\"\",'Formular C'!C200,\"\")","v":""},"",null,null,{"$f":"IF('Formular C'!B200<>\"\",HYPERLINK($I$9&I192,Sprache!$E$26&\" \"&blattname_formular_c&\", \"&B192),\"\")","v":""},null,200]
[" \n \n \n \n \n",{"$f":"IF('Formular C'!$B201<>\"\",'Formular C'!B201,\"\")","v":""},{"$f":"IF('Formular C'!$B201<>\"\",'Formular C'!C201,\"\")","v":""},"",null,null,{"$f":"IF('Formular C'!B201<>\"\",HYPERLINK($I$9&I193,Sprache!$E$26&\" \"&blattname_formular_c&\", \"&B193),\"\")","v":""},null,201]
[" \n \n \n \n \n",{"$f":"IF('Formular C'!$B202<>\"\",'Formular C'!B202,\"\")","v":""},{"$f":"IF('Formular C'!$B202<>\"\",'Formular C'!C202,\"\")","v":""},"",null,null,{"$f":"IF('Formular C'!B202<>\"\",HYPERLINK($I$9&I194,Sprache!$E$26&\" \"&blattname_formular_c&\", \"&B194),\"\")","v":""},null,202]
[" \n \n \n \n \n",{"$f":"IF('Formular C'!$B203<>\"\",'Formular C'!B203,\"\")","v":""},{"$f":"IF('Formular C'!$B203<>\"\",'Formular C'!C203,\"\")","v":""},"",null,null,{"$f":"IF('Formular C'!B203<>\"\",HYPERLINK($I$9&I195,Sprache!$E$26&\" \"&blattname_formular_c&\", \"&B195),\"\")","v":""},null,203]
[" \n \n \n \n \n",{"$f":"IF('Formular C'!$B204<>\"\",'Formular C'!B204,\"\")","v":""},{"$f":"IF('Formular C'!$B204<>\"\",'Formular C'!C204,\"\")","v":""},"",null,null,{"$f":"IF('Formular C'!B204<>\"\",HYPERLINK($I$9&I196,Sprache!$E$26&\" \"&blattname_formular_c&\", \"&B196),\"\")","v":""},null,204]
[" \n \n \n \n \n",{"$f":"IF('Formular C'!$B205<>\"\",'Formular C'!B205,\"\")","v":""},{"$f":"IF('Formular C'!$B205<>\"\",'Formular C'!C205,\"\")","v":""},"",null,null,{"$f":"IF('Formular C'!B205<>\"\",HYPERLINK($I$9&I197,Sprache!$E$26&\" \"&blattname_formular_c&\", \"&B197),\"\")","v":""},null,205]
[" \n \n \n \n \n",{"$f":"IF('Formular C'!$B206<>\"\",'Formular C'!B206,\"\")","v":""},{"$f":"IF('Formular C'!$B206<>\"\",'Formular C'!C206,\"\")","v":""},"",null,null,{"$f":"IF('Formular C'!B206<>\"\",HYPERLINK($I$9&I198,Sprache!$E$26&\" \"&blattname_formular_c&\", \"&B198),\"\")","v":""},null,206]
[" \n \n \n \n \n",{"$f":"IF('Formular C'!$B207<>\"\",'Formular C'!B207,\"\")","v":""},{"$f":"IF('Formular C'!$B207<>\"\",'Formular C'!C207,\"\")","v":""},"",null,null,{"$f":"IF('Formular C'!B207<>\"\",HYPERLINK($I$9&I199,Sprache!$E$26&\" \"&blattname_formular_c&\", \"&B199),\"\")","v":""},null,207]
[" \n \n \n \n \n",{"$f":"IF('Formular C'!$B208<>\"\",'Formular C'!B208,\"\")","v":""},{"$f":"IF('Formular C'!$B208<>\"\",'Formular C'!C208,\"\")","v":""},"",null,null,{"$f":"IF('Formular C'!B208<>\"\",HYPERLINK($I$9&I200,Sprache!$E$26&\" \"&blattname_formular_c&\", \"&B200),\"\")","v":""},null,208]
[" \n \n \n \n \n",{"$f":"IF('Formular C'!$B209<>\"\",'Formular C'!B209,\"\")","v":""},{"$f":"IF('Formular C'!$B209<>\"\",'Formular C'!C209,\"\")","v":""},"",null,null,{"$f":"IF('Formular C'!B209<>\"\",HYPERLINK($I$9&I201,Sprache!$E$26&\" \"&blattname_formular_c&\", \"&B201),\"\")","v":""},null,209]
[" \n \n \n \n \n",{"$f":"IF('Formular C'!$B210<>\"\",'Formular C'!B210,\"\")","v":""},{"$f":"IF('Formular C'!$B210<>\"\",'Formular C'!C210,\"\")","v":""},"",null,null,{"$f":"IF('Formular C'!B210<>\"\",HYPERLINK($I$9&I202,Sprache!$E$26&\" \"&blattname_formular_c&\", \"&B202),\"\")","v":""},null,210]
[" \n \n \n \n \n",{"$f":"IF('Formular C'!$B211<>\"\",'Formular C'!B211,\"\")","v":""},{"$f":"IF('Formular C'!$B211<>\"\",'Formular C'!C211,\"\")","v":""},"",null,null,{"$f":"IF('Formular C'!B211<>\"\",HYPERLINK($I$9&I203,Sprache!$E$26&\" \"&blattname_formular_c&\", \"&B203),\"\")","v":""},null,211]
[" \n \n \n \n \n",{"$f":"IF('Formular C'!$B212<>\"\",'Formular C'!B212,\"\")","v":""},{"$f":"IF('Formular C'!$B212<>\"\",'Formular C'!C212,\"\")","v":""},"",null,null,{"$f":"IF('Formular C'!B212<>\"\",HYPERLINK($I$9&I204,Sprache!$E$26&\" \"&blattname_formular_c&\", \"&B204),\"\")","v":""},null,212]
[" \n \n \n \n \n",{"$f":"IF('Formular C'!$B213<>\"\",'Formular C'!B213,\"\")","v":""},{"$f":"IF('Formular C'!$B213<>\"\",'Formular C'!C213,\"\")","v":""},"",null,null,{"$f":"IF('Formular C'!B213<>\"\",HYPERLINK($I$9&I205,Sprache!$E$26&\" \"&blattname_formular_c&\", \"&B205),\"\")","v":""},null,213]
[" \n \n \n \n \n",{"$f":"IF('Formular C'!$B214<>\"\",'Formular C'!B214,\"\")","v":""},{"$f":"IF('Formular C'!$B214<>\"\",'Formular C'!C214,\"\")","v":""},"",null,null,{"$f":"IF('Formular C'!B214<>\"\",HYPERLINK($I$9&I206,Sprache!$E$26&\" \"&blattname_formular_c&\", \"&B206),\"\")","v":""},null,214]
[" \n \n \n \n \n",{"$f":"IF('Formular C'!$B215<>\"\",'Formular C'!B215,\"\")","v":""},{"$f":"IF('Formular C'!$B215<>\"\",'Formular C'!C215,\"\")","v":""},"",null,null,{"$f":"IF('Formular C'!B215<>\"\",HYPERLINK($I$9&I207,Sprache!$E$26&\" \"&blattname_formular_c&\", \"&B207),\"\")","v":""},null,215]
[" \n \n \n \n \n",{"$f":"IF('Formular C'!$B216<>\"\",'Formular C'!B216,\"\")","v":""},{"$f":"IF('Formular C'!$B216<>\"\",'Formular C'!C216,\"\")","v":""},"",null,null,{"$f":"IF('Formular C'!B216<>\"\",HYPERLINK($I$9&I208,Sprache!$E$26&\" \"&blattname_formular_c&\", \"&B208),\"\")","v":""},null,216]
[" \n \n \n \n \n",{"$f":"IF('Formular C'!$B217<>\"\",'Formular C'!B217,\"\")","v":""},{"$f":"IF('Formular C'!$B217<>\"\",'Formular C'!C217,\"\")","v":""},"",null,null,{"$f":"IF('Formular C'!B217<>\"\",HYPERLINK($I$9&I209,Sprache!$E$26&\" \"&blattname_formular_c&\", \"&B209),\"\")","v":""},null,{"$f":"I208+1","v":217}]
[" \n \n \n \n \n",{"$f":"IF('Formular C'!$B218<>\"\",'Formular C'!B218,\"\")","v":""},{"$f":"IF('Formular C'!$B218<>\"\",'Formular C'!C218,\"\")","v":""},"",null,null,{"$f":"IF('Formular C'!B218<>\"\",HYPERLINK($I$9&I210,Sprache!$E$26&\" \"&blattname_formular_c&\", \"&B210),\"\")","v":""},null,218]
[" \n \n \n \n \n",{"$f":"IF('Formular C'!$B219<>\"\",'Formular C'!B219,\"\")","v":""},{"$f":"IF('Formular C'!$B219<>\"\",'Formular C'!C219,\"\")","v":""},"",null,null,{"$f":"IF('Formular C'!B219<>\"\",HYPERLINK($I$9&I211,Sprache!$E$26&\" \"&blattname_formular_c&\", \"&B211),\"\")","v":""},null,219]
[" \n \n \n \n \n",{"$f":"IF('Formular C'!$B220<>\"\",'Formular C'!B220,\"\")","v":""},{"$f":"IF('Formular C'!$B220<>\"\",'Formular C'!C220,\"\")","v":""},"",null,null,{"$f":"IF('Formular C'!B220<>\"\",HYPERLINK($I$9&I212,Sprache!$E$26&\" \"&blattname_formular_c&\", \"&B212),\"\")","v":""},null,220]
[" \n \n \n \n \n",{"$f":"IF('Formular C'!$B221<>\"\",'Formular C'!B221,\"\")","v":""},{"$f":"IF('Formular C'!$B221<>\"\",'Formular C'!C221,\"\")","v":""},"",null,null,{"$f":"IF('Formular C'!B221<>\"\",HYPERLINK($I$9&I213,Sprache!$E$26&\" \"&blattname_formular_c&\", \"&B213),\"\")","v":""},null,221]
[" \n \n \n \n \n",{"$f":"IF('Formular C'!$B222<>\"\",'Formular C'!B222,\"\")","v":""},{"$f":"IF('Formular C'!$B222<>\"\",'Formular C'!C222,\"\")","v":""},"",null,null,{"$f":"IF('Formular C'!B222<>\"\",HYPERLINK($I$9&I214,Sprache!$E$26&\" \"&blattname_formular_c&\", \"&B214),\"\")","v":""},null,222]
[" \n \n \n \n \n",{"$f":"IF('Formular C'!$B223<>\"\",'Formular C'!B223,\"\")","v":""},{"$f":"IF('Formular C'!$B223<>\"\",'Formular C'!C223,\"\")","v":""},"",null,null,{"$f":"IF('Formular C'!B223<>\"\",HYPERLINK($I$9&I215,Sprache!$E$26&\" \"&blattname_formular_c&\", \"&B215),\"\")","v":""},null,223]
[" \n \n \n \n \n",{"$f":"IF('Formular C'!$B224<>\"\",'Formular C'!B224,\"\")","v":""},{"$f":"IF('Formular C'!$B224<>\"\",'Formular C'!C224,\"\")","v":""},"",null,null,{"$f":"IF('Formular C'!B224<>\"\",HYPERLINK($I$9&I216,Sprache!$E$26&\" \"&blattname_formular_c&\", \"&B216),\"\")","v":""},null,224]
[" \n \n \n \n \n",{"$f":"IF('Formular C'!$B225<>\"\",'Formular C'!B225,\"\")","v":""},{"$f":"IF('Formular C'!$B225<>\"\",'Formular C'!C225,\"\")","v":""},"",null,null,{"$f":"IF('Formular C'!B225<>\"\",HYPERLINK($I$9&I217,Sprache!$E$26&\" \"&blattname_formular_c&\", \"&B217),\"\")","v":""},null,225]
[" \n \n \n \n \n",null,null,null,null,null,null,null,226]
[" \n \n \n \n \n",null,null,null,null,null,null,null,227]
[" \n \n \n \n \n",null,null,null,null,null,null,null,228]
[" \n \n \n \n \n",null,null,null,null,null,null,null,229]
[" \n \n \n \n \n",null,null,null,null,null,null,null,230]
[" \n \n \n \n \n",null,null,null,null,null,null,null,231]
[" \n \n \n \n \n",null,null,null,null,null,null,null,232]
[" \n \n \n \n \n",null,null,null,null,null,null,null,233]
[" \n \n \n \n \n",null,null,null,null,null,null,null,234]
[" \n \n \n \n \n",null,null,null,null,null,null,null,235]
[" \n \n \n \n \n",null,null,null,null,null,null,null,236]
[" \n \n \n \n \n",null,null,null,null,null,null,null,237]
[" \n \n \n \n \n",null,null,null,null,null,null,null,238]
[" \n \n \n \n \n",null,null,null,null,null,null,null,239]
[" \n \n \n \n \n",null,null,null,null,null,null,null,240]
[" \n \n \n \n \n",null,null,null,null,null,null,null,241]
[" \n \n \n \n \n",null,null,null,null,null,null,null,242]
[" \n \n \n \n \n",null,null,null,null,null,null,null,243]
[" \n \n \n \n \n",null,null,null,null,null,null,null,244]
[" \n \n \n \n \n",null,null,null,null,null,null,null,245]
[" \n \n \n \n \n",null,null,null,null,null,null,null,246]
[" \n \n \n \n \n",null,null,null,null,null,null,null,247]
[" \n \n \n \n \n",null,null,null,null,null,null,null,248]
[" \n \n \n \n \n",{"$f":"IF('Formular C'!$B252<>\"\",'Formular C'!B252,\"\")","v":""},{"$f":"IF('Formular C'!$B252<>\"\",'Formular C'!C252,\"\")","v":""},"",null,null,{"$f":"IF('Formular C'!B252<>\"\",HYPERLINK($I$9&I241,Sprache!$E$26&\" \"&blattname_formular_c&\", \"&B241),\"\")","v":""},null,250]
[" \n \n \n \n \n",{"$f":"IF('Formular C'!$B253<>\"\",'Formular C'!B253,\"\")","v":""},{"$f":"IF('Formular C'!$B253<>\"\",'Formular C'!C253,\"\")","v":""},"",null,null,{"$f":"IF('Formular C'!B253<>\"\",HYPERLINK($I$9&I242,Sprache!$E$26&\" \"&blattname_formular_c&\", \"&B242),\"\")","v":""},null,251]
[" \n \n \n \n \n",{"$f":"IF('Formular C'!$B254<>\"\",'Formular C'!B254,\"\")","v":""},{"$f":"IF('Formular C'!$B254<>\"\",'Formular C'!C254,\"\")","v":""},"",null,null,{"$f":"IF('Formular C'!B254<>\"\",HYPERLINK($I$9&I243,Sprache!$E$26&\" \"&blattname_formular_c&\", \"&B243),\"\")","v":""},null,252]
[" \n \n \n \n \n",{"$f":"IF('Formular C'!$B255<>\"\",'Formular C'!B255,\"\")","v":""},{"$f":"IF('Formular C'!$B255<>\"\",'Formular C'!C255,\"\")","v":""},"",null,null,{"$f":"IF('Formular C'!B255<>\"\",HYPERLINK($I$9&I244,Sprache!$E$26&\" \"&blattname_formular_c&\", \"&B244),\"\")","v":""},null,253]
[" \n \n \n \n \n",{"$f":"IF('Formular C'!$B256<>\"\",'Formular C'!B256,\"\")","v":""},{"$f":"IF('Formular C'!$B256<>\"\",'Formular C'!C256,\"\")","v":""},"",null,null,{"$f":"IF('Formular C'!B256<>\"\",HYPERLINK($I$9&I245,Sprache!$E$26&\" \"&blattname_formular_c&\", \"&B245),\"\")","v":""},null,254]
[" \n \n \n \n \n",{"$f":"IF('Formular C'!$B257<>\"\",'Formular C'!B257,\"\")","v":""},{"$f":"IF('Formular C'!$B257<>\"\",'Formular C'!C257,\"\")","v":""},"",null,null,{"$f":"IF('Formular C'!B257<>\"\",HYPERLINK($I$9&I246,Sprache!$E$26&\" \"&blattname_formular_c&\", \"&B246),\"\")","v":""},null,255]
[" \n \n \n \n \n",{"$f":"IF('Formular C'!$B258<>\"\",'Formular C'!B258,\"\")","v":""},{"$f":"IF('Formular C'!$B258<>\"\",'Formular C'!C258,\"\")","v":""},"",null,null,{"$f":"IF('Formular C'!B258<>\"\",HYPERLINK($I$9&I247,Sprache!$E$26&\" \"&blattname_formular_c&\", \"&B247),\"\")","v":""},null,256]
[" \n \n \n \n \n",{"$f":"IF('Formular C'!$B259<>\"\",'Formular C'!B259,\"\")","v":""},{"$f":"IF('Formular C'!$B259<>\"\",'Formular C'!C259,\"\")","v":""},"",null,null,{"$f":"IF('Formular C'!B259<>\"\",HYPERLINK($I$9&I248,Sprache!$E$26&\" \"&blattname_formular_c&\", \"&B248),\"\")","v":""},null,257]
[" \n \n \n \n \n",{"$f":"IF('Formular C'!$B260<>\"\",'Formular C'!B260,\"\")","v":""},{"$f":"IF('Formular C'!$B260<>\"\",'Formular C'!C260,\"\")","v":""},"",null,null,{"$f":"IF('Formular C'!B260<>\"\",HYPERLINK($I$9&I249,Sprache!$E$26&\" \"&blattname_formular_c&\", \"&B249),\"\")","v":""},null,258]
[" \n \n \n \n \n",{"$f":"IF('Formular C'!$B261<>\"\",'Formular C'!B261,\"\")","v":""},{"$f":"IF('Formular C'!$B261<>\"\",'Formular C'!C261,\"\")","v":""},"",null,null,{"$f":"IF('Formular C'!B261<>\"\",HYPERLINK($I$9&I250,Sprache!$E$26&\" \"&blattname_formular_c&\", \"&B250),\"\")","v":""},null,259]
[" \n \n \n \n \n",{"$f":"IF('Formular C'!$B262<>\"\",'Formular C'!B262,\"\")","v":""},{"$f":"IF('Formular C'!$B262<>\"\",'Formular C'!C262,\"\")","v":""},"",null,null,{"$f":"IF('Formular C'!B262<>\"\",HYPERLINK($I$9&I251,Sprache!$E$26&\" \"&blattname_formular_c&\", \"&B251),\"\")","v":""},null,260]
[" \n \n \n \n \n",{"$f":"IF('Formular C'!$B263<>\"\",'Formular C'!B263,\"\")","v":""},{"$f":"IF('Formular C'!$B263<>\"\",'Formular C'!C263,\"\")","v":""},"",null,null,{"$f":"IF('Formular C'!B263<>\"\",HYPERLINK($I$9&I252,Sprache!$E$26&\" \"&blattname_formular_c&\", \"&B252),\"\")","v":""},null,261]
[" \n \n \n \n \n",{"$f":"IF('Formular C'!$B264<>\"\",'Formular C'!B264,\"\")","v":""},{"$f":"IF('Formular C'!$B264<>\"\",'Formular C'!C264,\"\")","v":""},"",null,null,{"$f":"IF('Formular C'!B264<>\"\",HYPERLINK($I$9&I253,Sprache!$E$26&\" \"&blattname_formular_c&\", \"&B253),\"\")","v":""},null,262]
[" \n \n \n \n \n",{"$f":"IF('Formular C'!$B265<>\"\",'Formular C'!B265,\"\")","v":""},{"$f":"IF('Formular C'!$B265<>\"\",'Formular C'!C265,\"\")","v":""},"",null,null,{"$f":"IF('Formular C'!B265<>\"\",HYPERLINK($I$9&I254,Sprache!$E$26&\" \"&blattname_formular_c&\", \"&B254),\"\")","v":""},null,263]
[" \n \n \n \n \n",{"$f":"IF('Formular C'!$B266<>\"\",'Formular C'!B266,\"\")","v":""},{"$f":"IF('Formular C'!$B266<>\"\",'Formular C'!C266,\"\")","v":""},"",null,null,{"$f":"IF('Formular C'!B266<>\"\",HYPERLINK($I$9&I255,Sprache!$E$26&\" \"&blattname_formular_c&\", \"&B255),\"\")","v":""},null,264]
[" \n \n \n \n \n",{"$f":"IF('Formular C'!$B267<>\"\",'Formular C'!B267,\"\")","v":""},{"$f":"IF('Formular C'!$B267<>\"\",'Formular C'!C267,\"\")","v":""},"",null,null,{"$f":"IF('Formular C'!B267<>\"\",HYPERLINK($I$9&I256,Sprache!$E$26&\" \"&blattname_formular_c&\", \"&B256),\"\")","v":""},null,265]
[" \n \n \n \n \n",{"$f":"IF('Formular C'!$B268<>\"\",'Formular C'!B268,\"\")","v":""},{"$f":"IF('Formular C'!$B268<>\"\",'Formular C'!C268,\"\")","v":""},"",null,null,{"$f":"IF('Formular C'!B268<>\"\",HYPERLINK($I$9&I257,Sprache!$E$26&\" \"&blattname_formular_c&\", \"&B257),\"\")","v":""},null,266]
[" \n \n \n \n \n",{"$f":"IF('Formular C'!$B269<>\"\",'Formular C'!B269,\"\")","v":""},{"$f":"IF('Formular C'!$B269<>\"\",'Formular C'!C269,\"\")","v":""},"",null,null,{"$f":"IF('Formular C'!B269<>\"\",HYPERLINK($I$9&I258,Sprache!$E$26&\" \"&blattname_formular_c&\", \"&B258),\"\")","v":""},null,267]
[" \n \n \n \n \n",{"$f":"IF('Formular C'!$B270<>\"\",'Formular C'!B270,\"\")","v":""},{"$f":"IF('Formular C'!$B270<>\"\",'Formular C'!C270,\"\")","v":""},"",null,null,{"$f":"IF('Formular C'!B270<>\"\",HYPERLINK($I$9&I259,Sprache!$E$26&\" \"&blattname_formular_c&\", \"&B259),\"\")","v":""},null,268]
[" \n \n \n \n \n",{"$f":"IF('Formular C'!$B271<>\"\",'Formular C'!B271,\"\")","v":""},{"$f":"IF('Formular C'!$B271<>\"\",'Formular C'!C271,\"\")","v":""},"",null,null,{"$f":"IF('Formular C'!B271<>\"\",HYPERLINK($I$9&I260,Sprache!$E$26&\" \"&blattname_formular_c&\", \"&B260),\"\")","v":""},null,269]
[" \n \n \n \n \n",{"$f":"IF('Formular C'!$B272<>\"\",'Formular C'!B272,\"\")","v":""},{"$f":"IF('Formular C'!$B272<>\"\",'Formular C'!C272,\"\")","v":""},"",null,null,{"$f":"IF('Formular C'!B272<>\"\",HYPERLINK($I$9&I261,Sprache!$E$26&\" \"&blattname_formular_c&\", \"&B261),\"\")","v":""},null,270]
[" \n \n \n \n \n",{"$f":"IF('Formular C'!$B273<>\"\",'Formular C'!B273,\"\")","v":""},{"$f":"IF('Formular C'!$B273<>\"\",'Formular C'!C273,\"\")","v":""},"",null,null,{"$f":"IF('Formular C'!B273<>\"\",HYPERLINK($I$9&I262,Sprache!$E$26&\" \"&blattname_formular_c&\", \"&B262),\"\")","v":""},null,271]
[" \n \n \n \n \n",{"$f":"IF('Formular C'!$B274<>\"\",'Formular C'!B274,\"\")","v":""},{"$f":"IF('Formular C'!$B274<>\"\",'Formular C'!C274,\"\")","v":""},"",null,null,{"$f":"IF('Formular C'!B274<>\"\",HYPERLINK($I$9&I263,Sprache!$E$26&\" \"&blattname_formular_c&\", \"&B263),\"\")","v":""},null,272]
[" \n \n \n \n \n",{"$f":"IF('Formular C'!$B275<>\"\",'Formular C'!B275,\"\")","v":""},{"$f":"IF('Formular C'!$B275<>\"\",'Formular C'!C275,\"\")","v":""},"",null,null,{"$f":"IF('Formular C'!B275<>\"\",HYPERLINK($I$9&I264,Sprache!$E$26&\" \"&blattname_formular_c&\", \"&B264),\"\")","v":""},null,273]
[" \n \n \n \n \n",{"$f":"IF('Formular C'!$B276<>\"\",'Formular C'!B276,\"\")","v":""},{"$f":"IF('Formular C'!$B276<>\"\",'Formular C'!C276,\"\")","v":""},"",null,null,{"$f":"IF('Formular C'!B276<>\"\",HYPERLINK($I$9&I265,Sprache!$E$26&\" \"&blattname_formular_c&\", \"&B265),\"\")","v":""},null,274]
[" \n \n \n \n \n",{"$f":"IF('Formular C'!$B277<>\"\",'Formular C'!B277,\"\")","v":""},{"$f":"IF('Formular C'!$B277<>\"\",'Formular C'!C277,\"\")","v":""},"",null,null,{"$f":"IF('Formular C'!B277<>\"\",HYPERLINK($I$9&I266,Sprache!$E$26&\" \"&blattname_formular_c&\", \"&B266),\"\")","v":""},null,275]
[" \n \n \n \n \n",{"$f":"IF('Formular C'!$B278<>\"\",'Formular C'!B278,\"\")","v":""},{"$f":"IF('Formular C'!$B278<>\"\",'Formular C'!C278,\"\")","v":""},"",null,null,{"$f":"IF('Formular C'!B278<>\"\",HYPERLINK($I$9&I267,Sprache!$E$26&\" \"&blattname_formular_c&\", \"&B267),\"\")","v":""},null,276]
[" \n \n \n \n \n",{"$f":"IF('Formular C'!$B279<>\"\",'Formular C'!B279,\"\")","v":""},{"$f":"IF('Formular C'!$B279<>\"\",'Formular C'!C279,\"\")","v":""},"",null,null,{"$f":"IF('Formular C'!B279<>\"\",HYPERLINK($I$9&I268,Sprache!$E$26&\" \"&blattname_formular_c&\", \"&B268),\"\")","v":""},null,277]
[" \n \n \n \n \n",{"$f":"IF('Formular C'!$B280<>\"\",'Formular C'!B280,\"\")","v":""},{"$f":"IF('Formular C'!$B280<>\"\",'Formular C'!C280,\"\")","v":""},"",null,null,{"$f":"IF('Formular C'!B280<>\"\",HYPERLINK($I$9&I269,Sprache!$E$26&\" \"&blattname_formular_c&\", \"&B269),\"\")","v":""},null,278]
[" \n \n \n \n \n",{"$f":"IF('Formular C'!$B281<>\"\",'Formular C'!B281,\"\")","v":""},{"$f":"IF('Formular C'!$B281<>\"\",'Formular C'!C281,\"\")","v":""},"",null,null,{"$f":"IF('Formular C'!B281<>\"\",HYPERLINK($I$9&I270,Sprache!$E$26&\" \"&blattname_formular_c&\", \"&B270),\"\")","v":""},null,279]
[" \n \n \n \n \n",{"$f":"IF('Formular C'!$B282<>\"\",'Formular C'!B282,\"\")","v":""},{"$f":"IF('Formular C'!$B282<>\"\",'Formular C'!C282,\"\")","v":""},"",null,null,{"$f":"IF('Formular C'!B282<>\"\",HYPERLINK($I$9&I271,Sprache!$E$26&\" \"&blattname_formular_c&\", \"&B271),\"\")","v":""},null,280]
[" \n \n \n \n \n",{"$f":"IF('Formular C'!$B283<>\"\",'Formular C'!B283,\"\")","v":""},{"$f":"IF('Formular C'!$B283<>\"\",'Formular C'!C283,\"\")","v":""},"",null,null,{"$f":"IF('Formular C'!B283<>\"\",HYPERLINK($I$9&I272,Sprache!$E$26&\" \"&blattname_formular_c&\", \"&B272),\"\")","v":""},null,281]
[" \n \n \n \n \n",{"$f":"IF('Formular C'!$B284<>\"\",'Formular C'!B284,\"\")","v":""},{"$f":"IF('Formular C'!$B284<>\"\",'Formular C'!C284,\"\")","v":""},"",null,null,{"$f":"IF('Formular C'!B284<>\"\",HYPERLINK($I$9&I273,Sprache!$E$26&\" \"&blattname_formular_c&\", \"&B273),\"\")","v":""},null,{"$f":"I272+1","v":282}]
[" \n \n \n \n \n",{"$f":"IF('Formular C'!$B285<>\"\",'Formular C'!B285,\"\")","v":""},{"$f":"IF('Formular C'!$B285<>\"\",'Formular C'!C285,\"\")","v":""},"",null,null,{"$f":"IF('Formular C'!B285<>\"\",HYPERLINK($I$9&I274,Sprache!$E$26&\" \"&blattname_formular_c&\", \"&B274),\"\")","v":""},null,283]
[" \n \n \n \n \n",{"$f":"IF('Formular C'!$B286<>\"\",'Formular C'!B286,\"\")","v":""},{"$f":"IF('Formular C'!$B286<>\"\",'Formular C'!C286,\"\")","v":""},"",null,null,{"$f":"IF('Formular C'!B286<>\"\",HYPERLINK($I$9&I275,Sprache!$E$26&\" \"&blattname_formular_c&\", \"&B275),\"\")","v":""},null,284]
[" \n \n \n \n \n",{"$f":"IF('Formular C'!$B287<>\"\",'Formular C'!B287,\"\")","v":""},{"$f":"IF('Formular C'!$B287<>\"\",'Formular C'!C287,\"\")","v":""},"",null,null,{"$f":"IF('Formular C'!B287<>\"\",HYPERLINK($I$9&I276,Sprache!$E$26&\" \"&blattname_formular_c&\", \"&B276),\"\")","v":""},null,285]
[" \n \n \n \n \n",{"$f":"IF('Formular C'!$B288<>\"\",'Formular C'!B288,\"\")","v":""},{"$f":"IF('Formular C'!$B288<>\"\",'Formular C'!C288,\"\")","v":""},"",null,null,{"$f":"IF('Formular C'!B288<>\"\",HYPERLINK($I$9&I277,Sprache!$E$26&\" \"&blattname_formular_c&\", \"&B277),\"\")","v":""},null,286]
[" \n \n \n \n \n",{"$f":"IF('Formular C'!$B289<>\"\",'Formular C'!B289,\"\")","v":""},{"$f":"IF('Formular C'!$B289<>\"\",'Formular C'!C289,\"\")","v":""},"",null,null,{"$f":"IF('Formular C'!B289<>\"\",HYPERLINK($I$9&I278,Sprache!$E$26&\" \"&blattname_formular_c&\", \"&B278),\"\")","v":""},null,287]
[" \n \n \n \n \n",{"$f":"IF('Formular C'!$B290<>\"\",'Formular C'!B290,\"\")","v":""},{"$f":"IF('Formular C'!$B290<>\"\",'Formular C'!C290,\"\")","v":""},"",null,null,{"$f":"IF('Formular C'!B290<>\"\",HYPERLINK($I$9&I279,Sprache!$E$26&\" \"&blattname_formular_c&\", \"&B279),\"\")","v":""},null,288]
[" \n \n \n \n \n",{"$f":"IF('Formular C'!$B291<>\"\",'Formular C'!B291,\"\")","v":""},{"$f":"IF('Formular C'!$B291<>\"\",'Formular C'!C291,\"\")","v":""},"",null,null,{"$f":"IF('Formular C'!B291<>\"\",HYPERLINK($I$9&I280,Sprache!$E$26&\" \"&blattname_formular_c&\", \"&B280),\"\")","v":""},null,289]
[" \n \n \n \n \n",{"$f":"IF('Formular C'!$B292<>\"\",'Formular C'!B292,\"\")","v":""},{"$f":"IF('Formular C'!$B292<>\"\",'Formular C'!C292,\"\")","v":""},"",null,null,{"$f":"IF('Formular C'!B292<>\"\",HYPERLINK($I$9&I281,Sprache!$E$26&\" \"&blattname_formular_c&\", \"&B281),\"\")","v":""},null,290]
[" \n \n \n \n \n",{"$f":"IF('Formular C'!$B293<>\"\",'Formular C'!B293,\"\")","v":""},{"$f":"IF('Formular C'!$B293<>\"\",'Formular C'!C293,\"\")","v":""},"",null,null,{"$f":"IF('Formular C'!B293<>\"\",HYPERLINK($I$9&I282,Sprache!$E$26&\" \"&blattname_formular_c&\", \"&B282),\"\")","v":""},null,291]
[" \n \n \n \n \n",{"$f":"IF('Formular C'!$B294<>\"\",'Formular C'!B294,\"\")","v":""},{"$f":"IF('Formular C'!$B294<>\"\",'Formular C'!C294,\"\")","v":""},"",null,null,{"$f":"IF('Formular C'!B294<>\"\",HYPERLINK($I$9&I283,Sprache!$E$26&\" \"&blattname_formular_c&\", \"&B283),\"\")","v":""},null,292]
[" \n \n \n \n \n",{"$f":"IF('Formular C'!$B295<>\"\",'Formular C'!B295,\"\")","v":""},{"$f":"IF('Formular C'!$B295<>\"\",'Formular C'!C295,\"\")","v":""},"",null,null,{"$f":"IF('Formular C'!B295<>\"\",HYPERLINK($I$9&I284,Sprache!$E$26&\" \"&blattname_formular_c&\", \"&B284),\"\")","v":""},null,293]
[" \n \n \n \n \n",{"$f":"IF('Formular C'!$B296<>\"\",'Formular C'!B296,\"\")","v":""},{"$f":"IF('Formular C'!$B296<>\"\",'Formular C'!C296,\"\")","v":""},"",null,null,{"$f":"IF('Formular C'!B296<>\"\",HYPERLINK($I$9&I285,Sprache!$E$26&\" \"&blattname_formular_c&\", \"&B285),\"\")","v":""},null,294]
[" \n \n \n \n \n",{"$f":"IF('Formular C'!$B297<>\"\",'Formular C'!B297,\"\")","v":""},{"$f":"IF('Formular C'!$B297<>\"\",'Formular C'!C297,\"\")","v":""},"",null,null,{"$f":"IF('Formular C'!B297<>\"\",HYPERLINK($I$9&I286,Sprache!$E$26&\" \"&blattname_formular_c&\", \"&B286),\"\")","v":""},null,295]
[" \n \n \n \n \n",{"$f":"IF('Formular C'!$B298<>\"\",'Formular C'!B298,\"\")","v":""},{"$f":"IF('Formular C'!$B298<>\"\",'Formular C'!C298,\"\")","v":""},"",null,null,{"$f":"IF('Formular C'!B298<>\"\",HYPERLINK($I$9&I287,Sprache!$E$26&\" \"&blattname_formular_c&\", \"&B287),\"\")","v":""},null,296]
[" \n \n \n \n \n",{"$f":"IF('Formular C'!$B299<>\"\",'Formular C'!B299,\"\")","v":""},{"$f":"IF('Formular C'!$B299<>\"\",'Formular C'!C299,\"\")","v":""},"",null,null,{"$f":"IF('Formular C'!B299<>\"\",HYPERLINK($I$9&I288,Sprache!$E$26&\" \"&blattname_formular_c&\", \"&B288),\"\")","v":""},null,297]
[" \n \n \n \n \n",{"$f":"IF('Formular C'!$B300<>\"\",'Formular C'!B300,\"\")","v":""},{"$f":"IF('Formular C'!$B300<>\"\",'Formular C'!C300,\"\")","v":""},"",null,null,{"$f":"IF('Formular C'!B300<>\"\",HYPERLINK($I$9&I289,Sprache!$E$26&\" \"&blattname_formular_c&\", \"&B289),\"\")","v":""},null,298]
[" \n \n \n \n \n",{"$f":"IF('Formular C'!$B301<>\"\",'Formular C'!B301,\"\")","v":""},{"$f":"IF('Formular C'!$B301<>\"\",'Formular C'!C301,\"\")","v":""},"",null,null,{"$f":"IF('Formular C'!B301<>\"\",HYPERLINK($I$9&I290,Sprache!$E$26&\" \"&blattname_formular_c&\", \"&B290),\"\")","v":""},null,299]
[" \n \n \n \n \n",{"$f":"IF('Formular C'!$B302<>\"\",'Formular C'!B302,\"\")","v":""},{"$f":"IF('Formular C'!$B302<>\"\",'Formular C'!C302,\"\")","v":""},"",null,null,{"$f":"IF('Formular C'!B302<>\"\",HYPERLINK($I$9&I291,Sprache!$E$26&\" \"&blattname_formular_c&\", \"&B291),\"\")","v":""},null,300]
[" \n \n \n \n \n",{"$f":"IF('Formular C'!$B303<>\"\",'Formular C'!B303,\"\")","v":""},{"$f":"IF('Formular C'!$B303<>\"\",'Formular C'!C303,\"\")","v":""},"",null,null,{"$f":"IF('Formular C'!B303<>\"\",HYPERLINK($I$9&I292,Sprache!$E$26&\" \"&blattname_formular_c&\", \"&B292),\"\")","v":""},null,301]
[" \n \n \n \n \n",{"$f":"IF('Formular C'!$B304<>\"\",'Formular C'!B304,\"\")","v":""},{"$f":"IF('Formular C'!$B304<>\"\",'Formular C'!C304,\"\")","v":""},"",null,null,{"$f":"IF('Formular C'!B304<>\"\",HYPERLINK($I$9&I293,Sprache!$E$26&\" \"&blattname_formular_c&\", \"&B293),\"\")","v":""},null,302]
[" \n \n \n \n \n",{"$f":"IF('Formular C'!$B305<>\"\",'Formular C'!B305,\"\")","v":""},{"$f":"IF('Formular C'!$B305<>\"\",'Formular C'!C305,\"\")","v":""},"",null,null,{"$f":"IF('Formular C'!B305<>\"\",HYPERLINK($I$9&I294,Sprache!$E$26&\" \"&blattname_formular_c&\", \"&B294),\"\")","v":""},null,303]
[" \n \n \n \n \n",{"$f":"IF('Formular C'!$B306<>\"\",'Formular C'!B306,\"\")","v":""},{"$f":"IF('Formular C'!$B306<>\"\",'Formular C'!C306,\"\")","v":""},"",null,null,{"$f":"IF('Formular C'!B306<>\"\",HYPERLINK($I$9&I295,Sprache!$E$26&\" \"&blattname_formular_c&\", \"&B295),\"\")","v":""},null,304]
[" \n \n \n \n \n",{"$f":"IF('Formular C'!$B307<>\"\",'Formular C'!B307,\"\")","v":""},{"$f":"IF('Formular C'!$B307<>\"\",'Formular C'!C307,\"\")","v":""},"",null,null,{"$f":"IF('Formular C'!B307<>\"\",HYPERLINK($I$9&I296,Sprache!$E$26&\" \"&blattname_formular_c&\", \"&B296),\"\")","v":""},null,305]
[" \n \n \n \n \n",{"$f":"IF('Formular C'!$B308<>\"\",'Formular C'!B308,\"\")","v":""},{"$f":"IF('Formular C'!$B308<>\"\",'Formular C'!C308,\"\")","v":""},"",null,null,{"$f":"IF('Formular C'!B308<>\"\",HYPERLINK($I$9&I297,Sprache!$E$26&\" \"&blattname_formular_c&\", \"&B297),\"\")","v":""},null,306]
[" \n \n \n \n \n",{"$f":"IF('Formular C'!$B309<>\"\",'Formular C'!B309,\"\")","v":""},{"$f":"IF('Formular C'!$B309<>\"\",'Formular C'!C309,\"\")","v":""},"",null,null,{"$f":"IF('Formular C'!B309<>\"\",HYPERLINK($I$9&I298,Sprache!$E$26&\" \"&blattname_formular_c&\", \"&B298),\"\")","v":""},null,307]
[" \n \n \n \n \n",{"$f":"IF('Formular C'!$B310<>\"\",'Formular C'!B310,\"\")","v":""},{"$f":"IF('Formular C'!$B310<>\"\",'Formular C'!C310,\"\")","v":""},"",null,null,{"$f":"IF('Formular C'!B310<>\"\",HYPERLINK($I$9&I299,Sprache!$E$26&\" \"&blattname_formular_c&\", \"&B299),\"\")","v":""},null,308]
[" \n \n \n \n \n",{"$f":"IF('Formular C'!$B311<>\"\",'Formular C'!B311,\"\")","v":""},{"$f":"IF('Formular C'!$B311<>\"\",'Formular C'!C311,\"\")","v":""},"",null,null,{"$f":"IF('Formular C'!B311<>\"\",HYPERLINK($I$9&I300,Sprache!$E$26&\" \"&blattname_formular_c&\", \"&B300),\"\")","v":""},null,309]
[" \n \n \n \n \n",{"$f":"IF('Formular C'!$B312<>\"\",'Formular C'!B312,\"\")","v":""},{"$f":"IF('Formular C'!$B312<>\"\",'Formular C'!C312,\"\")","v":""},"",null,null,{"$f":"IF('Formular C'!B312<>\"\",HYPERLINK($I$9&I301,Sprache!$E$26&\" \"&blattname_formular_c&\", \"&B301),\"\")","v":""},null,310]
[" \n \n \n \n \n",{"$f":"IF('Formular C'!$B313<>\"\",'Formular C'!B313,\"\")","v":""},{"$f":"IF('Formular C'!$B313<>\"\",'Formular C'!C313,\"\")","v":""},"",null,null,{"$f":"IF('Formular C'!B313<>\"\",HYPERLINK($I$9&I302,Sprache!$E$26&\" \"&blattname_formular_c&\", \"&B302),\"\")","v":""},null,311]
[" \n \n \n \n \n",{"$f":"IF('Formular C'!$B314<>\"\",'Formular C'!B314,\"\")","v":""},{"$f":"IF('Formular C'!$B314<>\"\",'Formular C'!C314,\"\")","v":""},"",null,null,{"$f":"IF('Formular C'!B314<>\"\",HYPERLINK($I$9&I303,Sprache!$E$26&\" \"&blattname_formular_c&\", \"&B303),\"\")","v":""},null,312]
[" \n \n \n \n \n",{"$f":"IF('Formular C'!$B315<>\"\",'Formular C'!B315,\"\")","v":""},{"$f":"IF('Formular C'!$B315<>\"\",'Formular C'!C315,\"\")","v":""},"",null,null,{"$f":"IF('Formular C'!B315<>\"\",HYPERLINK($I$9&I304,Sprache!$E$26&\" \"&blattname_formular_c&\", \"&B304),\"\")","v":""},null,313]
[" \n \n \n \n \n",{"$f":"IF('Formular C'!$B316<>\"\",'Formular C'!B316,\"\")","v":""},{"$f":"IF('Formular C'!$B316<>\"\",'Formular C'!C316,\"\")","v":""},"",null,null,{"$f":"IF('Formular C'!B316<>\"\",HYPERLINK($I$9&I305,Sprache!$E$26&\" \"&blattname_formular_c&\", \"&B305),\"\")","v":""},null,314]
[" \n \n \n \n \n",{"$f":"IF('Formular C'!$B317<>\"\",'Formular C'!B317,\"\")","v":""},{"$f":"IF('Formular C'!$B317<>\"\",'Formular C'!C317,\"\")","v":""},"",null,null,{"$f":"IF('Formular C'!B317<>\"\",HYPERLINK($I$9&I306,Sprache!$E$26&\" \"&blattname_formular_c&\", \"&B306),\"\")","v":""},null,315]
[" \n \n \n \n \n",{"$f":"IF('Formular C'!$B318<>\"\",'Formular C'!B318,\"\")","v":""},{"$f":"IF('Formular C'!$B318<>\"\",'Formular C'!C318,\"\")","v":""},"",null,null,{"$f":"IF('Formular C'!B318<>\"\",HYPERLINK($I$9&I307,Sprache!$E$26&\" \"&blattname_formular_c&\", \"&B307),\"\")","v":""},null,316]
[" \n \n \n \n \n",{"$f":"IF('Formular C'!$B319<>\"\",'Formular C'!B319,\"\")","v":""},{"$f":"IF('Formular C'!$B319<>\"\",'Formular C'!C319,\"\")","v":""},"",null,null,{"$f":"IF('Formular C'!B319<>\"\",HYPERLINK($I$9&I308,Sprache!$E$26&\" \"&blattname_formular_c&\", \"&B308),\"\")","v":""},null,317]
[" \n \n \n \n \n",{"$f":"IF('Formular C'!$B320<>\"\",'Formular C'!B320,\"\")","v":""},{"$f":"IF('Formular C'!$B320<>\"\",'Formular C'!C320,\"\")","v":""},"",null,null,{"$f":"IF('Formular C'!B320<>\"\",HYPERLINK($I$9&I309,Sprache!$E$26&\" \"&blattname_formular_c&\", \"&B309),\"\")","v":""},null,318]
[" \n \n \n \n \n",{"$f":"IF('Formular C'!$B321<>\"\",'Formular C'!B321,\"\")","v":""},{"$f":"IF('Formular C'!$B321<>\"\",'Formular C'!C321,\"\")","v":""},"",null,null,{"$f":"IF('Formular C'!B321<>\"\",HYPERLINK($I$9&I310,Sprache!$E$26&\" \"&blattname_formular_c&\", \"&B310),\"\")","v":""},null,319]
[" \n \n \n \n \n",{"$f":"IF('Formular C'!$B322<>\"\",'Formular C'!B322,\"\")","v":""},{"$f":"IF('Formular C'!$B322<>\"\",'Formular C'!C322,\"\")","v":""},"",null,null,{"$f":"IF('Formular C'!B322<>\"\",HYPERLINK($I$9&I311,Sprache!$E$26&\" \"&blattname_formular_c&\", \"&B311),\"\")","v":""},null,320]
[" \n \n \n \n \n",{"$f":"IF('Formular C'!$B323<>\"\",'Formular C'!B323,\"\")","v":""},{"$f":"IF('Formular C'!$B323<>\"\",'Formular C'!C323,\"\")","v":""},"",null,null,{"$f":"IF('Formular C'!B323<>\"\",HYPERLINK($I$9&I312,Sprache!$E$26&\" \"&blattname_formular_c&\", \"&B312),\"\")","v":""},null,321]
[" \n \n \n \n \n",{"$f":"IF('Formular C'!$B324<>\"\",'Formular C'!B324,\"\")","v":""},{"$f":"IF('Formular C'!$B324<>\"\",'Formular C'!C324,\"\")","v":""},"",null,null,{"$f":"IF('Formular C'!B324<>\"\",HYPERLINK($I$9&I313,Sprache!$E$26&\" \"&blattname_formular_c&\", \"&B313),\"\")","v":""},null,322]
[" \n \n \n \n \n",{"$f":"IF('Formular C'!$B325<>\"\",'Formular C'!B325,\"\")","v":""},{"$f":"IF('Formular C'!$B325<>\"\",'Formular C'!C325,\"\")","v":""},"",null,null,{"$f":"IF('Formular C'!B325<>\"\",HYPERLINK($I$9&I314,Sprache!$E$26&\" \"&blattname_formular_c&\", \"&B314),\"\")","v":""},null,323]
[" \n \n \n \n \n",{"$f":"IF('Formular C'!$B326<>\"\",'Formular C'!B326,\"\")","v":""},{"$f":"IF('Formular C'!$B326<>\"\",'Formular C'!C326,\"\")","v":""},"",null,null,{"$f":"IF('Formular C'!B326<>\"\",HYPERLINK($I$9&I315,Sprache!$E$26&\" \"&blattname_formular_c&\", \"&B315),\"\")","v":""},null,324]
[" \n \n \n \n \n",{"$f":"IF('Formular C'!$B327<>\"\",'Formular C'!B327,\"\")","v":""},{"$f":"IF('Formular C'!$B327<>\"\",'Formular C'!C327,\"\")","v":""},"",null,null,{"$f":"IF('Formular C'!B327<>\"\",HYPERLINK($I$9&I316,Sprache!$E$26&\" \"&blattname_formular_c&\", \"&B316),\"\")","v":""},null,325]
[" \n \n \n \n \n",{"$f":"IF('Formular C'!$B328<>\"\",'Formular C'!B328,\"\")","v":""},{"$f":"IF('Formular C'!$B328<>\"\",'Formular C'!C328,\"\")","v":""},"",null,null,{"$f":"IF('Formular C'!B328<>\"\",HYPERLINK($I$9&I317,Sprache!$E$26&\" \"&blattname_formular_c&\", \"&B317),\"\")","v":""},null,326]
[" \n \n \n \n \n",{"$f":"IF('Formular C'!$B329<>\"\",'Formular C'!B329,\"\")","v":""},{"$f":"IF('Formular C'!$B329<>\"\",'Formular C'!C329,\"\")","v":""},"",null,null,{"$f":"IF('Formular C'!B329<>\"\",HYPERLINK($I$9&I318,Sprache!$E$26&\" \"&blattname_formular_c&\", \"&B318),\"\")","v":""},null,327]
[" \n \n \n \n \n",{"$f":"IF('Formular C'!$B330<>\"\",'Formular C'!B330,\"\")","v":""},{"$f":"IF('Formular C'!$B330<>\"\",'Formular C'!C330,\"\")","v":""},"",null,null,{"$f":"IF('Formular C'!B330<>\"\",HYPERLINK($I$9&I319,Sprache!$E$26&\" \"&blattname_formular_c&\", \"&B319),\"\")","v":""},null,328]
[" \n \n \n \n \n",{"$f":"IF('Formular C'!$B331<>\"\",'Formular C'!B331,\"\")","v":""},{"$f":"IF('Formular C'!$B331<>\"\",'Formular C'!C331,\"\")","v":""},"",null,null,{"$f":"IF('Formular C'!B331<>\"\",HYPERLINK($I$9&I320,Sprache!$E$26&\" \"&blattname_formular_c&\", \"&B320),\"\")","v":""},null,329]
[" \n \n \n \n \n",{"$f":"IF('Formular C'!$B332<>\"\",'Formular C'!B332,\"\")","v":""},{"$f":"IF('Formular C'!$B332<>\"\",'Formular C'!C332,\"\")","v":""},"",null,null,{"$f":"IF('Formular C'!B332<>\"\",HYPERLINK($I$9&I321,Sprache!$E$26&\" \"&blattname_formular_c&\", \"&B321),\"\")","v":""},null,330]
[" \n \n \n \n \n",{"$f":"IF('Formular C'!$B333<>\"\",'Formular C'!B333,\"\")","v":""},{"$f":"IF('Formular C'!$B333<>\"\",'Formular C'!C333,\"\")","v":""},"",null,null,{"$f":"IF('Formular C'!B333<>\"\",HYPERLINK($I$9&I322,Sprache!$E$26&\" \"&blattname_formular_c&\", \"&B322),\"\")","v":""},null,331]
[" \n \n \n \n \n",{"$f":"IF('Formular C'!$B334<>\"\",'Formular C'!B334,\"\")","v":""},{"$f":"IF('Formular C'!$B334<>\"\",'Formular C'!C334,\"\")","v":""},"",null,null,{"$f":"IF('Formular C'!B334<>\"\",HYPERLINK($I$9&I323,Sprache!$E$26&\" \"&blattname_formular_c&\", \"&B323),\"\")","v":""},null,332]
[" \n \n \n \n \n",{"$f":"IF('Formular C'!$B335<>\"\",'Formular C'!B335,\"\")","v":""},{"$f":"IF('Formular C'!$B335<>\"\",'Formular C'!C335,\"\")","v":""},"",null,null,{"$f":"IF('Formular C'!B335<>\"\",HYPERLINK($I$9&I324,Sprache!$E$26&\" \"&blattname_formular_c&\", \"&B324),\"\")","v":""},null,333]
[" \n \n \n \n \n",{"$f":"IF('Formular C'!$B336<>\"\",'Formular C'!B336,\"\")","v":""},{"$f":"IF('Formular C'!$B336<>\"\",'Formular C'!C336,\"\")","v":""},"",null,null,{"$f":"IF('Formular C'!B336<>\"\",HYPERLINK($I$9&I325,Sprache!$E$26&\" \"&blattname_formular_c&\", \"&B325),\"\")","v":""},null,334]
[" \n \n \n \n \n",{"$f":"IF('Formular C'!$B337<>\"\",'Formular C'!B337,\"\")","v":""},{"$f":"IF('Formular C'!$B337<>\"\",'Formular C'!C337,\"\")","v":""},"",null,null,{"$f":"IF('Formular C'!B337<>\"\",HYPERLINK($I$9&I326,Sprache!$E$26&\" \"&blattname_formular_c&\", \"&B326),\"\")","v":""},null,335]
[" \n \n \n \n \n",{"$f":"IF('Formular C'!$B338<>\"\",'Formular C'!B338,\"\")","v":""},{"$f":"IF('Formular C'!$B338<>\"\",'Formular C'!C338,\"\")","v":""},"",null,null,{"$f":"IF('Formular C'!B338<>\"\",HYPERLINK($I$9&I327,Sprache!$E$26&\" \"&blattname_formular_c&\", \"&B327),\"\")","v":""},null,336]
[" \n \n \n \n \n",{"$f":"IF('Formular C'!$B339<>\"\",'Formular C'!B339,\"\")","v":""},{"$f":"IF('Formular C'!$B339<>\"\",'Formular C'!C339,\"\")","v":""},"",null,null,{"$f":"IF('Formular C'!B339<>\"\",HYPERLINK($I$9&I328,Sprache!$E$26&\" \"&blattname_formular_c&\", \"&B328),\"\")","v":""},null,337]
[" \n \n \n \n \n",{"$f":"IF('Formular C'!$B340<>\"\",'Formular C'!B340,\"\")","v":""},{"$f":"IF('Formular C'!$B340<>\"\",'Formular C'!C340,\"\")","v":""},"",null,null,{"$f":"IF('Formular C'!B340<>\"\",HYPERLINK($I$9&I329,Sprache!$E$26&\" \"&blattname_formular_c&\", \"&B329),\"\")","v":""},null,338]
[" \n \n \n \n \n",{"$f":"IF('Formular C'!$B341<>\"\",'Formular C'!B341,\"\")","v":""},{"$f":"IF('Formular C'!$B341<>\"\",'Formular C'!C341,\"\")","v":""},"",null,null,{"$f":"IF('Formular C'!B341<>\"\",HYPERLINK($I$9&I330,Sprache!$E$26&\" \"&blattname_formular_c&\", \"&B330),\"\")","v":""},null,339]
[" \n \n \n \n \n",{"$f":"IF('Formular C'!$B342<>\"\",'Formular C'!B342,\"\")","v":""},{"$f":"IF('Formular C'!$B342<>\"\",'Formular C'!C342,\"\")","v":""},"",null,null,{"$f":"IF('Formular C'!B342<>\"\",HYPERLINK($I$9&I331,Sprache!$E$26&\" \"&blattname_formular_c&\", \"&B331),\"\")","v":""},null,340]
[" \n \n \n \n \n",{"$f":"IF('Formular C'!$B343<>\"\",'Formular C'!B343,\"\")","v":""},{"$f":"IF('Formular C'!$B343<>\"\",'Formular C'!C343,\"\")","v":""},"",null,null,{"$f":"IF('Formular C'!B343<>\"\",HYPERLINK($I$9&I332,Sprache!$E$26&\" \"&blattname_formular_c&\", \"&B332),\"\")","v":""},null,341]
[" \n \n \n \n \n",{"$f":"IF('Formular C'!$B344<>\"\",'Formular C'!B344,\"\")","v":""},{"$f":"IF('Formular C'!$B344<>\"\",'Formular C'!C344,\"\")","v":""},"",null,null,{"$f":"IF('Formular C'!B344<>\"\",HYPERLINK($I$9&I333,Sprache!$E$26&\" \"&blattname_formular_c&\", \"&B333),\"\")","v":""},null,342]
[" \n \n \n \n \n",{"$f":"IF('Formular C'!$B345<>\"\",'Formular C'!B345,\"\")","v":""},{"$f":"IF('Formular C'!$B345<>\"\",'Formular C'!C345,\"\")","v":""},"",null,null,{"$f":"IF('Formular C'!B345<>\"\",HYPERLINK($I$9&I334,Sprache!$E$26&\" \"&blattname_formular_c&\", \"&B334),\"\")","v":""},null,343]
[" \n \n \n \n \n",{"$f":"IF('Formular C'!$B346<>\"\",'Formular C'!B346,\"\")","v":""},{"$f":"IF('Formular C'!$B346<>\"\",'Formular C'!C346,\"\")","v":""},"",null,null,{"$f":"IF('Formular C'!B346<>\"\",HYPERLINK($I$9&I335,Sprache!$E$26&\" \"&blattname_formular_c&\", \"&B335),\"\")","v":""},null,344]
[" \n \n \n \n \n",{"$f":"IF('Formular C'!$B347<>\"\",'Formular C'!B347,\"\")","v":""},{"$f":"IF('Formular C'!$B347<>\"\",'Formular C'!C347,\"\")","v":""},"",null,null,{"$f":"IF('Formular C'!B347<>\"\",HYPERLINK($I$9&I336,Sprache!$E$26&\" \"&blattname_formular_c&\", \"&B336),\"\")","v":""},null,345]
[" \n \n \n \n \n",{"$f":"IF('Formular C'!$B348<>\"\",'Formular C'!B348,\"\")","v":""},{"$f":"IF('Formular C'!$B348<>\"\",'Formular C'!C348,\"\")","v":""},"",null,null,{"$f":"IF('Formular C'!B348<>\"\",HYPERLINK($I$9&I337,Sprache!$E$26&\" \"&blattname_formular_c&\", \"&B337),\"\")","v":""},null,{"$f":"I336+1","v":346}]
[" \n \n \n \n \n",{"$f":"IF('Formular C'!$B349<>\"\",'Formular C'!B349,\"\")","v":""},{"$f":"IF('Formular C'!$B349<>\"\",'Formular C'!C349,\"\")","v":""},"",null,null,{"$f":"IF('Formular C'!B349<>\"\",HYPERLINK($I$9&I338,Sprache!$E$26&\" \"&blattname_formular_c&\", \"&B338),\"\")","v":""},null,347]
[" \n \n \n \n \n",{"$f":"IF('Formular C'!$B350<>\"\",'Formular C'!B350,\"\")","v":""},{"$f":"IF('Formular C'!$B350<>\"\",'Formular C'!C350,\"\")","v":""},"",null,null,{"$f":"IF('Formular C'!B350<>\"\",HYPERLINK($I$9&I339,Sprache!$E$26&\" \"&blattname_formular_c&\", \"&B339),\"\")","v":""},null,348]
[" \n \n \n \n \n",{"$f":"IF('Formular C'!$B351<>\"\",'Formular C'!B351,\"\")","v":""},{"$f":"IF('Formular C'!$B351<>\"\",'Formular C'!C351,\"\")","v":""},"",null,null,{"$f":"IF('Formular C'!B351<>\"\",HYPERLINK($I$9&I340,Sprache!$E$26&\" \"&blattname_formular_c&\", \"&B340),\"\")","v":""},null,349]
[" \n \n \n \n \n",{"$f":"IF('Formular C'!$B352<>\"\",'Formular C'!B352,\"\")","v":""},{"$f":"IF('Formular C'!$B352<>\"\",'Formular C'!C352,\"\")","v":""},"",null,null,{"$f":"IF('Formular C'!B352<>\"\",HYPERLINK($I$9&I341,Sprache!$E$26&\" \"&blattname_formular_c&\", \"&B341),\"\")","v":""},null,350]

{"sheet":"Formular D","index":11,"n_rows":55,"n_cols":17,"rows_kept":55,"cut":false,"hidden":false,"merged":[[52,1,52,11],[55,1,55,11],[45,1,45,2],[46,1,46,2],[47,1,47,2],[48,1,48,2],[49,1,49,2],[15,10,15,11],[13,8,13,9],[14,8,14,9],[15,8,15,9],[32,4,33,4],[32,3,33,3],[16,10,16,11],[17,10,17,11],[18,10,18,11],[18,8,18,9],[17,8,17,9],[10,10,10,11],[11,10,11,11],[12,10,12,11],[13,10,13,11],[8,8,8,9],[8,10,8,11],[9,8,9,9],[10,8,10,9],[11,8,11,9],[12,8,12,9],[33,14,34,14],[33,15,34,15],[32,5,33,5],[32,6,33,6],[16,8,16,9],[7,6,7,11],[43,1,43,2],[44,1,44,2],[50,1,50,2],[38,1,38,2],[39,1,39,2],[40,1,40,2],[41,1,41,2],[42,1,42,2],[32,1,33,2],[34,1,34,2],[35,1,35,2],[36,1,36,2],[37,1,37,2],[14,10,14,11],[9,10,9,11]]}
[]
[null,{"$f":"Sprache!E207","v":"KZV, Formular D / Ziele"},null,null,null,null,null,null,null,null,null,{"$f":"IF(Titelblatt!$F$7=\"\",\"\",Titelblatt!$F$7)","v":""}]
[null,null,null,null,null,null,null,null,null,null,null,{"$f":"IF(Titelblatt!$F$32=\"\",\"\",Titelblatt!$F$32)","v":""}]
[]
[]
[null,{"$f":"Sprache!E208","v":"D.1  Zielsetzungen"}]
[]
[null,null,null,null,null,null,{"$f":"Sprache!E209","v":"ungewichtete Energieverbräuche, mit HGT-Korrektur"}]
[null,null,null,null,null,null,{"$f":"'Formular B'!C27","v":"Ausgangsjahr"},{"$f":"Sprache!E210","v":"Zieljahr unbeeinfl."},{"$f":"Sprache!E211","v":"neue Massnahmenwirkung"},null,{"$f":"Sprache!E212","v":"Zieljahr, mit neuer Massnahmenwirkung"}]
[null,null,null,null,null,null,{"$f":"AJ","v":0},{"$f":"IFERROR(G10+FB_DauerZV,\"\")","v":10},{"$f":"G10&\" - \"&H10","v":"0 - 10"},null,{"$f":"IFERROR(G10+FB_DauerZV,\"\")","v":10}]
[null,{"$f":"'Formular B'!B39","v":"Thermische Energie:"}]
[null,{"$f":"'Formular B'!B40","v":"Fossile Brennstoffe"},null,null,null,"[kWh/a]",{"$f":"'Formular B'!I40","v":""},{"$f":"'Formular B'!J40","v":""},{"$f":"'Formular C'!I355","v":0},null,{"$f":"IFERROR(H12-I12,\"\")","v":""}]
[null,{"$f":"'Formular B'!B41","v":"Fernwärme"},null,null,null,"[kWh/a]",{"$f":"'Formular B'!I41","v":""},{"$f":"'Formular B'!J41","v":""},{"$f":"'Formular C'!J355","v":0},null,{"$f":"IFERROR(H13-I13,\"\")","v":""}]
[null,{"$f":"'Formular B'!B42","v":"Holz, Biomasse usw."},null,null,null,"[kWh/a]",{"$f":"'Formular B'!I42","v":""},{"$f":"'Formular B'!J42","v":""},{"$f":"'Formular C'!K355","v":0},null,""]
[null,{"$f":"'Formular B'!B43","v":"Weitere Brennstoffe"},null,null,null,"[kWh/a]",{"$f":"'Formular B'!I43","v":""},{"$f":"'Formular B'!J43","v":""},{"$f":"'Formular C'!L355","v":0},null,""]
[null,{"$f":"'Formular B'!B44","v":"Thermische Energie Total"},null,null,null,"[kWh/a]",{"$f":"'Formular B'!I44","v":0},{"$f":"'Formular B'!J44","v":0},{"$f":"SUM(I12:J15)","v":0},null,{"$f":"IFERROR(H16-I16,\"\")","v":0}]
[null,{"$f":"'Formular B'!B45","v":"Elektrische Energie Total (Netzbezug)"},null,null,null,"[kWh/a]",{"$f":"'Formular B'!I45","v":""},{"$f":"'Formular B'!J45","v":""},{"$f":"'Formular C'!M355","v":0},null,{"$f":"IFERROR(H17-I17,\"\")","v":""}]
[]
[null,{"$f":"'Formular B'!B47","v":"Endenergieverbrauch pro Jahr"},null,null,null,"[kWh/a]",{"$f":"'Formular B'!I47","v":0},{"$f":"'Formular B'!J47","v":0},{"$f":"SUM(I16:J17)","v":0},null,{"$f":"IFERROR(H19-I19,\"\")","v":0}]
[]
[]
[null,{"$f":"Sprache!E214","v":"D.2  Zielgrösse der Zielvereinbarung"}]
[]
[]
[null,{"$f":"'Formular B'!H37","v":"Zieljahr"},null,null,null,{"$f":"Sprache!E114","v":"Jahr"},{"$f":"IFERROR(G10+FB_DauerZV,\"\")","v":10}]
[]
[null,{"$f":"Sprache!E215","v":"Zielvorgabe Energieeffizienz"},null,null,null,"[%]",{"$f":"IFERROR('Formular C'!P228*100+100,\"\")","v":""}]
[]
[]
[]
[null,{"$f":"Sprache!E216","v":"D.3  Prognose Energieeffizienz und Zielpfad"}]
[]
[null,{"$f":"Sprache!E114","v":"Jahr"},null,{"$f":"Sprache!E217","v":"Prognose Massnahmen"},"Linearer Zielpfad","Geknickter Zielpfad ¹⁾",null,null,null,null,null,null,null,null,null,null,"Zielpfad für Grafik"]
[null,null,null,null,null,null,null,null,null,null,null,null,null,null,"Total gewichtet, HGT normiert","Total Wirkung, gewichtet",{"$f":"IF(SUM(COUNT($F$36:$F$51))>=1,F33,E33)","v":"Linearer Zielpfad"}]
[null,null,null,"[%]","[%]","[%]",null,null,null,null,null,null,null,null,null,null,{"$f":"IF(SUM(NOT(ISBLANK($F$36:$F$51)))>=1,F35,E35)","v":"[%]"}]
[null,{"$f":"$G$10","v":0},null,{"$f":"IFERROR(IF(B36<=$G$10,(O36+P36)/O36*100,O36/(O36-(P36-VLOOKUP($G$10,$B$36:$P$51,15,FALSE)))*100-100+VLOOKUP($G$10,$B$36:$P$51,3,FALSE)),\"\")","v":""},{"$f":"IFERROR(IF($B36<=$H$10,100+($G$27-100)/($H$10-$G$10)*(B36-$G$10),E35),\"\")","v":""},null,null,null,null,null,null,null,null,null,{"$f":"IF(B36=$G$10,'Formular B'!$K$47,'Formular B'!$K$47*(1+(('Formular B'!$G$30*'Formular B'!$G$31)/100))^(B36-$G$10))","v":0},{"$f":"SUM((B36=('Formular C'!$Q$23:$Q$225))*(\"X\"=('Formular C'!$X$23:$X$225))*('Formular C'!$O$23:$O$225))","v":0},{"$f":"IF(ISBLANK(F36),E36,F36)","v":""}]
[null,{"$f":"B36+1","v":1},null,{"$f":"IFERROR(IF(B37<=$G$10,(O37+P37)/O37*100,O37/(O37-(P37-VLOOKUP($G$10,$B$36:$P$51,15,FALSE)))*100-100+VLOOKUP($G$10,$B$36:$P$51,3,FALSE)),\"\")","v":""},{"$f":"IFERROR(IF($B37<=$H$10,100+($G$27-100)/($H$10-$G$10)*(B37-$G$10),E36),\"\")","v":""},null,null,null,null,null,null,null,null,null,{"$f":"IF(B37=$G$10,'Formular B'!$K$47,'Formular B'!$K$47*(1+(('Formular B'!$G$30*'Formular B'!$G$31)/100))^(B37-$G$10))","v":0},{"$f":"SUM((B37=('Formular C'!$Q$23:$Q$225))*(\"X\"=('Formular C'!$X$23:$X$225))*('Formular C'!$O$23:$O$225))+P36","v":0},{"$f":"IF(ISBLANK(F37),E37,F37)","v":""}]
[null,{"$f":"B37+1","v":2},null,{"$f":"IFERROR(IF(B38<=$G$10,(O38+P38)/O38*100,O38/(O38-(P38-VLOOKUP($G$10,$B$36:$P$51,15,FALSE)))*100-100+VLOOKUP($G$10,$B$36:$P$51,3,FALSE)),\"\")","v":""},"",null,null,null,null,null,null,null,null,null,{"$f":"IF(B38=$G$10,'Formular B'!$K$47,'Formular B'!$K$47*(1+(('Formular B'!$G$30*'Formular B'!$G$31)/100))^(B38-$G$10))","v":0},{"$f":"SUM((B38=('Formular C'!$Q$23:$Q$225))*(\"X\"=('Formular C'!$X$23:$X$225))*('Formular C'!$O$23:$O$225))+P37","v":0},""]
[null,3,null,{"$f":"IFERROR(IF(B39<=$G$10,(O39+P39)/O39*100,O39/(O39-(P39-VLOOKUP($G$10,$B$36:$P$51,15,FALSE)))*100-100+VLOOKUP($G$10,$B$36:$P$51,3,FALSE)),\"\")","v":""},"",null,null,null,null,null,null,null,null,null,{"$f":"IF(B39=$G$10,'Formular B'!$K$47,'Formular B'!$K$47*(1+(('Formular B'!$G$30*'Formular B'!$G$31)/100))^(B39-$G$10))","v":0},{"$f":"SUM((B39=('Formular C'!$Q$23:$Q$225))*(\"X\"=('Formular C'!$X$23:$X$225))*('Formular C'!$O$23:$O$225))+P38","v":0},""]
[null,4,null,"","",null,null,null,null,null,null,null,null,null,{"$f":"IF(B40=$G$10,'Formular B'!$K$47,'Formular B'!$K$47*(1+(('Formular B'!$G$30*'Formular B'!$G$31)/100))^(B40-$G$10))","v":0},{"$f":"SUM((B40=('Formular C'!$Q$23:$Q$225))*(\"X\"=('Formular C'!$X$23:$X$225))*('Formular C'!$O$23:$O$225))+P39","v":0},""]
[null,5,null,"","",null,null,null,null,null,null,null,null,null,{"$f":"IF(B41=$G$10,'Formular B'!$K$47,'Formular B'!$K$47*(1+(('Formular B'!$G$30*'Formular B'!$G$31)/100))^(B41-$G$10))","v":0},{"$f":"SUM((B41=('Formular C'!$Q$23:$Q$225))*(\"X\"=('Formular C'!$X$23:$X$225))*('Formular C'!$O$23:$O$225))+P40","v":0},""]
[null,6,null,"","",null,null,null,null,null,null,null,null,null,{"$f":"IF(B42=$G$10,'Formular B'!$K$47,'Formular B'!$K$47*(1+(('Formular B'!$G$30*'Formular B'!$G$31)/100))^(B42-$G$10))","v":0},{"$f":"SUM((B42=('Formular C'!$Q$23:$Q$225))*(\"X\"=('Formular C'!$X$23:$X$225))*('Formular C'!$O$23:$O$225))+P41","v":0},""]
[null,7,null,"","",null,null,null,null,null,null,null,null,null,{"$f":"IF(B43=$G$10,'Formular B'!$K$47,'Formular B'!$K$47*(1+(('Formular B'!$G$30*'Formular B'!$G$31)/100))^(B43-$G$10))","v":0},{"$f":"SUM((B43=('Formular C'!$Q$23:$Q$225))*(\"X\"=('Formular C'!$X$23:$X$225))*('Formular C'!$O$23:$O$225))+P42","v":0},""]
[null,8,null,"","",null,null,null,null,null,null,null,null,null,{"$f":"IF(B44=$G$10,'Formular B'!$K$47,'Formular B'!$K$47*(1+(('Formular B'!$G$30*'Formular B'!$G$31)/100))^(B44-$G$10))","v":0},{"$f":"SUM((B44=('Formular C'!$Q$23:$Q$225))*(\"X\"=('Formular C'!$X$23:$X$225))*('Formular C'!$O$23:$O$225))+P43","v":0},""]
[null,9,null,"","",null,null,null,null,null,null,null,null,null,{"$f":"IF(B45=$G$10,'Formular B'!$K$47,'Formular B'!$K$47*(1+(('Formular B'!$G$30*'Formular B'!$G$31)/100))^(B45-$G$10))","v":0},{"$f":"SUM((B45=('Formular C'!$Q$23:$Q$225))*(\"X\"=('Formular C'!$X$23:$X$225))*('Formular C'!$O$23:$O$225))+P44","v":0},""]
[null,10,null,{"$f":"IFERROR(IF(B46<=$G$10,(O46+P46)/O46*100,O46/(O46-(P46-VLOOKUP($G$10,$B$36:$P$51,15,FALSE)))*100-100+VLOOKUP($G$10,$B$36:$P$51,3,FALSE)),\"\")","v":""},"",null,null,null,null,null,null,null,null,null,{"$f":"IF(B46=$G$10,'Formular B'!$K$47,'Formular B'!$K$47*(1+(('Formular B'!$G$30*'Formular B'!$G$31)/100))^(B46-$G$10))","v":0},{"$f":"SUM((B46=('Formular C'!$Q$23:$Q$225))*(\"X\"=('Formular C'!$X$23:$X$225))*('Formular C'!$O$23:$O$225))+P45","v":0},{"$f":"IF(ISBLANK(F46),E46,IF($G$25<=$B46,E46,F46))","v":""}]
[null,11,null,"","",null,null,null,null,null,null,null,null,null,{"$f":"IF(B47=$G$10,'Formular B'!$K$47,'Formular B'!$K$47*(1+(('Formular B'!$G$30*'Formular B'!$G$31)/100))^(B47-$G$10))","v":0},{"$f":"SUM((B47=('Formular C'!$Q$23:$Q$225))*(\"X\"=('Formular C'!$X$23:$X$225))*('Formular C'!$O$23:$O$225))+P46","v":0},{"$f":"IF(ISBLANK(F47),E47,IF($G$25<=$B47,E47,F47))","v":""}]
[null,12,null,"","",null,null,null,null,null,null,null,null,null,{"$f":"IF(B48=$G$10,'Formular B'!$K$47,'Formular B'!$K$47*(1+(('Formular B'!$G$30*'Formular B'!$G$31)/100))^(B48-$G$10))","v":0},{"$f":"SUM((B48=('Formular C'!$Q$23:$Q$225))*(\"X\"=('Formular C'!$X$23:$X$225))*('Formular C'!$O$23:$O$225))+P47","v":0},""]
[null,13,null,"","",null,null,null,null,null,null,null,null,null,{"$f":"IF(B49=$G$10,'Formular B'!$K$47,'Formular B'!$K$47*(1+(('Formular B'!$G$30*'Formular B'!$G$31)/100))^(B49-$G$10))","v":0},{"$f":"SUM((B49=('Formular C'!$Q$23:$Q$225))*(\"X\"=('Formular C'!$X$23:$X$225))*('Formular C'!$O$23:$O$225))+P48","v":0},""]
[null,14,null,"","",null,null,null,null,null,null,null,null,null,{"$f":"IF(B50=$G$10,'Formular B'!$K$47,'Formular B'!$K$47*(1+(('Formular B'!$G$30*'Formular B'!$G$31)/100))^(B50-$G$10))","v":0},{"$f":"SUM((B50=('Formular C'!$Q$23:$Q$225))*(\"X\"=('Formular C'!$X$23:$X$225))*('Formular C'!$O$23:$O$225))+P49","v":0},""]
[null,{"$f":"B50+1","v":15},null,{"$f":"IFERROR(IF(B51<=$G$10,(O51+P51)/O51*100,O51/(O51-(P51-VLOOKUP($G$10,$B$36:$P$51,15,FALSE)))*100-100+VLOOKUP($G$10,$B$36:$P$51,3,FALSE)),\"\")","v":""},{"$f":"IFERROR(IF($B51<=$H$10,100+($G$27-100)/($H$10-$G$10)*(B51-$G$10),E45),\"\")","v":""},null,null,null,null,null,null,null,null,null,{"$f":"IF(B51=$G$10,'Formular B'!$K$47,'Formular B'!$K$47*(1+(('Formular B'!$G$30*'Formular B'!$G$31)/100))^(B51-$G$10))","v":0},{"$f":"SUM((B51=('Formular C'!$Q$23:$Q$225))*(\"X\"=('Formular C'!$X$23:$X$225))*('Formular C'!$O$23:$O$225))+P50","v":0},""]
[]
[null,"1) Üblicherweise wird der lineare Zielpfad verwendet. Ein geknickter Zielpfad muss unten begründet werden.\nDer Wert im Zieljahr wird für den geknickten Zielpfad automatisch dem Wert des linearen Zielpfades gleichgesetzt."]
[]
[null,"Begründung für geknickten Zielpfad:"]

{"sheet":"Vereinbarung","index":12,"n_rows":98,"n_cols":14,"rows_kept":98,"cut":false,"hidden":false,"merged":[[98,1,98,3],[98,5,98,13],[8,5,8,13],[9,5,9,13],[10,5,10,13],[11,5,11,13],[38,1,38,3],[38,5,38,13],[39,5,41,13],[42,5,43,13],[85,1,85,3],[85,5,85,13],[86,5,86,13],[89,1,89,3],[89,5,89,13],[83,1,83,3],[65,1,65,3],[64,1,64,3],[64,5,64,13],[60,5,61,13],[62,1,62,3],[62,5,62,13],[80,1,80,3],[32,5,32,13],[5,1,5,13],[15,1,15,3],[16,5,16,13],[18,1,18,3],[18,5,18,13],[19,5,19,13],[27,1,27,3],[65,5,67,13],[50,1,50,3],[50,5,50,13],[53,1,53,3],[59,1,59,3],[52,1,52,3],[52,5,52,13],[2,12,3,13],[34,1,34,3],[34,5,34,13],[35,5,35,13],[36,5,36,13],[4,1,4,3],[4,5,4,13],[28,1,28,3],[28,5,28,13],[29,1,29,3],[29,5,29,13],[30,1,30,3],[30,5,30,13],[31,1,31,3],[31,5,31,13],[32,1,32,3],[90,1,90,3],[93,1,93,3],[70,5,70,13],[73,1,73,3],[70,1,70,3],[72,1,72,3],[72,5,72,13],[73,5,74,13],[75,5,76,13],[90,10,90,11],[93,10,93,11],[77,5,79,13],[82,1,82,3],[82,5,82,13],[83,5,84,13],[86,1,86,3],[53,5,54,13],[55,5,59,13],[48,1,48,3],[49,1,49,3],[44,5,44,13],[45,5,45,13],[47,1,47,3],[47,5,47,13],[48,5,49,13],[27,5,27,13],[97,7,97,9],[97,10,97,11],[97,12,97,13],[96,10,96,11],[91,7,91,9],[91,10,91,11],[91,12,91,13],[94,7,94,9],[94,10,94,11],[94,12,94,13],[80,5,80,13],[91,5,91,6],[94,5,94,6],[97,5,97,6],[68,5,69,13]]}
[]
[]
[null,null,null,null,null,null,null,null,null,null,null,"Kantonale Zielvereinbarung (KZV) für Grossverbraucher im Kanton Basel-Stadt","KZV"]
[null,null,null,null,null,null,null,null,null,null,null,"Massnahmenbasierte Steigerung der Energieeffizienz"]
[]
[null,"Kantonale Zielvereinbarung"]
[]
[]
[null,"zwischen dem",null,null,null,"Kanton Basel-Stadt"]
[null,null,null,null,null,"vertreten durch das"]
[null,null,null,null,null,"Amt für Umwelt und Energie (AUE)"]
[null,null,null,null,null,"Spiegelgasse 15, Postfach, 4001 Basel"]
[]
[]
[]
[null,"und der Firma / Organisation:",null,null,null,{"$f":"IF(Titelblatt!$F$7=\"\",\"\",Titelblatt!$F$7)","v":""}]
[null,{"$f":"Titelblatt!B8","v":"Hauptadresse:"},null,null,null,{"$f":"IF(Titelblatt!$F$8=\"\",\"\",Titelblatt!$F$8)","v":""}]
[null,{"$f":"Sprache!E225","v":"Unternehmensidentifikations-Nr. (UID): "},null,null,null,{"$f":"IF(Titelblatt!$F$9=\"\",\"\",Titelblatt!$F$9)","v":""}]
[]
[null,{"$f":"Titelblatt!B11","v":"Kontaktperson:"},null,null,null,{"$f":"IF(Titelblatt!$G$11=\"\",\"\",Titelblatt!$G$11)","v":""}]
[null,{"$f":"Titelblatt!F12","v":"Tel.:"},null,null,null,{"$f":"IF(Titelblatt!$G$12=\"\",\"\",Titelblatt!$G$12)","v":""},null,null,null,{"$f":"Titelblatt!F13","v":"E-Mail:"},{"$f":"IF(Titelblatt!$G$13=\"\",\"\",Titelblatt!$G$13)","v":""}]
[]
[null,{"$f":"Titelblatt!B15","v":"Verbrauchsstätten:"},null,null,null,{"$f":"Titelblatt!$F$15","v":0},null,null,{"$f":"Titelblatt!I15","v":"Elektrozähler Nr.:"},null,{"$f":"IF(Titelblatt!K15<>\"\",Titelblatt!K15,\"\")","v":""}]
[null,null,null,null,null,{"$f":"Titelblatt!$F$16","v":0},null,null,null,null,{"$f":"IF(Titelblatt!K16<>\"\",Titelblatt!K16,\"\")","v":""}]
[null,null,null,null,null,{"$f":"Titelblatt!$F$17","v":0},null,null,null,null,{"$f":"IF(Titelblatt!K17<>\"\",Titelblatt!K17,\"\")","v":""}]
[null,null,null,null,null,{"$f":"Titelblatt!$F$18","v":0},null,null,null,null,{"$f":"IF(Titelblatt!K18<>\"\",Titelblatt!K18,\"\")","v":""}]
[null,null,null,null,null,{"$f":"Titelblatt!$F$19","v":0},null,null,null,null,{"$f":"IF(Titelblatt!K19<>\"\",Titelblatt!K19,\"\")","v":""}]
[]
[]
[]
[null,{"$f":"Titelblatt!B23","v":"Technische Begleitung:"},null,null,null,{"$f":"IF(Titelblatt!$F$23=\"\",\"\",Titelblatt!$F$23)","v":""}]
[null,{"$f":"B20","v":"Kontaktperson:"},null,null,null,{"$f":"IF(Titelblatt!$G$26=\"\",\"\",Titelblatt!$G$26)","v":""}]
[]
[]
[]
[null,"Parteien:",null,null,null,"Zwischen den Parteien wird folgende kantonale Zielvereinbarung gemäss §17 EnG Kanton Basel-Stadt abgeschlossen:"]
[]
[]
[]
[null,"1. Zielsetzung:",null,null,null,"Im Bestreben, den Verbrauch nicht erneuerbarer Energien und damit die Emissionen von Kohlendioxid (CO₂) zu senken, will der Grossverbraucher in Befolgung der entsprechenden gesetzlichen Vorgaben die Energieeffizienz verbessern."]
[]
[]
[null,null,null,null,null,{"$f":"\"Damit die Vereinbarung mit dem Kanton die erwünschte Wirkung hat und einen Schritt Richtung nachhaltige Entwicklung bedeutet, wird sie über \"&FB_DauerZV&\" Jahre abgeschlossen.\"","v":"Damit die Vereinbarung mit dem Kanton die erwünschte Wirkung hat und einen Schritt Richtung nachhaltige Entwicklung bedeutet, wird sie über 10 Jahre abgeschlossen."}]
[]
[null,null,null,null,null,{"$f":"\"Das Ausgangsjahr der Zielvereinbarung ist \"&'Formular B'!G27&\". Das Zieljahr der Zielvereinbarung ist \"&'Formular D'!G25&\".\"","v":"Das Ausgangsjahr der Zielvereinbarung ist . Das Zieljahr der Zielvereinbarung ist 10."}]
[]
[]
[]
[null,"2. Zielgrösse:",null,null,null,{"$f":"\"Die massgebende Zielgrösse ist die Energieeffizienz. Die zu erreichende Energieeffizienz im Zieljahr beträgt \"&ROUND('Formular D'!G27,1)&\" Prozent.\"","v":{"$error":"#VALUE!"}}]
[]
[]
[]
[]
[null,"3. Erfolgskontrolle:",null,null,null,"Der Grossverbraucher erstattet dem AUE jährlich bis Ende April Bericht über die Entwicklung des Energieverbrauchs (Periode vom 1. Januar bis 31. Dezember des Vorjahres)."]
[]
[null,null,null,null,null,"Der Bericht umfasst mindestens:\n• Die Entwicklung der Energieeffizienz und eine Beurteilung der Zielerreichung\n• Die Entwicklung des Energieverbrauchs (effektiv und HGT-bereinigt)\n• Hinweise auf getroffene Massnahmen und Gründe für wesentliche Abweichungen von der Zielvorgabe"]
[]
[]
[]
[]
[null,null,null,null,null,"Wird die Zielvereinbarung nicht eingehalten, oder bestehen berechtigte Zweifel an den ausgewiesenen Daten, kann für das folgende Kalenderjahr eine detaillierte Berichterstattung verlangt werden."]
[]
[]
[]
[]
[null,"4. Rechte und Pflichten des",null,null,null,"Der Grossverbraucher verpflichtet sich, aktive Beiträge zur Erreichung der Ziele zu leisten. Er steigert seine Energieeffizienz im Rahmen der Zielvorgabe. Er prognostiziert seine Energieeffizienzentwicklung und die dafür vorgesehenen Massnahmen."]
[null,"    Grossverbrauchers:"]
[]
[null,null,null,null,null,"Der Grossverbraucher kann unter Einhaltung einer Kündigungsfrist von 6 Monaten jeweils auf Jahresende die Vereinbarung auflösen. Er unterliegt dann den Bestimmungen von § 17.1 des Energiegesetzes."]
[]
[]
[]
[]
[null,"5. Dauer der Vereinbarung:",null,null,null,{"$f":"\"Die Vereinbarung gilt für \"&FB_DauerZV&\" Jahre, ab \"&'Formular B'!G27&\" bis 31. Dezember \"&'Formular D'!G25&\".\"","v":"Die Vereinbarung gilt für 10 Jahre, ab  bis 31. Dezember 10."}]
[]
[null,null,null,null,null,"Sie wird stillschweigend einmal um 1 Jahr verlängert, wenn sie weder erneuert noch 6 Monate vor Ablauf gekündigt wird. Das neue Jahresziel wird in diesem Fall gemäss der unter Punkt 2 festgehaltenen Effizienzsteigerung errechnet."]
[]
[null,null,null,null,null,"Der Kanton Basel-Stadt kann die Vereinbarung unter Einhaltung einer Frist von 6 Monaten auf das folgende Kalenderjahr auflösen, wenn die Zielvorgaben gemäss Ziffer 2 nicht eingehalten werden. Der Grossverbraucher wird danach gemäss § 17.1 des EnG Basel-Stadt behandelt."]
[]
[]
[]
[]
[]
[null,"6. Ausfertigung:",null,null,null,"Die Vereinbarung wird 2-fach als Original ausgefertigt. Je ein Exemplar liegt beim Kanton Basel-Stadt und beim Grossverbraucher. Eine Kopie der Vereinbarung erhält die Technische Begleitung."]
[]
[]
[]
[null,"Die Unterzeichnenden anerkennen mit ihrer rechtsgültigen Unterschrift diese Vereinbarung "]
[]
[]
[null,"Ort / Datum / Unterschrift:",null,null,null,null,null,"Vorname / Nachname",null,null,"Ort / Datum",null,null,"Unterschrift"]
[null,null,null,null,null,"Der Kanton Basel-Stadt, vertreten durch das AUE, Abt. Energie:"]
[]
[null,null,null,null,null,null,null,"Vorname / Nachname",null,null,"Ort / Datum",null,null,"Unterschrift"]
[null,null,null,null,null,"Firma / Organisation:"]
[]
[null,null,null,null,null,null,null,"Vorname / Nachname",null,null,"Ort / Datum",null,null,"Unterschrift"]
[null,null,null,null,null,"Technische Begleitung:"]

{"sheet":"Bemerkungen","index":13,"n_rows":6,"n_cols":14,"rows_kept":6,"cut":false,"hidden":false,"merged":[[7,1,37,13]]}
[]
[null,{"$f":"Sprache!E270","v":"KZV, Bemerkungen"},null,null,null,null,null,null,null,null,null,null,null,{"$f":"IF(Titelblatt!$F$7=\"\",\"\",Titelblatt!$F$7)","v":""}]
[null,null,null,null,null,null,null,null,null,null,null,null,null,{"$f":"IF(Titelblatt!$F$32=\"\",\"\",Titelblatt!$F$32)","v":""}]
[]
[]
[null,{"$f":"Sprache!E271","v":"Bemerkungen zur Zielvereinbarung"}]